BEGIN:VCALENDAR
VERSION:2.0
PRODID:-//National CAP - ECPv6.15.20//NONSGML v1.0//EN
CALSCALE:GREGORIAN
METHOD:PUBLISH
X-WR-CALNAME:National CAP
X-ORIGINAL-URL:https://communityactionpartnership.com
X-WR-CALDESC:Events for National CAP
REFRESH-INTERVAL;VALUE=DURATION:PT1H
X-Robots-Tag:noindex
X-PUBLISHED-TTL:PT1H
BEGIN:VTIMEZONE
TZID:UTC
BEGIN:STANDARD
TZOFFSETFROM:+0000
TZOFFSETTO:+0000
TZNAME:UTC
DTSTART:20190101T000000
END:STANDARD
END:VTIMEZONE
BEGIN:VEVENT
DTSTART;TZID=UTC:20200603T160000
DTEND;TZID=UTC:20200603T173000
DTSTAMP:20260423T222724
CREATED:20200601T155941Z
LAST-MODIFIED:20200601T160140Z
UID:63457-1591200000-1591205400@communityactionpartnership.com
SUMMARY:Community Action Conversation and Call to Action in Response to Racism and COVID-19
DESCRIPTION:Register
URL:https://communityactionpartnership.com/event/community-action-conversation-call-to-action/
CATEGORIES:Webinars
END:VEVENT
BEGIN:VEVENT
DTSTART;TZID=UTC:20200604T120000
DTEND;TZID=UTC:20200604T133000
DTSTAMP:20260423T222724
CREATED:20200602T120151Z
LAST-MODIFIED:20200602T140739Z
UID:63470-1591272000-1591277400@communityactionpartnership.com
SUMMARY:WAP Reopening Memo and Related Resources
DESCRIPTION:Join in on this webinar with CAP and NASCSP to review the latest DOE WAP Memo 062 on COVID19 Phase 1 reopening. We will also welcome your ideas and suggestions on what to include in another potential round of FAQs from DOE. \nRegister
URL:https://communityactionpartnership.com/event/wap-reopening-memo-and-related-resources/
CATEGORIES:Webinars
END:VEVENT
BEGIN:VEVENT
DTSTART;TZID=UTC:20200611T150000
DTEND;TZID=UTC:20200611T163000
DTSTAMP:20260423T222724
CREATED:20200604T144035Z
LAST-MODIFIED:20200604T144035Z
UID:63518-1591887600-1591893000@communityactionpartnership.com
SUMMARY:Community Action Network COVID-19 Update
DESCRIPTION:Join Community Action National Partners CAP\, CAPLAW and NASCSP for an update on the impact of COVID-19 on the network. NCAF will participate as schedules allow. \nThe content for these national partner calls varies meeting to meeting and the calls are intended to be a standing meeting for the Network to share information and hear about issues as needed. There is no standing agenda\, per se\, and it will vary depending on the given issues at the moment. Those who can attend are welcome to do so and this is open to the entire Community Action Network. \nRegister
URL:https://communityactionpartnership.com/event/community-action-network-covid-19-update/
CATEGORIES:Webinars
END:VEVENT
BEGIN:VEVENT
DTSTART;TZID=UTC:20200618T150000
DTEND;TZID=UTC:20200618T163000
DTSTAMP:20260423T222724
CREATED:20200615T143824Z
LAST-MODIFIED:20200615T143824Z
UID:63607-1592492400-1592497800@communityactionpartnership.com
SUMMARY:#MyVoiceMatters: Civic Engagement & Community Action
DESCRIPTION:Join us for the first webinar on what the National Partnership has been doing to engage members with the census\, advocacy\, and public policy – and get a sneak peek at what’s to come this fall! \nRegister
URL:https://communityactionpartnership.com/event/myvoicematters-civic-engagement-community-action/
CATEGORIES:Webinars
END:VEVENT
BEGIN:VEVENT
DTSTART;TZID=UTC:20200625T150000
DTEND;TZID=UTC:20200625T163000
DTSTAMP:20260423T222724
CREATED:20200604T144227Z
LAST-MODIFIED:20200604T144227Z
UID:63520-1593097200-1593102600@communityactionpartnership.com
SUMMARY:Community Action Network COVID-19 Update
DESCRIPTION:Join Community Action National Partners CAP\, CAPLAW and NASCSP for an update on the impact of COVID-19 on the network. NCAF will participate as schedules allow. \nThe content for these national partner calls varies meeting to meeting and the calls are intended to be a standing meeting for the Network to share information and hear about issues as needed. There is no standing agenda\, per se\, and it will vary depending on the given issues at the moment. Those who can attend are welcome to do so and this is open to the entire Community Action Network. \nRegister
URL:https://communityactionpartnership.com/event/community-action-network-covid-19-update-2/
CATEGORIES:Webinars
END:VEVENT
BEGIN:VEVENT
DTSTART;VALUE=DATE:20200629
DTEND;VALUE=DATE:20200702
DTSTAMP:20260423T222724
CREATED:20200312T194845Z
LAST-MODIFIED:20200312T194845Z
UID:60172-1593388800-1593647999@communityactionpartnership.com
SUMMARY:National Energy and Utility Affordability Coalition 2020 Annual Conference
DESCRIPTION:Please Save the Date for the National Energy and Utility Affordability Coalition’s 2020 Conference in Washington\, DC. Join NEUAC for the largest gathering of energy assistance professionals in the country! \nClick here to learn more and register.
URL:https://communityactionpartnership.com/event/national-energy-and-utility-affordability-coalition-2020-annual-conference/
CATEGORIES:National Partner Events
END:VEVENT
BEGIN:VEVENT
DTSTART;TZID=UTC:20200629T140000
DTEND;TZID=UTC:20200629T153000
DTSTAMP:20260423T222724
CREATED:20200611T171111Z
LAST-MODIFIED:20200611T171111Z
UID:63588-1593439200-1593444600@communityactionpartnership.com
SUMMARY:Making a Clean Energy Future an Equitable One
DESCRIPTION:The COVID-19 pandemic has further revealed the inequities of the U.S. energy sector.  A recently released report from Synapse Energy\, Regulatory Assistance Project and the Community Action Partnership\, supported by the Robert Wood Johnson Foundation\, explores ways to deliver energy equity to communities that need it most.  Learn about case studies and policy options from across the country that are working to achieve greater energy equity.  Hear from the authors and consider ways you may help move the needle in your community. \nClick here to register for the webinar.
URL:https://communityactionpartnership.com/event/making-a-clean-energy-future-an-equitable-one/
CATEGORIES:Webinars
END:VEVENT
END:VCALENDAR