BEGIN:VCALENDAR
VERSION:2.0
PRODID:-//National CAP - ECPv6.15.20//NONSGML v1.0//EN
CALSCALE:GREGORIAN
METHOD:PUBLISH
X-WR-CALNAME:National CAP
X-ORIGINAL-URL:https://communityactionpartnership.com
X-WR-CALDESC:Events for National CAP
REFRESH-INTERVAL;VALUE=DURATION:PT1H
X-Robots-Tag:noindex
X-PUBLISHED-TTL:PT1H
BEGIN:VTIMEZONE
TZID:UTC
BEGIN:STANDARD
TZOFFSETFROM:+0000
TZOFFSETTO:+0000
TZNAME:UTC
DTSTART:20190101T000000
END:STANDARD
END:VTIMEZONE
BEGIN:VEVENT
DTSTART;VALUE=DATE:20200108
DTEND;VALUE=DATE:20200111
DTSTAMP:20260424T060918
CREATED:20191018T150420Z
LAST-MODIFIED:20191018T151531Z
UID:55205-1578441600-1578700799@communityactionpartnership.com
SUMMARY:Management and Leadership Training Conference 2020
DESCRIPTION:Click here for more information.
URL:https://communityactionpartnership.com/event/management-and-leadership-training-conference-2020/
CATEGORIES:CAP Events
END:VEVENT
BEGIN:VEVENT
DTSTART;TZID=UTC:20200122T140000
DTEND;TZID=UTC:20200122T153000
DTSTAMP:20260424T060918
CREATED:20191219T213625Z
LAST-MODIFIED:20200121T151313Z
UID:58923-1579701600-1579707000@communityactionpartnership.com
SUMMARY:Rev. Dr. Martin Luther King\, Jr. Commemoration
DESCRIPTION:Join us as we give tribute to the legacy of Rev. Dr. Martin Luther King\, Jr. and the history of Community Action with the National Community Action Partnership CEO\, Denise Harlow and Vice President of Practice Transformation\, Tiffney Marley. \nRegister Here 
URL:https://communityactionpartnership.com/event/rev-dr-martin-luther-king-jr-commemoration/
CATEGORIES:Webinars
END:VEVENT
BEGIN:VEVENT
DTSTART;TZID=UTC:20200123T140000
DTEND;TZID=UTC:20200123T153000
DTSTAMP:20260424T060918
CREATED:20200120T131620Z
LAST-MODIFIED:20200120T131620Z
UID:59268-1579788000-1579793400@communityactionpartnership.com
SUMMARY:Proposed Changes to the Community Reinvestment Act
DESCRIPTION:Two of the three federal regulators (OCC and FDIC) have issued proposed changes to the Community Reinvestment Act\, and many are of great concern to advocates for low and moderate income people. Learn the details of these proposed changes\, what they could mean to your communities and how your organization can submit a public comment opposing these changes. \nRegister
URL:https://communityactionpartnership.com/event/proposed-changes-to-the-community-reinvestment-act/
CATEGORIES:Webinars
END:VEVENT
BEGIN:VEVENT
DTSTART;TZID=UTC:20200128T140000
DTEND;TZID=UTC:20200128T153000
DTSTAMP:20260424T060918
CREATED:20200115T172318Z
LAST-MODIFIED:20200115T172318Z
UID:59201-1580220000-1580225400@communityactionpartnership.com
SUMMARY:Final Partnership Public Policy Presentation
DESCRIPTION:Please join us for a webinar outlining the Partnership’s final public policy platform. Partnership staff will give an overview of the final platform\, field questions from the Network\, and go over next steps. \nRegister
URL:https://communityactionpartnership.com/event/final-partnership-public-policy-presentation/
CATEGORIES:Webinars
END:VEVENT
BEGIN:VEVENT
DTSTART;TZID=UTC:20200129T130000
DTEND;TZID=UTC:20200129T143000
DTSTAMP:20260424T060918
CREATED:20200122T210433Z
LAST-MODIFIED:20200122T210433Z
UID:59303-1580302800-1580308200@communityactionpartnership.com
SUMMARY:2020 Census\, Community Action\, and VITA
DESCRIPTION:Learn about how volunteers and employees assisting with the VITA program can use census messaging to engage communities. \nRegister
URL:https://communityactionpartnership.com/event/2020-census-community-action-and-vita/
CATEGORIES:Webinars
END:VEVENT
BEGIN:VEVENT
DTSTART;TZID=UTC:20200129T140000
DTEND;TZID=UTC:20200129T153000
DTSTAMP:20260424T060918
CREATED:20200116T194040Z
LAST-MODIFIED:20200116T194040Z
UID:59245-1580306400-1580311800@communityactionpartnership.com
SUMMARY:Crisis Communication Webinar
DESCRIPTION:Crisis communication refers to the technologies\, systems\, and protocols that enable an organization to effectively communicate during an emergency situation. Businesses of all kinds must be prepared for a wide range of potential crises\, including severe weather\, fire\, crime\, terrorism\, product recalls\, reputation crises\, and PR incidents. Attendees will learn to create and implement a crisis communications plan. \nRegister
URL:https://communityactionpartnership.com/event/crisis-communication-webinar/
CATEGORIES:Webinars
END:VEVENT
BEGIN:VEVENT
DTSTART;TZID=UTC:20200130T140000
DTEND;TZID=UTC:20200130T153000
DTSTAMP:20260424T060918
CREATED:20200115T172523Z
LAST-MODIFIED:20200115T172523Z
UID:59203-1580392800-1580398200@communityactionpartnership.com
SUMMARY:Springfield College Opportunity Webinar
DESCRIPTION:Community Action Partnership and Springfield College School of Professional and Continuing Studies have solidified an agreement in which staff employed by member Agencies of the Partnership can access education and training opportunities. Specifically\, staff enrolled in Springfield College School of Professional and Continuing Studies can earn undergraduate credits for completing training modules offered by the Partnership (ROMA – 6 Credits\, Strengths-Based Family Workers – 4 Credits\, Family Development Credential – 6 Credits). \nRegister
URL:https://communityactionpartnership.com/event/springfield-college-opportunity-webinar/
CATEGORIES:Webinars
END:VEVENT
END:VCALENDAR