BEGIN:VCALENDAR
VERSION:2.0
PRODID:-//National CAP - ECPv6.15.20//NONSGML v1.0//EN
CALSCALE:GREGORIAN
METHOD:PUBLISH
X-ORIGINAL-URL:https://communityactionpartnership.com
X-WR-CALDESC:Events for National CAP
REFRESH-INTERVAL;VALUE=DURATION:PT1H
X-Robots-Tag:noindex
X-PUBLISHED-TTL:PT1H
BEGIN:VTIMEZONE
TZID:UTC
BEGIN:STANDARD
TZOFFSETFROM:+0000
TZOFFSETTO:+0000
TZNAME:UTC
DTSTART:20180101T000000
END:STANDARD
END:VTIMEZONE
BEGIN:VEVENT
DTSTART;TZID=UTC:20191016T140000
DTEND;TZID=UTC:20191016T153000
DTSTAMP:20260424T114543
CREATED:20190819T205354Z
LAST-MODIFIED:20190819T205354Z
UID:54630-1571234400-1571239800@communityactionpartnership.com
SUMMARY:The Belly Button Rule of Good Process Management
DESCRIPTION:This webinar provides information on how good process management practices fit into the ROMA performance management methodology.  A ROMA Implementer from CAP of Central Illinois will discuss where process is introduced as part of service/activity development and how process effectively incorporates accountability principles into the daily operations of performance driven organizations. \nRegister
URL:https://communityactionpartnership.com/event/the-belly-button-rule-of-good-process-management/
CATEGORIES:Webinars
END:VEVENT
BEGIN:VEVENT
DTSTART;TZID=UTC:20191016T140000
DTEND;TZID=UTC:20191016T153000
DTSTAMP:20260424T114543
CREATED:20190926T195900Z
LAST-MODIFIED:20190926T195938Z
UID:54889-1571234400-1571239800@communityactionpartnership.com
SUMMARY:Certified Community Action Professional (CCAP) Orientation
DESCRIPTION:In this webinar\, you can learn about the basics of the national Certified Community Action Professional program (CCAP)\, who it is for\, how it is organized and the steps in the process of becoming a CCAP. When you finish the webinar you will better understand how CCAP can fit into your professional future as a leader in Community Action. \nRegister
URL:https://communityactionpartnership.com/event/ccap-orientation/
CATEGORIES:Webinars
END:VEVENT
BEGIN:VEVENT
DTSTART;TZID=UTC:20191023T130000
DTEND;TZID=UTC:20191023T143000
DTSTAMP:20260424T114543
CREATED:20191018T132912Z
LAST-MODIFIED:20191018T133056Z
UID:55197-1571835600-1571841000@communityactionpartnership.com
SUMMARY:Upcoming Webinar on WAP Subgrantee Customer Service Survey
DESCRIPTION:The 2019 American Customer Service Index survey results are in! Join the Department of Energy for this webinar as they provide an overview of the results. You may recall this survey asked Weatherization Assistance Program (WAP) subgrantees to provide their opinions on multiple dimensions of how their respective State grantee is conducting the WAP. All responses remained anonymous\, and the CFI Group provided DOE WAP with aggregated data. Going forward\, discussion will focus on changes in scores compared to the 2017 survey and updating Grantee Action Plans for 2020 and beyond.\n\nClick here to register.
URL:https://communityactionpartnership.com/event/upcoming-webinar-on-wap-subgrantee-customer-service-survey/
CATEGORIES:Webinars
END:VEVENT
BEGIN:VEVENT
DTSTART;TZID=UTC:20191024T130000
DTEND;TZID=UTC:20191024T143000
DTSTAMP:20260424T114543
CREATED:20191018T133222Z
LAST-MODIFIED:20191018T133222Z
UID:55200-1571922000-1571927400@communityactionpartnership.com
SUMMARY:Solar Power as a Social Enterprise: An Opportunity to Attract Investment to Your Community
DESCRIPTION:For those who were unable to attend a similar workshop at the Partnership’s Annual Convention\, this webinar will explore the value that Cap Solar\, a subsidiary of Greater Bergen Community Action\, has brought to their solar clients through innovative financing and corporate structures driven by their mission to bring affordable energy to those who need it the most.  Through their success\, Cap Solar has been given access to several closed funds to build non-profit solar\, especially in Qualified Opportunity Zones.  Attendees will learn how to gain access to this funding and have Cap Solar assist them through every stage of the process to build local solar projects to enhance their community mission.\n\nRegister
URL:https://communityactionpartnership.com/event/solar-power-as-a-social-enterprise-an-opportunity-to-attract-investment-to-your-community/
CATEGORIES:Webinars
END:VEVENT
BEGIN:VEVENT
DTSTART;TZID=UTC:20191030T140000
DTEND;TZID=UTC:20191030T153000
DTSTAMP:20260424T114543
CREATED:20191003T152203Z
LAST-MODIFIED:20191024T162304Z
UID:55001-1572444000-1572449400@communityactionpartnership.com
SUMMARY:Racial Equity and the Whole Family Approach
DESCRIPTION:We know from a growing body of research that engaging clients in a whole family approach creates better outcomes for parents and their children. Yet despite increased efforts in this work\, families of color continue to face particular structural and institutional barriers to opportunity and well-being. Join us on October 30 to engage in a conversation on the impacts of a whole family approach and how this approach can serve as a promising practice for moving our communities of color closer to well-being. \nRegister Here 
URL:https://communityactionpartnership.com/event/racial-equity-and-the-whole-family-approach/
CATEGORIES:Webinars
END:VEVENT
END:VCALENDAR