BEGIN:VCALENDAR
VERSION:2.0
PRODID:-//National CAP - ECPv6.15.20//NONSGML v1.0//EN
CALSCALE:GREGORIAN
METHOD:PUBLISH
X-WR-CALNAME:National CAP
X-ORIGINAL-URL:https://communityactionpartnership.com
X-WR-CALDESC:Events for National CAP
REFRESH-INTERVAL;VALUE=DURATION:PT1H
X-Robots-Tag:noindex
X-PUBLISHED-TTL:PT1H
BEGIN:VTIMEZONE
TZID:UTC
BEGIN:STANDARD
TZOFFSETFROM:+0000
TZOFFSETTO:+0000
TZNAME:UTC
DTSTART:20180101T000000
END:STANDARD
END:VTIMEZONE
BEGIN:VEVENT
DTSTART;TZID=UTC:20190424T140000
DTEND;TZID=UTC:20190424T150000
DTSTAMP:20260425T114309
CREATED:20190422T170135Z
LAST-MODIFIED:20190422T170135Z
UID:52857-1556114400-1556118000@communityactionpartnership.com
SUMMARY:Addressing the Needs of Immigrant & Migrant Families
DESCRIPTION:Join us for a webinar that will cover strategies for addressing the needs of immigrant and migrant families. \nRegister
URL:https://communityactionpartnership.com/event/addressing-the-needs-of-immigrant-migrant-families/
CATEGORIES:Webinars
END:VEVENT
BEGIN:VEVENT
DTSTART;TZID=UTC:20190501T140000
DTEND;TZID=UTC:20190501T153000
DTSTAMP:20260425T114309
CREATED:20190430T144426Z
LAST-MODIFIED:20190430T144426Z
UID:53198-1556719200-1556724600@communityactionpartnership.com
SUMMARY:Shifting the Paradigm: Why CAP Agencies Should Be Engaging in Trauma-Informed Care
DESCRIPTION:Research from various sectors continues to build the case for the pervasive and damaging effects of trauma across the lifespan – but especially on children. With a reach into some of our nation’s most vulnerable populations\, it is of critical importance for the Community Action Network to be informed and prepared to address this issue in our efforts to help all Americans achieve wellness and stability.\n\nJoin us on May 1 for an introductory conversation on defining trauma\, its impacts\, and tools that CAP agencies can use to ensure that a safe and trauma-informed approach in their work.\n\nRegister
URL:https://communityactionpartnership.com/event/shifting-the-paradigm-why-cap-agencies-should-be-engaging-in-trauma-informed-care/
CATEGORIES:Webinars
END:VEVENT
BEGIN:VEVENT
DTSTART;TZID=UTC:20190508T140000
DTEND;TZID=UTC:20190508T150000
DTSTAMP:20260425T114309
CREATED:20190503T154353Z
LAST-MODIFIED:20190503T154353Z
UID:53241-1557324000-1557327600@communityactionpartnership.com
SUMMARY:Community Action Works: Strategies for Communicating Impact
DESCRIPTION:During this webinar\, Partnership CEO\, Denise Harlow\, will be talking about Community Action Month 2019 — showing what people have done throughout the network\, using the Impact Report\, and providing a general Partnership update. \nRegister
URL:https://communityactionpartnership.com/event/community-action-works-strategies-for-communicating-impact/
CATEGORIES:Webinars
END:VEVENT
BEGIN:VEVENT
DTSTART;TZID=UTC:20190522T140000
DTEND;TZID=UTC:20190522T153000
DTSTAMP:20260425T114309
CREATED:20190501T154440Z
LAST-MODIFIED:20190501T154440Z
UID:53227-1558533600-1558539000@communityactionpartnership.com
SUMMARY:#CountMeIn: Making the Census Count for Community Action
DESCRIPTION:The Census is a critical process that affects us all. Census data is used to apportion representation among states\, draw congressional and state legislative districts\, school districts and voting precincts\, enforce voting rights and civil rights legislation\, and distribute federal dollars to states (including CSBG\, Head Start\, Weatherization and many more!). Community Action is playing a key role in making sure that every person is counted! This session will showcase Community Action’s role in ensuring that Hard-To-Count people and communities are included in the Census\, and offer concrete tools and training to help front-line staff maximize Census participation. \n  \nRegister
URL:https://communityactionpartnership.com/event/countmein-making-the-census-count-for-community-action/
CATEGORIES:Webinars
END:VEVENT
BEGIN:VEVENT
DTSTART;TZID=UTC:20190529T140000
DTEND;TZID=UTC:20190529T153000
DTSTAMP:20260425T114309
CREATED:20190430T144709Z
LAST-MODIFIED:20190430T144709Z
UID:53204-1559138400-1559143800@communityactionpartnership.com
SUMMARY:Beyond the Standard: on Data Collection and Analysis in Community Action
DESCRIPTION:Register
URL:https://communityactionpartnership.com/event/beyond-the-standard-on-data-collection-and-analysis-in-community-action/
CATEGORIES:Webinars
END:VEVENT
BEGIN:VEVENT
DTSTART;TZID=UTC:20190529T160000
DTEND;TZID=UTC:20190529T173000
DTSTAMP:20260425T114309
CREATED:20190523T182122Z
LAST-MODIFIED:20190524T225723Z
UID:53426-1559145600-1559151000@communityactionpartnership.com
SUMMARY:Community Action and the Proposed Changes to the Official Poverty Measure (OPM)
DESCRIPTION:On May 7th\, the Office of Management and Budget issued a request for comment on on a proposal to adjust how the Official Poverty Measure (OPM) is calculated.The proposal could result in an artificially low estimate of the number of children and families who fall below the official poverty line. This could eventually make fewer people eligible for benefits such as SNAP\, Medicaid\, and ACA subsidies\, as well as programs like CSBG\, Head Start\, LIHEAP\, Weatherization\, and many others. This webinar will give an overview of the proposal and the possible impacts on Community Action. We will also share suggested comments and templates that your agency can use to officially weigh in the proposal if you choose. Comments on the Federal Register Notice are due June 21. \nRegister Here
URL:https://communityactionpartnership.com/event/community-action-and-the-proposed-changes-to-the-official-poverty-measure-opm/
CATEGORIES:Webinars
END:VEVENT
BEGIN:VEVENT
DTSTART;TZID=UTC:20190605T140000
DTEND;TZID=UTC:20190605T150000
DTSTAMP:20260425T114309
CREATED:20190604T231525Z
LAST-MODIFIED:20190604T231525Z
UID:53670-1559743200-1559746800@communityactionpartnership.com
SUMMARY:Resource Round-Up: An Overview of the Many Resources Available Through the Community Action Partnership
DESCRIPTION:Join Partnership staff Lil Dupree and Aimee Roberge as they take you on an interactive\, guided tour of the many resources available through the Community Action Partnership! They will show you how to find and utilize online tools\, toolkits\, webinars and recordings\, and the online Community Action Academy. Perfect for both new and experienced staff to see the breadth of resources available for free to the Network. \nRegister
URL:https://communityactionpartnership.com/event/resource-round-up-an-overview-of-the-many-resources-available-through-the-community-action-partnership/
CATEGORIES:Webinars
END:VEVENT
BEGIN:VEVENT
DTSTART;TZID=UTC:20190612T140000
DTEND;TZID=UTC:20190612T153000
DTSTAMP:20260425T114309
CREATED:20190430T185529Z
LAST-MODIFIED:20190430T185529Z
UID:53217-1560348000-1560353400@communityactionpartnership.com
SUMMARY:An Introduction to Creating a Social Enterprise
DESCRIPTION:Learn what a social enterprise is\, what types of social enterprises are currently operated by CAAs\, where to obtain funding\, potential obstacles and how to overcome them.   This session is meant for those who are thinking about the possibility of creating a social enterprise\, but haven’t established one yet. \n  \nRegister
URL:https://communityactionpartnership.com/event/an-introduction-to-creating-a-social-enterprise/
CATEGORIES:Webinars
END:VEVENT
BEGIN:VEVENT
DTSTART;TZID=UTC:20190613T140000
DTEND;TZID=UTC:20190613T153000
DTSTAMP:20260425T114309
CREATED:20190613T185252Z
LAST-MODIFIED:20190613T185252Z
UID:53776-1560434400-1560439800@communityactionpartnership.com
SUMMARY:Re-Entry Programs: Three Successful Approaches
DESCRIPTION:Register
URL:https://communityactionpartnership.com/event/re-entry-programs-three-successful-approaches/
CATEGORIES:Webinars
END:VEVENT
BEGIN:VEVENT
DTSTART;TZID=UTC:20190614T120000
DTEND;TZID=UTC:20190614T133000
DTSTAMP:20260425T114309
CREATED:20190430T192649Z
LAST-MODIFIED:20190430T192649Z
UID:53221-1560513600-1560519000@communityactionpartnership.com
SUMMARY:Community Action History 101
DESCRIPTION:For more than 50 years\, Community Action has served as a dynamic & community-based force in addressing the causes & conditions of poverty throughout the USA. Join us on Friday\, June 14th 12:00 P.M. EST to hear from The Partnership’s CEO\, Denise Harlow\, as she takes us back to 1964 to explain the beginnings of the Promise of Community Action. \nRegister
URL:https://communityactionpartnership.com/event/community-action-history-101/
CATEGORIES:Webinars
END:VEVENT
BEGIN:VEVENT
DTSTART;TZID=UTC:20190619T080000
DTEND;TZID=UTC:20190621T170000
DTSTAMP:20260425T114309
CREATED:20190318T125733Z
LAST-MODIFIED:20190318T125918Z
UID:51785-1560931200-1561136400@communityactionpartnership.com
SUMMARY:2019 CAPLAW National Training Conference
DESCRIPTION:Join CAPLAW in Charlotte\, North Carolina for the 2019 CAPLAW National Training Conference from June 19-21\, 2019 at the Westin Charlotte. With expert knowledge in their fields\, their results-oriented faculty will help you navigate the challenges that Community Action Agencies\, other federally-funded organizations and nonprofits encounter each day. Choose from a full line-up of workshops addressing current governance\, human resources\, financial\, sustainability and program topics. \nClick here to register.
URL:https://communityactionpartnership.com/event/2019-caplaw-national-training-conference/
CATEGORIES:National Conventions
END:VEVENT
BEGIN:VEVENT
DTSTART;TZID=UTC:20190619T140000
DTEND;TZID=UTC:20190619T150000
DTSTAMP:20260425T114309
CREATED:20190528T184659Z
LAST-MODIFIED:20190528T184659Z
UID:53632-1560952800-1560956400@communityactionpartnership.com
SUMMARY:Beyond the Standard: Continuous Quality Improvement
DESCRIPTION:Register
URL:https://communityactionpartnership.com/event/beyond-the-standard-continuous-quality-improvement/
CATEGORIES:Webinars
END:VEVENT
BEGIN:VEVENT
DTSTART;TZID=UTC:20190619T140000
DTEND;TZID=UTC:20190619T153000
DTSTAMP:20260425T114309
CREATED:20190613T185025Z
LAST-MODIFIED:20190613T185025Z
UID:53772-1560952800-1560958200@communityactionpartnership.com
SUMMARY:Continuous Quality Improvement 2.0: Striving for Better Results
DESCRIPTION:Register
URL:https://communityactionpartnership.com/event/continuous-quality-improvement-2-0-striving-for-better-results/
CATEGORIES:Webinars
END:VEVENT
BEGIN:VEVENT
DTSTART;TZID=UTC:20190626T140000
DTEND;TZID=UTC:20190626T153000
DTSTAMP:20260425T114309
CREATED:20190613T185147Z
LAST-MODIFIED:20190613T185147Z
UID:53774-1561557600-1561563000@communityactionpartnership.com
SUMMARY:Transforming Perspectives: The Community Action Poverty Simulation (CAPS)
DESCRIPTION:As a society\, we are often presented with many stereotypes and misconceptions about poverty and inequality. How then do we shift our paradigm about poverty away from being seen as a personal failure and toward the understanding of poverty as structural\, or a failure of society? One of the key ways Community Action professionals can respond is through the Community Action Poverty Simulation (CAPS). \nCAPS is an interactive immersion experience designed to sensitize community participants to the realities of poverty\, and ultimately transform perspectives. \nPlease join the National Community Action Partnership and Missouri Community Action Network on Wednesday\, June 26 to learn more about this powerful tool and how you can use it in your own community to make a lasting impact. \nRegister \n 
URL:https://communityactionpartnership.com/event/transforming-perspectives-the-community-action-poverty-simulation-caps-2/
CATEGORIES:Webinars
END:VEVENT
BEGIN:VEVENT
DTSTART;TZID=UTC:20190710T140000
DTEND;TZID=UTC:20190710T153000
DTSTAMP:20260425T114309
CREATED:20190613T185518Z
LAST-MODIFIED:20190710T160050Z
UID:53780-1562767200-1562772600@communityactionpartnership.com
SUMMARY:Re-entry Programs: Three Successful Approaches
DESCRIPTION:Register
URL:https://communityactionpartnership.com/event/re-entry-programs-three-successful-approaches-2/
CATEGORIES:Webinars
END:VEVENT
END:VCALENDAR