BEGIN:VCALENDAR
VERSION:2.0
PRODID:-//National CAP - ECPv6.15.20//NONSGML v1.0//EN
CALSCALE:GREGORIAN
METHOD:PUBLISH
X-WR-CALNAME:National CAP
X-ORIGINAL-URL:https://communityactionpartnership.com
X-WR-CALDESC:Events for National CAP
REFRESH-INTERVAL;VALUE=DURATION:PT1H
X-Robots-Tag:noindex
X-PUBLISHED-TTL:PT1H
BEGIN:VTIMEZONE
TZID:UTC
BEGIN:STANDARD
TZOFFSETFROM:+0000
TZOFFSETTO:+0000
TZNAME:UTC
DTSTART:20180101T000000
END:STANDARD
END:VTIMEZONE
BEGIN:VEVENT
DTSTART;TZID=UTC:20190424T140000
DTEND;TZID=UTC:20190424T150000
DTSTAMP:20260425T160245
CREATED:20190422T170135Z
LAST-MODIFIED:20190422T170135Z
UID:52857-1556114400-1556118000@communityactionpartnership.com
SUMMARY:Addressing the Needs of Immigrant & Migrant Families
DESCRIPTION:Join us for a webinar that will cover strategies for addressing the needs of immigrant and migrant families. \nRegister
URL:https://communityactionpartnership.com/event/addressing-the-needs-of-immigrant-migrant-families/
CATEGORIES:Webinars
END:VEVENT
END:VCALENDAR