BEGIN:VCALENDAR
VERSION:2.0
PRODID:-//National CAP - ECPv6.15.20//NONSGML v1.0//EN
CALSCALE:GREGORIAN
METHOD:PUBLISH
X-WR-CALNAME:National CAP
X-ORIGINAL-URL:https://communityactionpartnership.com
X-WR-CALDESC:Events for National CAP
REFRESH-INTERVAL;VALUE=DURATION:PT1H
X-Robots-Tag:noindex
X-PUBLISHED-TTL:PT1H
BEGIN:VTIMEZONE
TZID:UTC
BEGIN:STANDARD
TZOFFSETFROM:+0000
TZOFFSETTO:+0000
TZNAME:UTC
DTSTART:20250101T000000
END:STANDARD
END:VTIMEZONE
BEGIN:VEVENT
DTSTART;TZID=UTC:20260305T130000
DTEND;TZID=UTC:20260305T140000
DTSTAMP:20260423T105209
CREATED:20260106T150156Z
LAST-MODIFIED:20260106T150156Z
UID:91521-1772715600-1772719200@communityactionpartnership.com
SUMMARY:Renewing your CCAP: What you Need to Know About 
DESCRIPTION:Join NCAP for a one-hour session designed to help Certified Community Action Professionals (CCAPs) successfully maintain their credential. We’ll review the renewal process\, share best practices for tracking and reporting your continuing learning and engagement activities\, and answer your questions about timelines and documentation. This session is especially valuable for CCAPs planning to renew in 2026. You worked hard to earn your CCAP—let’s make sure you’re ready to keep your credential active and recognized!  \nRegister HERE.
URL:https://communityactionpartnership.com/event/renewing-your-ccap-what-you-need-to-know-about/
CATEGORIES:Webinars
END:VEVENT
BEGIN:VEVENT
DTSTART;TZID=UTC:20260310T140000
DTEND;TZID=UTC:20260310T150000
DTSTAMP:20260423T105209
CREATED:20260106T154425Z
LAST-MODIFIED:20260106T154425Z
UID:91529-1773151200-1773154800@communityactionpartnership.com
SUMMARY:New State Association ED/CEO Orientation
DESCRIPTION:Join NCAP for the 2026 New State Association Executive Director/CEO Orientation. This conversational session is meant to orient State Association directors to their unique role within a State Association and the Community Action Network and provide new State Association executives with the opportunity to connect with their peers from around the country. This session is offered as a member benefit to those with five years or less experience in their State Association leadership role. \nClick here to register.
URL:https://communityactionpartnership.com/event/new-state-association-ed-ceo-orientation/
CATEGORIES:Webinars
END:VEVENT
BEGIN:VEVENT
DTSTART;TZID=UTC:20260311T140000
DTEND;TZID=UTC:20260311T150000
DTSTAMP:20260423T105209
CREATED:20260217T201237Z
LAST-MODIFIED:20260219T191313Z
UID:92013-1773237600-1773241200@communityactionpartnership.com
SUMMARY:Whole Family Approach Resource Round-up
DESCRIPTION:Ready to move from learning about the Whole Family Approach to putting it into practice? \nJoin this interactive webinar to take a deeper look at Whole Family Approach (WFA) tools and resources that support agencies in designing\, implementing\, and strengthening their WFA efforts. In this session we’ll explore how tools such as the WFA Design Plan\, Building Blocks and Resource Guide\, Readiness Assessment\, and Pilot Charter Template work together to drive intentional design\, strengthen alignment across programs\, and support ongoing growth and change. \nWhether you’re just getting started or refining your Whole Family Approach efforts\, this webinar is designed to meet you where you are. Participants will gain practical examples\, real-world implementation insights\, and guidance on using these resources within their organizations. You’ll walk away with actionable tools\, clearer alignment strategies\, and a preview of what’s ahead for your WFA. \nClick here to register.
URL:https://communityactionpartnership.com/event/whole-family-approach-resource-round-up/
CATEGORIES:Webinars
END:VEVENT
BEGIN:VEVENT
DTSTART;TZID=UTC:20260311T150000
DTEND;TZID=UTC:20260311T160000
DTSTAMP:20260423T105209
CREATED:20260309T203433Z
LAST-MODIFIED:20260309T203433Z
UID:92090-1773241200-1773244800@communityactionpartnership.com
SUMMARY:Your Way to WAPPro: Inside the Experience and How to Apply
DESCRIPTION:The Weatherization Professional Leadership Development Institute (WAPPro) was developed to strengthen leadership across the Weatherization network through shared learning\, practical problem-solving\, and peer connection. Recognizing that strong programs rely on strong leaders\, the cohort provides a structured space for Weatherization professionals to expand leadership skills\, exchange strategies\, and build lasting connections. The cohort is supported by NCAP’s consultants and partners\, Optimum Performance Solutions (OPS) with additional subject matter experts joining to support where needed in focus areas. This informational webinar offers an opportunity to understand the program’s structure and expectations while helping prospective applicants determine readiness and prepare for the application process. WAPPro 3.0 will consist of six two-hour virtual sessions from June to November 2026. Applications close April 30\, 2026. \nClick here to register for the webinar.
URL:https://communityactionpartnership.com/event/your-way-to-wappro-inside-the-experience-and-how-to-apply/
CATEGORIES:Webinars
END:VEVENT
BEGIN:VEVENT
DTSTART;TZID=UTC:20260312T130000
DTEND;TZID=UTC:20260312T140000
DTSTAMP:20260423T105209
CREATED:20260106T150416Z
LAST-MODIFIED:20260106T150416Z
UID:91523-1773320400-1773324000@communityactionpartnership.com
SUMMARY:Tips for Success with the CCAP Proctored Exam
DESCRIPTION:The 2026 CCAP Proctored Examination will be administered on Wednesday\, April 15. Candidates planning to sit for the Proctored Exam are invited to join CCAP program staff for this informational tour covering what to expect before\, during and after Exam Day. Trainers will reinforce important dates\, steps CCAP Candidates are expected to take\, and\, rules for Exam Day. Participants will receive a first-hand look at the online Community Action Academy platform through which the Proctored Exam will be administered\, and we will leave as much time as needed to answer Candidate questions.  \nRegister HERE.
URL:https://communityactionpartnership.com/event/tips-for-success-with-the-ccap-proctored-exam/
CATEGORIES:Webinars
END:VEVENT
BEGIN:VEVENT
DTSTART;TZID=UTC:20260313T130000
DTEND;TZID=UTC:20260313T140000
DTSTAMP:20260423T105209
CREATED:20260106T145840Z
LAST-MODIFIED:20260106T145840Z
UID:91518-1773406800-1773410400@communityactionpartnership.com
SUMMARY:CCAP Office Hours: Your Questions\, Answered
DESCRIPTION:Need help with the CCAP process? Have questions about renewal\, requirements\, or next steps? Join NCAP for virtual CCAP Office Hours—a relaxed\, one-hour session where you set the agenda. This is not a formal presentation. Just drop in\, bring your questions\, and get real-time answers from our team. Whether you’re starting your CCAP journey or planning for renewal\, we’re here to help. No registration needed\, just click on the link on the date/time you would like to join us. \nClick here to join.
URL:https://communityactionpartnership.com/event/ccap-office-hours-your-questions-answered/2026-03-13/
CATEGORIES:Webinars
END:VEVENT
BEGIN:VEVENT
DTSTART;TZID=UTC:20260318T140000
DTEND;TZID=UTC:20260318T150000
DTSTAMP:20260423T105209
CREATED:20251216T152019Z
LAST-MODIFIED:20251216T152019Z
UID:91241-1773842400-1773846000@communityactionpartnership.com
SUMMARY:Risk Management Myths
DESCRIPTION:Some of the most common advice out there about risk management just might be wrong. Join NRMC for this thought-provoking session that will “bust” myths we believe have outlived their use and share alternatives for how to think about and act on risk. \nClick here to register.
URL:https://communityactionpartnership.com/event/risk-management-myths/
CATEGORIES:Affiliate Events
END:VEVENT
BEGIN:VEVENT
DTSTART;TZID=UTC:20260324T140000
DTEND;TZID=UTC:20260324T150000
DTSTAMP:20260423T105209
CREATED:20260106T154604Z
LAST-MODIFIED:20260106T154604Z
UID:91531-1774360800-1774364400@communityactionpartnership.com
SUMMARY:New State Association Staff Orientation
DESCRIPTION:Join NCAP for the 2026 New State Association Staff Orientation. This conversational session is meant to orient State Association staff to their unique role within a State Association and the Community Action Network and provide new State Association team members with the opportunity to connect with their peers from around the country. This session is offered as a member benefit to State Association team members with five years or less experience in their State Association role. \nClick here to register.
URL:https://communityactionpartnership.com/event/new-state-association-staff-orientation-2/
CATEGORIES:Webinars
END:VEVENT
BEGIN:VEVENT
DTSTART;TZID=UTC:20260325T140000
DTEND;TZID=UTC:20260325T150000
DTSTAMP:20260423T105209
CREATED:20260123T213447Z
LAST-MODIFIED:20260123T213447Z
UID:91909-1774447200-1774450800@communityactionpartnership.com
SUMMARY:Aligning Community Assessments with Your Mission and Goals
DESCRIPTION:Join NCAP to examine how Community Action Agencies can transform Community Assessments from a requirement to a strategic leadership tool. Participants will explore how integrating qualitative and quantitative data with customer input can strengthen alignment of the Agency’s mission\, strategic goals\, and outcomes. \nClick here to register.
URL:https://communityactionpartnership.com/event/aligning-community-assessments-with-your-mission-and-goals/
CATEGORIES:Webinars
END:VEVENT
BEGIN:VEVENT
DTSTART;TZID=UTC:20260326T160000
DTEND;TZID=UTC:20260326T170000
DTSTAMP:20260423T105209
CREATED:20260304T200946Z
LAST-MODIFIED:20260304T200946Z
UID:92074-1774540800-1774544400@communityactionpartnership.com
SUMMARY:Community Action Month Toolkit Overview
DESCRIPTION:May is Community Action Month and NCAP’s toolkit has everything you need to celebrate\, including sample graphics and social media messages\, activities and events\, outreach resources\, customizable templates\, and more. Join us as we walk through the contents of this year’s toolkit and how to use it. \nClick here to register for the webinar.
URL:https://communityactionpartnership.com/event/community-action-month-toolkit-overview-2/
CATEGORIES:Webinars
END:VEVENT
BEGIN:VEVENT
DTSTART;TZID=UTC:20260331T160000
DTEND;TZID=UTC:20260331T163000
DTSTAMP:20260423T105209
CREATED:20260116T200157Z
LAST-MODIFIED:20260116T200157Z
UID:91788-1774972800-1774974600@communityactionpartnership.com
SUMMARY:2026 NCAP Promise Power Up
DESCRIPTION:As a new year begins\, bringing fresh hope alongside familiar challenges — NCAP invites you to pause\, rise above the noise\, and reconnect! \nJoin NCAP for the 2026 Promise Power Ups\, a series of 15-minute sessions designed to offer brief but powerful moments to connect\, inspire hope\, and reaffirm the Promise of Community Action that unites us. The strength of the Community Action Network lies in our people\, our shared promise\, our connections\, and our determination. \nEveryone in the network is invited. Bring your entire team! \nHere are some ideas to take your team’s Power Up experience to the next level: \n\nWear your Community Action Swag on Promise Power Up days.\nSend us your team photos for NCAP’s social media.\nTag NCAP and use #PromisePowerUp in social media.\nSuggest a song for the Promise Power Up playlist.\nProvide coffee or snacks for your team around the time of the Promise Power Up.\n\nClick here to register.
URL:https://communityactionpartnership.com/event/2026-ncap-promise-power-up-2/
CATEGORIES:Webinars
END:VEVENT
BEGIN:VEVENT
DTSTART;TZID=UTC:20260401T140000
DTEND;TZID=UTC:20260401T150000
DTSTAMP:20260423T105209
CREATED:20260123T212632Z
LAST-MODIFIED:20260327T135727Z
UID:91901-1775052000-1775055600@communityactionpartnership.com
SUMMARY:Weatherization Workforce Excellence Series: Session 1: Retention through support and culture; Well-being\, mentorship\, and burnout prevention
DESCRIPTION:Weatherization Workforce Excellence Series: Building\, Supporting\, and Sustaining a High-Impact Weatherization Workforce \nBuilding\, Supporting\, and Sustaining a High-Impact Weatherization Workforce is a four-part webinar series designed to help Weatherization leaders and staff strengthen their workforce from the inside out. The series explores how to build high-performing teams\, foster supportive workplace cultures that improve retention\, implement innovative recruitment strategies to expand the talent pipeline\, and develop leadership and career pathways that ensure long-term continuity and program success. Grounded in real-world experience and tailored to the realities of the Weatherization network\, this series offers practical strategies\, tools\, and insights agencies can apply immediately to strengthen workforce stability\, resilience\, and impact. \nSession 1: Retention through support and culture; Well-being\, mentorship\, and burnout prevention\nWednesday\, April 1\, 2026 \nDescription– Retention is more than compensation—it is about culture\, care\, and connection. This session examines strategies agencies can use to retain skilled staff by fostering supportive work environments that prioritize employee well-being\, mentorship\, and professional growth. Participants will explore practical approaches to addressing burnout\, supporting staff through high workloads\, and building a culture where employees feel valued\, supported\, and motivated to stay and grow within the Weatherization network. \nClick here to register.
URL:https://communityactionpartnership.com/event/weatherization-workforce-excellence-series-retention-through-support-and-culture-well-being-mentorship-and-burnout-prevention/
CATEGORIES:Webinars
END:VEVENT
BEGIN:VEVENT
DTSTART;TZID=UTC:20260410T130000
DTEND;TZID=UTC:20260410T140000
DTSTAMP:20260423T105209
CREATED:20260106T145840Z
LAST-MODIFIED:20260106T145840Z
UID:91519-1775826000-1775829600@communityactionpartnership.com
SUMMARY:CCAP Office Hours: Your Questions\, Answered
DESCRIPTION:Need help with the CCAP process? Have questions about renewal\, requirements\, or next steps? Join NCAP for virtual CCAP Office Hours—a relaxed\, one-hour session where you set the agenda. This is not a formal presentation. Just drop in\, bring your questions\, and get real-time answers from our team. Whether you’re starting your CCAP journey or planning for renewal\, we’re here to help. No registration needed\, just click on the link on the date/time you would like to join us. \nClick here to join.
URL:https://communityactionpartnership.com/event/ccap-office-hours-your-questions-answered/2026-04-10/
CATEGORIES:Webinars
END:VEVENT
BEGIN:VEVENT
DTSTART;TZID=UTC:20260415T140000
DTEND;TZID=UTC:20260415T150000
DTSTAMP:20260423T105209
CREATED:20260120T212036Z
LAST-MODIFIED:20260120T212036Z
UID:91867-1776261600-1776265200@communityactionpartnership.com
SUMMARY:Turning Ideas into Impact: Implementing Innovative Approaches to Advance Economic Mobility Part 1
DESCRIPTION:A Two-Part Webinar Series \nAdvancing economic mobility requires Community Action leaders to implement innovative solutions to address complex challenges. This two-part webinar series explores practical strategies for transforming innovative ideas into measurable community impact. Participants will gain insight and advice from peers in the Community Action network\, along with tools and resources to foster innovation\, align resources\, build capacity to adapt and scale approaches over time. Part 1 of the series will focus on establishing a shared culture of innovation\, leveraging resources\, and developing collaborative partnerships that support innovation across sectors. Part 2 of the series will focus on intentionally designing\, implementing\, and evaluating innovative initiatives for long-term sustainability. \nClick here to register for the webinar.
URL:https://communityactionpartnership.com/event/turning-ideas-into-impact-implementing-innovative-approaches-to-advance-economic-mobility-part-1/
CATEGORIES:Webinars
END:VEVENT
BEGIN:VEVENT
DTSTART;TZID=UTC:20260416T140000
DTEND;TZID=UTC:20260416T150000
DTSTAMP:20260423T105209
CREATED:20260123T212402Z
LAST-MODIFIED:20260327T135624Z
UID:91899-1776348000-1776351600@communityactionpartnership.com
SUMMARY:Weatherization Workforce Excellence Series: Session 2: Building a High-Performance WAP Team
DESCRIPTION:Weatherization Workforce Excellence Series: Building\, Supporting\, and Sustaining a High-Impact Weatherization Workforce \nBuilding\, Supporting\, and Sustaining a High-Impact Weatherization Workforce is a four-part webinar series designed to help Weatherization leaders and staff strengthen their workforce from the inside out. The series explores how to build high-performing teams\, foster supportive workplace cultures that improve retention\, implement innovative recruitment strategies to expand the talent pipeline\, and develop leadership and career pathways that ensure long-term continuity and program success. Grounded in real-world experience and tailored to the realities of the Weatherization network\, this series offers practical strategies\, tools\, and insights agencies can apply immediately to strengthen workforce stability\, resilience\, and impact. \nSession 2: Building a High-Performance WAP Team\nThursday\, April 16\, 2026 \nThis session focuses on the foundational elements of a high-performing Weatherization Assistance Program (WAP) team. Participants will explore the roles\, structures\, and leadership practices that support clarity\, accountability\, and collaboration across administrative\, field\, and management staff. Emphasis is placed on aligning individual roles to agency goals\, setting clear expectations\, and creating systems that support consistency\, quality\, and results in a high-demand environment. \nClick here to register.
URL:https://communityactionpartnership.com/event/weatherization-workforce-excellence-series-building-a-high-performance-wap-team/
CATEGORIES:Webinars
END:VEVENT
BEGIN:VEVENT
DTSTART;TZID=UTC:20260416T160000
DTEND;TZID=UTC:20260416T170000
DTSTAMP:20260423T105209
CREATED:20260116T201336Z
LAST-MODIFIED:20260120T030019Z
UID:91796-1776355200-1776358800@communityactionpartnership.com
SUMMARY:ED/CEO Roundtables - Responding to the Shifting Landscape - 4/16/26
DESCRIPTION:Join NCAP for a continuation of the Roundtable series for current Community Action Executive Directors and CEOs. The Roundtables are designed to provide space for an engaging session where EDs and CEOs will have the opportunity to participate in confidential small group discussions with peers. \nThese Roundtables are an opportunity to discuss emerging issues\, get updates on available tools and resources\, and learn effective strategies from your peers. EDs and CEOs may sign up for one or more roundtable sessions. \nClick here to register.
URL:https://communityactionpartnership.com/event/ed-ceo-roundtables-responding-to-the-shifting-landscape-4-16-26/
CATEGORIES:Webinars
END:VEVENT
END:VCALENDAR