BEGIN:VCALENDAR
VERSION:2.0
PRODID:-//National CAP - ECPv6.15.20//NONSGML v1.0//EN
CALSCALE:GREGORIAN
METHOD:PUBLISH
X-WR-CALNAME:National CAP
X-ORIGINAL-URL:https://communityactionpartnership.com
X-WR-CALDESC:Events for National CAP
REFRESH-INTERVAL;VALUE=DURATION:PT1H
X-Robots-Tag:noindex
X-PUBLISHED-TTL:PT1H
BEGIN:VTIMEZONE
TZID:UTC
BEGIN:STANDARD
TZOFFSETFROM:+0000
TZOFFSETTO:+0000
TZNAME:UTC
DTSTART:20250101T000000
END:STANDARD
END:VTIMEZONE
BEGIN:VEVENT
DTSTART;TZID=UTC:20260305T130000
DTEND;TZID=UTC:20260305T140000
DTSTAMP:20260423T204019
CREATED:20260106T150156Z
LAST-MODIFIED:20260106T150156Z
UID:91521-1772715600-1772719200@communityactionpartnership.com
SUMMARY:Renewing your CCAP: What you Need to Know About 
DESCRIPTION:Join NCAP for a one-hour session designed to help Certified Community Action Professionals (CCAPs) successfully maintain their credential. We’ll review the renewal process\, share best practices for tracking and reporting your continuing learning and engagement activities\, and answer your questions about timelines and documentation. This session is especially valuable for CCAPs planning to renew in 2026. You worked hard to earn your CCAP—let’s make sure you’re ready to keep your credential active and recognized!  \nRegister HERE.
URL:https://communityactionpartnership.com/event/renewing-your-ccap-what-you-need-to-know-about/
CATEGORIES:Webinars
END:VEVENT
BEGIN:VEVENT
DTSTART;TZID=UTC:20260310T140000
DTEND;TZID=UTC:20260310T150000
DTSTAMP:20260423T204019
CREATED:20260106T154425Z
LAST-MODIFIED:20260106T154425Z
UID:91529-1773151200-1773154800@communityactionpartnership.com
SUMMARY:New State Association ED/CEO Orientation
DESCRIPTION:Join NCAP for the 2026 New State Association Executive Director/CEO Orientation. This conversational session is meant to orient State Association directors to their unique role within a State Association and the Community Action Network and provide new State Association executives with the opportunity to connect with their peers from around the country. This session is offered as a member benefit to those with five years or less experience in their State Association leadership role. \nClick here to register.
URL:https://communityactionpartnership.com/event/new-state-association-ed-ceo-orientation/
CATEGORIES:Webinars
END:VEVENT
END:VCALENDAR