BEGIN:VCALENDAR
VERSION:2.0
PRODID:-//National CAP - ECPv6.15.20//NONSGML v1.0//EN
CALSCALE:GREGORIAN
METHOD:PUBLISH
X-WR-CALNAME:National CAP
X-ORIGINAL-URL:https://communityactionpartnership.com
X-WR-CALDESC:Events for National CAP
REFRESH-INTERVAL;VALUE=DURATION:PT1H
X-Robots-Tag:noindex
X-PUBLISHED-TTL:PT1H
BEGIN:VTIMEZONE
TZID:UTC
BEGIN:STANDARD
TZOFFSETFROM:+0000
TZOFFSETTO:+0000
TZNAME:UTC
DTSTART:20180101T000000
END:STANDARD
END:VTIMEZONE
BEGIN:VEVENT
DTSTART;TZID=UTC:20190306T140000
DTEND;TZID=UTC:20190306T150000
DTSTAMP:20260425T131357
CREATED:20190301T160139Z
LAST-MODIFIED:20190301T165342Z
UID:51635-1551880800-1551884400@communityactionpartnership.com
SUMMARY:Crafting Your Community Action Elevator Speech
DESCRIPTION:How can you talk about what you do and why it matters in a way that grabs the attention of your audience? An elevator pitch is a brief\, persuasive speech that is used to spark interest. This webinar will introduce the technique\, core messages for the Network\, and a framework for tailoring these messages for your work. \nRegister
URL:https://communityactionpartnership.com/event/crafting-your-community-action-elevator-speech/
CATEGORIES:Webinars
END:VEVENT
BEGIN:VEVENT
DTSTART;TZID=UTC:20190306T140000
DTEND;TZID=UTC:20190306T150000
DTSTAMP:20260425T131357
CREATED:20190211T195610Z
LAST-MODIFIED:20190225T145733Z
UID:50281-1551880800-1551884400@communityactionpartnership.com
SUMMARY:Sustaining the Organization through Leadership Transitions
DESCRIPTION:This Organizational Standards Center of Excellence Peer-to-Peer webinar will focus on organizational sustainability through leadership transitions.  As generations are moving through the workplace\, the potential of executive leadership transitions remains high.  Being prepared and handling a transition well can help an organization continue on a positive trajectory.  Learn from two organizations in the Community Action network that have experience with successful transitions – a local CAA in North Alabama who recently went through a transition and the Iowa state association who assists local agencies through the process. \nPresenters:  Tim Thrasher (CAPNA) & Lana Shope (ICAA) \nRegister
URL:https://communityactionpartnership.com/event/sustaining-the-organization-through-leadership-transitions/
CATEGORIES:Webinars
END:VEVENT
END:VCALENDAR