BEGIN:VCALENDAR
VERSION:2.0
PRODID:-//National CAP - ECPv6.15.20//NONSGML v1.0//EN
CALSCALE:GREGORIAN
METHOD:PUBLISH
X-WR-CALNAME:National CAP
X-ORIGINAL-URL:https://communityactionpartnership.com
X-WR-CALDESC:Events for National CAP
REFRESH-INTERVAL;VALUE=DURATION:PT1H
X-Robots-Tag:noindex
X-PUBLISHED-TTL:PT1H
BEGIN:VTIMEZONE
TZID:UTC
BEGIN:STANDARD
TZOFFSETFROM:+0000
TZOFFSETTO:+0000
TZNAME:UTC
DTSTART:20240101T000000
END:STANDARD
END:VTIMEZONE
BEGIN:VEVENT
DTSTART;TZID=UTC:20251028T140000
DTEND;TZID=UTC:20251028T150000
DTSTAMP:20260422T063059
CREATED:20250919T200452Z
LAST-MODIFIED:20250919T200452Z
UID:90934-1761660000-1761663600@communityactionpartnership.com
SUMMARY:Peer Data Webinar Series: Automating What Matters
DESCRIPTION:Manual\, repetitive tasks slow down service delivery and drain staff time. In this interactive session\, learn how Wayne Metro uses low-code platforms like Tray.io and Power Automate\, along with custom scripts\, to automate the work that matters most. We’ll walk through real examples—from pulling data across siloed systems to creating automated notifications and workflows—and share lessons learned along the way. Participants will leave with practical steps for identifying automation opportunities in their own agencies and tools to get started\, no matter their technical background. \nClick here to register.
URL:https://communityactionpartnership.com/event/peer-data-webinar-series-automating-what-matters/
CATEGORIES:Webinars
END:VEVENT
BEGIN:VEVENT
DTSTART;TZID=UTC:20251029T140000
DTEND;TZID=UTC:20251029T150000
DTSTAMP:20260422T063059
CREATED:20250905T151444Z
LAST-MODIFIED:20250905T152642Z
UID:90841-1761746400-1761750000@communityactionpartnership.com
SUMMARY:Building Stronger Systems\, Stronger Families: Whole Family Approach Webinar Series
DESCRIPTION:This Whole Family Approach (WFA) webinar series aims to inspire\, equip\, and connect Community Action Agencies who are driving transformational changes through this approach. This 4-part webinar series will highlight real-world implementation strategies\, celebrate the progression of several members of our Regional Advanced Community of Practice and foster a learning community rooted in continuous learning and shared purpose. Together\, we’ll explore what’s possible when we center families\, align systems\, and commit to building pathways to economic mobility and well-being\, one connection at a time\, through a Whole Family Approach. \nSeptember 22\, 2025: Leading with Purpose: CAPLP’s Journey in Advancing Whole Family Work \nOctober 29\, 2025: WFA Practitioner’s Roundtable Centered on Data \nNovember 5\, 2025: Scaling WFA & Measuring What Matters \nDecember 17\, 2025: Reimagining Possibility: What WFA Can Become \nClick here to register for the webinar series.
URL:https://communityactionpartnership.com/event/building-stronger-systems-stronger-families-wfa-webinar-series/2025-10-29/
CATEGORIES:Webinars
END:VEVENT
BEGIN:VEVENT
DTSTART;TZID=UTC:20251030T140000
DTEND;TZID=UTC:20251030T150000
DTSTAMP:20260422T063059
CREATED:20251006T184110Z
LAST-MODIFIED:20251006T184110Z
UID:91040-1761832800-1761836400@communityactionpartnership.com
SUMMARY:2025 Weatherization Day Innovations in Action Webinar - Out of the Box Thinking with a Box Store Service Strategy: Michigan's Rural Service Hubs
DESCRIPTION:If you build it\, they will come\, so why not dream big? Join us to learn about an innovative approach developed by the Michigan Bureau of Community Action and Economic Opportunity (BCEAO) that is reclaiming empty store fronts to serve rural families and communities. Vacant outlet and strip mall spaces are being repurposed to deliver and coordinate community resources including Weatherization and LIHEAP assistance\, emergency services\, food and nutrition support\, and other CSBG funded programs while building trust and strengthening local connections. \nPartners on these pilot projects include laundry services\, home goods retailers\, and human service providers\, but it isn’t hard to imagine a future where local farmers and grocers\, barbers and hair cutting businesses\, and other skilled tradespeople could be added to the mix. Where might a place like this be possible in your hometown? How would you engage community to explore development strategies? What resources and partners do you need at the table? Come and challenge yourself to think outside of the box and serve your communities in nontraditional ways. \nClick here to register for the webinar.
URL:https://communityactionpartnership.com/event/2025-weatherization-day-innovations-in-action-webinar-out-of-the-box-thinking-with-a-box-store-service-strategy-michigans-rural-service-hubs/
CATEGORIES:Webinars
END:VEVENT
BEGIN:VEVENT
DTSTART;TZID=UTC:20251105T140000
DTEND;TZID=UTC:20251105T150000
DTSTAMP:20260422T063059
CREATED:20250905T151444Z
LAST-MODIFIED:20250905T152644Z
UID:90842-1762351200-1762354800@communityactionpartnership.com
SUMMARY:Building Stronger Systems\, Stronger Families: Whole Family Approach Webinar Series
DESCRIPTION:This Whole Family Approach (WFA) webinar series aims to inspire\, equip\, and connect Community Action Agencies who are driving transformational changes through this approach. This 4-part webinar series will highlight real-world implementation strategies\, celebrate the progression of several members of our Regional Advanced Community of Practice and foster a learning community rooted in continuous learning and shared purpose. Together\, we’ll explore what’s possible when we center families\, align systems\, and commit to building pathways to economic mobility and well-being\, one connection at a time\, through a Whole Family Approach. \nSeptember 22\, 2025: Leading with Purpose: CAPLP’s Journey in Advancing Whole Family Work \nOctober 29\, 2025: WFA Practitioner’s Roundtable Centered on Data \nNovember 5\, 2025: Scaling WFA & Measuring What Matters \nDecember 17\, 2025: Reimagining Possibility: What WFA Can Become \nClick here to register for the webinar series.
URL:https://communityactionpartnership.com/event/building-stronger-systems-stronger-families-wfa-webinar-series/2025-11-05/
CATEGORIES:Webinars
END:VEVENT
BEGIN:VEVENT
DTSTART;TZID=UTC:20251106T140000
DTEND;TZID=UTC:20251106T160000
DTSTAMP:20260422T063059
CREATED:20250428T200637Z
LAST-MODIFIED:20250429T174308Z
UID:90235-1762437600-1762444800@communityactionpartnership.com
SUMMARY:Multifamily Weatherization: Closing Out Your First Project
DESCRIPTION:Successfully managing and closing out a multifamily weatherization project requires detailed coordination\, consistent communication\, and a solid grasp of technical\, administrative\, and logistical requirements. This session will walk participants through each stage of project execution\, from establishing a realistic timeline and managing contractors to data collection\, resident coordination\, and financial closeout. Attendees will learn best practices for minimizing resident disruptions\, ensuring proper documentation\, and maintaining clear expectations around billing\, change orders\, and standards. Special attention will be paid to project phasing\, quality control inspections (QCI)\, client education\, and coordinating final steps with grantee. Participants will leave equipped to close projects efficiently\, maintain compliance\, and deliver lasting results. \nClick here to register.
URL:https://communityactionpartnership.com/event/multifamily-weatherization-virtual-training-series-a-practical-guide-to-expanding-impact-on-communities-2025-11-06/
CATEGORIES:Webinars
END:VEVENT
BEGIN:VEVENT
DTSTART;TZID=UTC:20251117T140000
DTEND;TZID=UTC:20251117T150000
DTSTAMP:20260422T063059
CREATED:20251029T143238Z
LAST-MODIFIED:20251029T143238Z
UID:91088-1763388000-1763391600@communityactionpartnership.com
SUMMARY:Solar for CAPs 201: Navigating the Changing Solar Landscape
DESCRIPTION:While federal support for solar development has changed\, state policies and private developer priorities often have a much greater influence on the opportunities available in your area. During this webinar\, learn about the benefits available for both your agency and your clients. Our speakers will describe several different models CAPs can replicate in their areas. Additionally\, hear about the changes in state and federal policies regarding solar and what this means for your current and potential projects. Learn how to stay the course as we navigate the evolving world of solar as a Network. \nSpeakers: \n\nBill Grant (NCAP Consultant)\nSteven Leitner (Cap Solar)\nDebi Brandt (UCAP)\nGreta Chizek (USSolar)\nDr. Hightower (CAPHennepin)\nBen Paulos (CESA\, NREL)\n\nClick here to register for the webinar.
URL:https://communityactionpartnership.com/event/solar-for-caps-201-navigating-the-changing-solar-landscape/
CATEGORIES:Webinars
END:VEVENT
BEGIN:VEVENT
DTSTART;TZID=UTC:20251120T160000
DTEND;TZID=UTC:20251120T163000
DTSTAMP:20260422T063059
CREATED:20250911T133421Z
LAST-MODIFIED:20250912T194428Z
UID:90872-1763654400-1763656200@communityactionpartnership.com
SUMMARY:Promise Power Ups
DESCRIPTION:NCAP invites the entire Community Action Network to a series of 15-minute meetings aimed to connect members\, inspire hope and unleash the power of the Community Action Promise. The entire Network is invited to participate monthly. \nMonday\, September 15th at 2:00pm ET / 1:00pm CT / 12:00pm MT / 11:00am PT \nFriday\, October 10th at 2:00pm ET / 1:00pm CT / 12:00pm MT / 11:00am PT \nThursday\, November 20th at 4:00pm ET / 3:00pm CT / 2:00pm MT / 1:00pm PT \nThursday\, December 11th at 4:00pm ET / 3:00pm CT / 2:00pm MT / 1:00pm PT
URL:https://communityactionpartnership.com/event/promise-power-ups/2025-11-20/
CATEGORIES:CAP Events,Webinars
END:VEVENT
BEGIN:VEVENT
DTSTART;TZID=UTC:20251202T140000
DTEND;TZID=UTC:20251202T150000
DTSTAMP:20260422T063059
CREATED:20251107T155357Z
LAST-MODIFIED:20251107T155357Z
UID:91119-1764684000-1764687600@communityactionpartnership.com
SUMMARY:The Impact of Excellence
DESCRIPTION:In this peer-led session\, participants will hear how Community Action Agencies from across the country are using the Community Action Standards of Excellence to navigate challenges and keep their work moving forward. Leaders will share how operating at their best helps teams make confident decisions\, strengthen operations\, and sustain impact. The session shows how excellence isn’t extra—it’s a way to build resilience and deliver on your mission\, even in the most demanding moments. \nClick here to register for the webinar.
URL:https://communityactionpartnership.com/event/the-impact-of-excellence/
CATEGORIES:Webinars
END:VEVENT
BEGIN:VEVENT
DTSTART;TZID=UTC:20251210T130000
DTEND;TZID=UTC:20251210T170000
DTSTAMP:20260422T063059
CREATED:20251203T142509Z
LAST-MODIFIED:20251203T142509Z
UID:91163-1765371600-1765386000@communityactionpartnership.com
SUMMARY:Pathways to Excellence Peer Reviewer Training
DESCRIPTION:Serving as a Pathways to Excellence Peer Reviewer is a great opportunity to support excellence\, foster growth\, and strengthen the Community Action Network. \nJoin us for the 2025 Pathways to Excellence Peer Reviewer Training—a two-part virtual training designed to equip you with the knowledge and skills to serve as a Pathways Peer Reviewer\, a vital role in helping Community Action Agencies advance their excellence practices. \nDATES: Wednesday\, December 10 and Wednesday\, December 17 \nTIME: 1 PM – 5 PM ET / 12 PM – 4 PM CT / 11 AM – 3 PM MT / 10 AM – 2 PM PT \nTRAINING TOPICS INCLUDE: \n\nCore concepts of organizational excellence and the Standards of Excellence\nHow to interpret and apply the Standards to agency practices\nStrategies for assessing alignment and identifying evidence of excellence\nTechniques for writing clear\, actionable\, and supportive feedback\n\nWHO SHOULD ATTEND: \nWe invite all Community Action Network members to attend! However\, only those who meet eligibility criteria may serve as Peer Reviewers. \nParticipants must attend both sessions and meet other criteria to be eligible to serve as a Peer Reviewer for the Pathways to Excellence program. To learn more about serving as a Peer Reviewer\, click here. \nREGISTRATION FEE: $449 per person for members. $549 per person for nonmembers. \nClick here to register.
URL:https://communityactionpartnership.com/event/pathways-to-excellence-peer-reviewer-training/2025-12-10/
CATEGORIES:CAP Events
END:VEVENT
BEGIN:VEVENT
DTSTART;TZID=UTC:20251211T140000
DTEND;TZID=UTC:20251211T150000
DTSTAMP:20260422T063059
CREATED:20251129T135346Z
LAST-MODIFIED:20251129T135346Z
UID:91160-1765461600-1765465200@communityactionpartnership.com
SUMMARY:Equipping the Journey: Exploring the Resources from the Collaborative on Economic Mobility
DESCRIPTION:This webinar training offers a practical overview of tools and resources available through the Collaborative on Economic Mobility that are designed to help support individuals\, families\, and communities on the journey to economic mobility. Participants will explore the curated selection of resources that address common challenges to economic mobility and will gain insight into actionable strategies for implementation with local community initiatives. \nClick here to register for the webinar.
URL:https://communityactionpartnership.com/event/equipping-the-journey-exploring-the-resources-from-the-collaborative-on-economic-mobility/
CATEGORIES:Webinars
END:VEVENT
BEGIN:VEVENT
DTSTART;TZID=UTC:20251211T160000
DTEND;TZID=UTC:20251211T163000
DTSTAMP:20260422T063059
CREATED:20250911T133421Z
LAST-MODIFIED:20250912T194428Z
UID:90873-1765468800-1765470600@communityactionpartnership.com
SUMMARY:Promise Power Ups
DESCRIPTION:NCAP invites the entire Community Action Network to a series of 15-minute meetings aimed to connect members\, inspire hope and unleash the power of the Community Action Promise. The entire Network is invited to participate monthly. \nMonday\, September 15th at 2:00pm ET / 1:00pm CT / 12:00pm MT / 11:00am PT \nFriday\, October 10th at 2:00pm ET / 1:00pm CT / 12:00pm MT / 11:00am PT \nThursday\, November 20th at 4:00pm ET / 3:00pm CT / 2:00pm MT / 1:00pm PT \nThursday\, December 11th at 4:00pm ET / 3:00pm CT / 2:00pm MT / 1:00pm PT
URL:https://communityactionpartnership.com/event/promise-power-ups/2025-12-11/
CATEGORIES:CAP Events,Webinars
END:VEVENT
BEGIN:VEVENT
DTSTART;TZID=UTC:20251215T140000
DTEND;TZID=UTC:20251215T153000
DTSTAMP:20260422T063059
CREATED:20251114T203059Z
LAST-MODIFIED:20251121T170221Z
UID:91137-1765807200-1765812600@communityactionpartnership.com
SUMMARY:Community Action Transit Forum: Connecting Models\, Communities\, and CAA Practice
DESCRIPTION:Community Action Agencies are coordinating and operating a wide range of transit solutions that help people and families stay connected to work\, education\, health care\, and daily needs. This session features CAA transit providers showcasing how volunteer driver programs\, fixed-route services\, non-emergency medical transportation\, coordinated transit efforts\, and on-demand models function in real communities\, with insights and resources from the Coordinating Council on Access and Mobility Technical Assistance Center (CCAM-TAC). Participants will have space to explore the models that resonate with their agency\, hear how peers are putting them into practice\, and connect with others who are advancing transportation options across the network. \nClick here to register for the webinar.
URL:https://communityactionpartnership.com/event/community-action-transit-forum-connecting-models-communities-and-caa-practice/
CATEGORIES:Webinars
END:VEVENT
BEGIN:VEVENT
DTSTART;TZID=UTC:20251217T130000
DTEND;TZID=UTC:20251217T170000
DTSTAMP:20260422T063059
CREATED:20251203T142509Z
LAST-MODIFIED:20251203T142509Z
UID:91164-1765976400-1765990800@communityactionpartnership.com
SUMMARY:Pathways to Excellence Peer Reviewer Training
DESCRIPTION:Serving as a Pathways to Excellence Peer Reviewer is a great opportunity to support excellence\, foster growth\, and strengthen the Community Action Network. \nJoin us for the 2025 Pathways to Excellence Peer Reviewer Training—a two-part virtual training designed to equip you with the knowledge and skills to serve as a Pathways Peer Reviewer\, a vital role in helping Community Action Agencies advance their excellence practices. \nDATES: Wednesday\, December 10 and Wednesday\, December 17 \nTIME: 1 PM – 5 PM ET / 12 PM – 4 PM CT / 11 AM – 3 PM MT / 10 AM – 2 PM PT \nTRAINING TOPICS INCLUDE: \n\nCore concepts of organizational excellence and the Standards of Excellence\nHow to interpret and apply the Standards to agency practices\nStrategies for assessing alignment and identifying evidence of excellence\nTechniques for writing clear\, actionable\, and supportive feedback\n\nWHO SHOULD ATTEND: \nWe invite all Community Action Network members to attend! However\, only those who meet eligibility criteria may serve as Peer Reviewers. \nParticipants must attend both sessions and meet other criteria to be eligible to serve as a Peer Reviewer for the Pathways to Excellence program. To learn more about serving as a Peer Reviewer\, click here. \nREGISTRATION FEE: $449 per person for members. $549 per person for nonmembers. \nClick here to register.
URL:https://communityactionpartnership.com/event/pathways-to-excellence-peer-reviewer-training/2025-12-17/
CATEGORIES:CAP Events
END:VEVENT
BEGIN:VEVENT
DTSTART;TZID=UTC:20251217T140000
DTEND;TZID=UTC:20251217T150000
DTSTAMP:20260422T063059
CREATED:20250905T151444Z
LAST-MODIFIED:20250905T152645Z
UID:90843-1765980000-1765983600@communityactionpartnership.com
SUMMARY:Building Stronger Systems\, Stronger Families: Whole Family Approach Webinar Series
DESCRIPTION:This Whole Family Approach (WFA) webinar series aims to inspire\, equip\, and connect Community Action Agencies who are driving transformational changes through this approach. This 4-part webinar series will highlight real-world implementation strategies\, celebrate the progression of several members of our Regional Advanced Community of Practice and foster a learning community rooted in continuous learning and shared purpose. Together\, we’ll explore what’s possible when we center families\, align systems\, and commit to building pathways to economic mobility and well-being\, one connection at a time\, through a Whole Family Approach. \nSeptember 22\, 2025: Leading with Purpose: CAPLP’s Journey in Advancing Whole Family Work \nOctober 29\, 2025: WFA Practitioner’s Roundtable Centered on Data \nNovember 5\, 2025: Scaling WFA & Measuring What Matters \nDecember 17\, 2025: Reimagining Possibility: What WFA Can Become \nClick here to register for the webinar series.
URL:https://communityactionpartnership.com/event/building-stronger-systems-stronger-families-wfa-webinar-series/2025-12-17/
CATEGORIES:Webinars
END:VEVENT
END:VCALENDAR