BEGIN:VCALENDAR
VERSION:2.0
PRODID:-//National CAP - ECPv6.15.20//NONSGML v1.0//EN
CALSCALE:GREGORIAN
METHOD:PUBLISH
X-WR-CALNAME:National CAP
X-ORIGINAL-URL:https://communityactionpartnership.com
X-WR-CALDESC:Events for National CAP
REFRESH-INTERVAL;VALUE=DURATION:PT1H
X-Robots-Tag:noindex
X-PUBLISHED-TTL:PT1H
BEGIN:VTIMEZONE
TZID:UTC
BEGIN:STANDARD
TZOFFSETFROM:+0000
TZOFFSETTO:+0000
TZNAME:UTC
DTSTART:20240101T000000
END:STANDARD
END:VTIMEZONE
BEGIN:VEVENT
DTSTART;TZID=UTC:20250917T110000
DTEND;TZID=UTC:20250917T120000
DTSTAMP:20260421T103923
CREATED:20250908T151607Z
LAST-MODIFIED:20250908T151607Z
UID:90853-1758106800-1758110400@communityactionpartnership.com
SUMMARY:NCAP Energy Webinars: NCAP\, CAPLAW\, and WIPFLI Discussing New DOE Financial Assistance Letter: Implementation of Indirect and Fringe Benefits Cost Reimbursement
DESCRIPTION:On June 30\, 2025\, the Department of Energy (DOE) Office of Financial Assistance Regulations issued a Financial Assistance Letter (FAL) regarding the Implementation of Indirect and Fringe Benefits Cost Reimbursement Limits on Financial Assistance Awards. This is applicable to new financial assistance awards executed on or after May 8\, 2025\, including fully conditional awards\, to the following Non-Federal Entities: \n\nFor-Profit Organizations\nNonprofit Organizations\nState and Local Governments\n\nAlso\, please note that any subrecipient organization shall also adhere to the indirect cost reimbursement limitations set forth in 2 CFR 200.322. \nThe maximum amount of funds that may be paid or reimbursed to a recipient for indirect and fringe benefits costs will be calculated as a percentage of the project’s Total Award Amount. This amount will be stated as a maximum dollar value in the award terms and conditions. The percentage used to calculate the reimbursement limitations are as follows: \n\nFor-Profit Organizations: up to 15% of the Total Award Amount\nNonprofit Organizations: up to 15% of the Total Award Amount\nState and Local Governments: up to 10% of the Total Award Amount\n\nFinancial assistance awards are governed by 2 CFR 200 as adopted and supplemented by 2 CFR 910. 2 CFR 200.414(c) addresses the use of a recipient’s negotiated indirect cost rate agreement (NICRA). The percentages listed above may deviate from the recipient’s negotiated indirect cost rates specified in the award. \nClick here to read a fact sheet on the letter with FAQs. \nAdditionally\, join NCAP\, CAPLAW and WIPFLI to learn about the potential impacts the FAL will have on your local Weatherization Program. Attendees will hear from legal and fiscal experts about how grantees are responding and strategies WAP providers can implement to meet requirements\, mitigate risk\, and maintain fiscal strength long-term. \nPresenters: \n\nDenise Harlow\, NCAP CEO\nAllison Ma’luf\, CAPLAW Executive Director + General Counsel\nDenes Tobie\, CPA\, WIPFLI Partner\n\nClick here to register for the webinar.
URL:https://communityactionpartnership.com/event/ncap-energy-webinars-ncap-caplaw-and-wipfli-discussing-new-doe-financial-assistance-letter-implementation-of-indirect-and-fringe-benefits-cost-reimbursement/
CATEGORIES:Webinars
END:VEVENT
BEGIN:VEVENT
DTSTART;TZID=UTC:20250917T140000
DTEND;TZID=UTC:20250917T150000
DTSTAMP:20260421T103923
CREATED:20250911T172414Z
LAST-MODIFIED:20250911T172414Z
UID:90884-1758117600-1758121200@communityactionpartnership.com
SUMMARY:Financial Education and Wealth Generation Strategies for Economic Mobility
DESCRIPTION:Join the Collaborative on Economic Mobility for a webinar designed to equip Community Action Agencies with tools and resources to help families set financial goals\, identify wealth-building opportunities and make informed decisions for financial stability and growth. Participants will learn from Community Action Agencies who are implementing innovative approaches to address the financial challenges of families and communities. Gain insight and actionable strategies to help start or strengthen financial education and wealth generation programs that support economic mobility. \nClick here to register for the webinar.
URL:https://communityactionpartnership.com/event/financial-education-and-wealth-generation-strategies-for-economic-mobility/
CATEGORIES:Webinars
END:VEVENT
BEGIN:VEVENT
DTSTART;TZID=UTC:20250917T160000
DTEND;TZID=UTC:20250917T170000
DTSTAMP:20260421T103923
CREATED:20250911T134614Z
LAST-MODIFIED:20250911T162259Z
UID:90875-1758124800-1758128400@communityactionpartnership.com
SUMMARY:ED/CEO Roundtables: Responding to the Shifting Landscape
DESCRIPTION:Join NCAP for a continuation of the Roundtable series for current Community Action Executive Directors and CEOs. The Roundtables are designed to provide space for an engaging session where EDs and CEOs will have the opportunity to participate in confidential small group discussions with peers. \nThese Roundtables are an opportunity to discuss emerging issues\, get updates on available tools and resources\, and learn effective strategies from your peers. Roundtables are organized by areas of focus\, with broad guidelines for both discussions and audiences. EDs and CEOs are welcome to join any or all Roundtable sessions. \nRegister now to attend the Roundtables in September! \nRoundtable 1: Rural CAAs \n\nDate: Wednesday\, September 17th\nTime: 4:00pm ET | 3:00pm CT | 2:00pm MT | 1:00pm PT\n\nRoundtable 2: All CAAs \n\nDate: Thursday\, September 18th\nTime: 2:00pm ET | 1:00pm CT | 12:00pm MT | 11:00am PT\n\nPlease Note: The Roundtables are exclusively for Executive Directors and CEOs\, and pre-registration is required. \nWe value your participation and look forward to engaging in productive dialogue! \nQuestions? Contact Denise Harlow at dharlow@communityactionpartnership.com. \nClick here to register for the roundtables.
URL:https://communityactionpartnership.com/event/ed-ceo-roundtables-responding-to-the-shifting-landscape-4/2025-09-17/
CATEGORIES:Webinars
END:VEVENT
BEGIN:VEVENT
DTSTART;TZID=UTC:20250918T140000
DTEND;TZID=UTC:20250918T150000
DTSTAMP:20260421T103923
CREATED:20250911T134614Z
LAST-MODIFIED:20250911T162301Z
UID:90876-1758204000-1758207600@communityactionpartnership.com
SUMMARY:ED/CEO Roundtables: Responding to the Shifting Landscape
DESCRIPTION:Join NCAP for a continuation of the Roundtable series for current Community Action Executive Directors and CEOs. The Roundtables are designed to provide space for an engaging session where EDs and CEOs will have the opportunity to participate in confidential small group discussions with peers. \nThese Roundtables are an opportunity to discuss emerging issues\, get updates on available tools and resources\, and learn effective strategies from your peers. Roundtables are organized by areas of focus\, with broad guidelines for both discussions and audiences. EDs and CEOs are welcome to join any or all Roundtable sessions. \nRegister now to attend the Roundtables in September! \nRoundtable 1: Rural CAAs \n\nDate: Wednesday\, September 17th\nTime: 4:00pm ET | 3:00pm CT | 2:00pm MT | 1:00pm PT\n\nRoundtable 2: All CAAs \n\nDate: Thursday\, September 18th\nTime: 2:00pm ET | 1:00pm CT | 12:00pm MT | 11:00am PT\n\nPlease Note: The Roundtables are exclusively for Executive Directors and CEOs\, and pre-registration is required. \nWe value your participation and look forward to engaging in productive dialogue! \nQuestions? Contact Denise Harlow at dharlow@communityactionpartnership.com. \nClick here to register for the roundtables.
URL:https://communityactionpartnership.com/event/ed-ceo-roundtables-responding-to-the-shifting-landscape-4/2025-09-18/
CATEGORIES:Webinars
END:VEVENT
BEGIN:VEVENT
DTSTART;TZID=UTC:20250918T140000
DTEND;TZID=UTC:20250918T160000
DTSTAMP:20260421T103923
CREATED:20250428T200637Z
LAST-MODIFIED:20250429T174822Z
UID:90233-1758204000-1758211200@communityactionpartnership.com
SUMMARY:Multifamily Weatherization: Let’s Begin the Process
DESCRIPTION:This session provides a comprehensive walkthrough of the multifamily weatherization process—from early planning and property prospecting to post-installation follow-up and fiscal closeout. Designed for agencies ready to launch or expand multifamily projects\, the session focuses on setting realistic expectations\, identifying the right properties\, managing stakeholder relationships\, and ensuring successful execution at each project stage. With an emphasis on practical tools and strategic thinking\, participants will leave with a clear process roadmap\, an understanding of financial flows\, and the knowledge needed to “leave the project in better shape than at the start.” \nClick here to register.
URL:https://communityactionpartnership.com/event/multifamily-weatherization-virtual-training-series-a-practical-guide-to-expanding-impact-on-communities-2025-09-18/
CATEGORIES:Webinars
END:VEVENT
BEGIN:VEVENT
DTSTART;TZID=UTC:20250922T140000
DTEND;TZID=UTC:20250922T150000
DTSTAMP:20260421T103923
CREATED:20250905T151444Z
LAST-MODIFIED:20250905T152642Z
UID:90840-1758549600-1758553200@communityactionpartnership.com
SUMMARY:Building Stronger Systems\, Stronger Families: Whole Family Approach Webinar Series
DESCRIPTION:This Whole Family Approach (WFA) webinar series aims to inspire\, equip\, and connect Community Action Agencies who are driving transformational changes through this approach. This 4-part webinar series will highlight real-world implementation strategies\, celebrate the progression of several members of our Regional Advanced Community of Practice and foster a learning community rooted in continuous learning and shared purpose. Together\, we’ll explore what’s possible when we center families\, align systems\, and commit to building pathways to economic mobility and well-being\, one connection at a time\, through a Whole Family Approach. \nSeptember 22\, 2025: Leading with Purpose: CAPLP’s Journey in Advancing Whole Family Work \nOctober 29\, 2025: WFA Practitioner’s Roundtable Centered on Data \nNovember 5\, 2025: Scaling WFA & Measuring What Matters \nDecember 17\, 2025: Reimagining Possibility: What WFA Can Become \nClick here to register for the webinar series.
URL:https://communityactionpartnership.com/event/building-stronger-systems-stronger-families-wfa-webinar-series/2025-09-22/
CATEGORIES:Webinars
END:VEVENT
BEGIN:VEVENT
DTSTART;TZID=UTC:20250924T150000
DTEND;TZID=UTC:20250924T160000
DTSTAMP:20260421T103923
CREATED:20250911T132746Z
LAST-MODIFIED:20250911T132746Z
UID:90868-1758726000-1758729600@communityactionpartnership.com
SUMMARY:Public CAA Quarterly Call – Navigating Fall 2025
DESCRIPTION:This regular quarterly call for public CAAs (situated within units of local government) will focus on peer exchange as we approach fall 2025 amid uncertainty around federal funding and potential contract delays. Agencies will have the chance to share strategies and discuss ways to navigate the months ahead together. \nClick here to register.
URL:https://communityactionpartnership.com/event/public-caa-quarterly-call-navigating-fall-2025/
CATEGORIES:Webinars
END:VEVENT
BEGIN:VEVENT
DTSTART;TZID=UTC:20250925T100000
DTEND;TZID=UTC:20250925T110000
DTSTAMP:20260421T103923
CREATED:20250922T162341Z
LAST-MODIFIED:20250922T162401Z
UID:90971-1758794400-1758798000@communityactionpartnership.com
SUMMARY:Energy Awareness Month Toolkit Webinar
DESCRIPTION:NCAP’s 2025 Energy Awareness Month Toolkit is designed to assist you in your social media\, email\, and other outreach communication efforts all throughout October. This toolkit provides information\, talking points\, and graphic templates that express the energy needs your customers are facing\, as well as actions Community Action and other weatherization agencies are taking to address this need. Topics covered include household savings\, indoor air quality impacts\, local workforce development benefits\, Weatherization Day (October 30) and more. \nJoin us as we walk through this toolkit and provide additional tips and ideas on how to plan your Energy Awareness Month and Weatherization Day posts\, activities\, and events. \nClick here to register.
URL:https://communityactionpartnership.com/event/energy-awareness-month-toolkit-webinar/
CATEGORIES:Webinars
END:VEVENT
END:VCALENDAR