BEGIN:VCALENDAR
VERSION:2.0
PRODID:-//National CAP - ECPv6.15.20//NONSGML v1.0//EN
CALSCALE:GREGORIAN
METHOD:PUBLISH
X-WR-CALNAME:National CAP
X-ORIGINAL-URL:https://communityactionpartnership.com
X-WR-CALDESC:Events for National CAP
REFRESH-INTERVAL;VALUE=DURATION:PT1H
X-Robots-Tag:noindex
X-PUBLISHED-TTL:PT1H
BEGIN:VTIMEZONE
TZID:UTC
BEGIN:STANDARD
TZOFFSETFROM:+0000
TZOFFSETTO:+0000
TZNAME:UTC
DTSTART:20240101T000000
END:STANDARD
END:VTIMEZONE
BEGIN:VEVENT
DTSTART;TZID=UTC:20250717T140000
DTEND;TZID=UTC:20250717T160000
DTSTAMP:20260420T201648
CREATED:20250428T200637Z
LAST-MODIFIED:20250429T174604Z
UID:90231-1752760800-1752768000@communityactionpartnership.com
SUMMARY:Multifamily Weatherization: Federal & State Landscape Considerations\, Rules\, Regulations\, Guidance
DESCRIPTION:This session provides a high-level exploration of key elements related to the programmatic preparations and other related considerations to engage in Multi-Family Wx. Participants will gain insight into practical conversations and program development for successful implementation of weatherization projects in multi-family housing units. \nClick here to register.
URL:https://communityactionpartnership.com/event/multifamily-weatherization-virtual-training-series-a-practical-guide-to-expanding-impact-on-communities-2025-07-17/
CATEGORIES:Webinars
END:VEVENT
BEGIN:VEVENT
DTSTART;TZID=UTC:20250722T140000
DTEND;TZID=UTC:20250722T150000
DTSTAMP:20260420T201648
CREATED:20250429T172538Z
LAST-MODIFIED:20250429T172538Z
UID:90236-1753192800-1753196400@communityactionpartnership.com
SUMMARY:NCAP Data Hub: Deep Dive into the NCAP Data Hub Community Assessment Tool
DESCRIPTION:In this webinar\, attendees will learn to build secondary data reports for custom locations in the NCAP Data Hub’s Needs Assessment tool. Perfect for both beginners and those familiar with the tool\, this webinar will teach attendees to create custom report locations\, identify data release dates and update schedules\, and customize report results. \nAttendees should leave the webinar with the following skills: \n\nAbility to create custom locations in the Needs Assessment Tool using Pick From Map and Draw My Area features\nEnhanced knowledge of the Needs Assessment’s data sources and update schedules\nAbility to create and interpret ‘Quick Reports’ and ‘Source and Methodology Reports’\nIntroductory knowledge of the Map Room\n\nClick here to register for the webinar.
URL:https://communityactionpartnership.com/event/ncap-data-hub-deep-dive-into-the-ncap-data-hub-community-assessment-tool/
CATEGORIES:Webinars
END:VEVENT
BEGIN:VEVENT
DTSTART;TZID=UTC:20250728T133000
DTEND;TZID=UTC:20250728T143000
DTSTAMP:20260420T201648
CREATED:20250721T195739Z
LAST-MODIFIED:20250721T195739Z
UID:90610-1753709400-1753713000@communityactionpartnership.com
SUMMARY:HHS Rescinds Key Guidance: What It Could Mean for Community Action and Federal Benefits
DESCRIPTION:Join Community Action National Partners for a discussion of the U.S. Department of Health and Human Services’ (HHS’) recent notice\, which rescinds long-standing guidance interpreting the Personal Responsibility and Work Opportunity Reconciliation Act of 1996 (PRWORA). The prior guidance had established an interpretation of PRWORA that addressed when and which immigrants could receive services and benefits funded with federal HHS grant dollars. \nDuring this webinar\, we will provide a brief overview of the policy changes\, break down the legal framework behind the new notice\, and discuss the possible\, practical implications for the Community Action Network. We also want to hear from you about what questions you have and\, in particular\, how these changes will impact your communities. \nClick here to register for the webinar.
URL:https://communityactionpartnership.com/event/hhs-rescinds-key-guidance-what-it-could-mean-for-community-action-and-federal-benefits/
CATEGORIES:Webinars
END:VEVENT
BEGIN:VEVENT
DTSTART;TZID=UTC:20250730T140000
DTEND;TZID=UTC:20250730T150000
DTSTAMP:20260420T201648
CREATED:20250522T135754Z
LAST-MODIFIED:20250522T135754Z
UID:90419-1753884000-1753887600@communityactionpartnership.com
SUMMARY:Building Strong Futures: Parent and Child Outcomes for Economic Success in the Whole Family Approach
DESCRIPTION:Join us for a two-part webinar series exploring how intentional\, well-designed services for both parents and children can drive lasting economic success and break the cycle of poverty. Grounded in the Whole Family Approach (WFA)\, this series highlights how Community Action Agencies are implementing innovative strategies that meet families where they are—and move them forward. \nPart One: Workforce Development Sufficient to Achieve Economic Success\nWednesday\, June 25\, at 2 PM ET | 1 PM CT | 12 PM MT | 11 AM PT \nA key component to achieving upward mobility is economic success. Achieving economic success takes services and supports that are intensive enough and sufficient to help parents achieve stability and grow their earning potential and wealth. In this webinar\, learn how a local Community Action Agency (CAA) has developed an innovative\, strategic\, and intentional model for workforce training services that help parents achieve economic success. \nPart Two: Child Services that Advance Economic Success Through a Whole Family Approach\nWednesday\, July 30\, at 2 PM ET | 1 PM CT | 12 PM MT | 11 AM PT \nBreaking the cycle of intergenerational poverty requires that infants\, children\, and youth get the best social\, emotional\, and educational opportunities early and all along the way. Helping children of all ages get and stay on track developmentally so they can succeed as adults takes intentional planning and design on the part of WFA leaders. Hear from WFA leaders who are providing high-quality\, innovative services to children at different developmental stages and ages. \nClick here to register for the webinar series.
URL:https://communityactionpartnership.com/event/building-strong-futures-parent-and-child-outcomes-for-economic-success-in-the-whole-family-approach/2025-07-30/
CATEGORIES:Webinars
END:VEVENT
BEGIN:VEVENT
DTSTART;TZID=UTC:20250806T140000
DTEND;TZID=UTC:20250806T150000
DTSTAMP:20260420T201648
CREATED:20250729T131111Z
LAST-MODIFIED:20250729T131111Z
UID:90642-1754488800-1754492400@communityactionpartnership.com
SUMMARY:Amazon's Donation Driver Solution - an NCAP Endorsed Vendor Webinar
DESCRIPTION:Maximizing Use of Amazon’s Donation Driver: Managing donation programs can be manual\, time-consuming\, and lacking in visibility. With Donation Driver\, organizations can automate the donation process and provide a more seamless donor experience. By connecting your organization’s website\, procurement system\, and Amazon Business account\, donors can purchase items as gifts and have them shipped directly to their intended recipients.\n\nClick here to register for the webinar.
URL:https://communityactionpartnership.com/event/amazons-donation-driver-solution-an-ncap-endorsed-vendor-webinar/
CATEGORIES:Webinars
END:VEVENT
BEGIN:VEVENT
DTSTART;TZID=UTC:20250806T150000
DTEND;TZID=UTC:20250806T163000
DTSTAMP:20260420T201648
CREATED:20250717T174144Z
LAST-MODIFIED:20250728T184747Z
UID:90600-1754492400-1754497800@communityactionpartnership.com
SUMMARY:When CSBG Is a Major Share of Your CAA Budget: A Strategy Session for CAA Leaders
DESCRIPTION:CAAs that receive more than half of their funding from CSBG often face different operational considerations than their peers—particularly when it comes to planning\, sustainability\, and financial decision-making. This roundtable\, hosted by NCAP and CAPLAW with special guest Kay Sohl\, will offer space to discuss financial strategies\, identify planning considerations\, and explore practical steps agencies can take to stay prepared in a shifting funding environment. This session will offer a space for both National Partners and Community Action peers to share insights\, reflect on experience\, and explore solutions together through discussion and peer exchange. \nClick here to register for the webinar. \nThis session is designed specifically for executive and senior leaders (including CFOs and COOs) of CAAs with a high percentage of their budgets from CSBG. If this doesn’t apply to your agency\, we invite you to check out our August CEO Roundtables and other upcoming events on our Upcoming Webinars page.
URL:https://communityactionpartnership.com/event/when-csbg-is-a-major-share-of-your-caa-budget-a-strategy-session-for-caa-leaders/
CATEGORIES:Webinars
END:VEVENT
BEGIN:VEVENT
DTSTART;TZID=UTC:20250811T140000
DTEND;TZID=UTC:20250811T150000
DTSTAMP:20260420T201648
CREATED:20250807T152750Z
LAST-MODIFIED:20250807T152750Z
UID:90698-1754920800-1754924400@communityactionpartnership.com
SUMMARY:2025 Weatherization Day Webinar
DESCRIPTION:Please join NASCSP and other national partners for the 2025 Weatherization Day National Partner Webinar. During this webinar\, NASCSP will share our Weatherization Day 2025 Site Demonstration and Outreach Toolkits and the importance of recognizing the 49th Weatherization Day. Each year\, on October 30\, we celebrate WAP’s history and raise awareness about the program\, ensuring that policymakers understand the importance of WAP in local communities. \nNASCSP will be joined by the National Association of Community Action Programs\, the National Energy and Utility Affordability Coalition and the National Community Action Foundation\, as we encourage Grantees and Subgrantees to host a Weatherization Day event. \nClick here to register for the webinar.
URL:https://communityactionpartnership.com/event/2025-weatherization-day-webinar/
CATEGORIES:Webinars
END:VEVENT
BEGIN:VEVENT
DTSTART;TZID=UTC:20250812T140000
DTEND;TZID=UTC:20250812T150000
DTSTAMP:20260420T201648
CREATED:20250731T125344Z
LAST-MODIFIED:20250731T125409Z
UID:90647-1755007200-1755010800@communityactionpartnership.com
SUMMARY:ED/CEO Roundtables: Responding to the Shifting Landscape
DESCRIPTION:Join NCAP for a continuation of the Roundtable series for current Community Action Executive Directors and CEOs. The Roundtables are designed to provide space for an engaging session where EDs and CEOs will have the opportunity to participate in confidential small group discussions with peers. \nThese Roundtables are an opportunity to discuss emerging issues\, get updates on available tools and resources\, and learn effective strategies from your peers. EDs and CEOs may sign up for one or more roundtable sessions. \nRegister now to attend the Roundtables in August! \nRoundtable 1: Rural CAAs \n\nDate: Tuesday\, August 12th\nTime: 2:00pm ET | 1:00pm CT | 12:00pm MT | 11:00am PT\n\nRoundtable 2: All CAAs \n\nDate: Wednesday\, August 13th\nTime: 2:00pm ET | 1:00pm CT | 12:00pm MT | 11:00am PT\n\nPlease Note: The Roundtables are exclusively for Executive Directors and CEOs\, and pre-registration is required. \nWe value your participation and look forward to engaging in productive dialogue! \nQuestions? Contact Denise Harlow at dharlow@communityactionpartnership.com \nClick here to register.
URL:https://communityactionpartnership.com/event/ed-ceo-roundtables-responding-to-the-shifting-landscape-3/2025-08-12/
CATEGORIES:Webinars
END:VEVENT
BEGIN:VEVENT
DTSTART;TZID=UTC:20250813T140000
DTEND;TZID=UTC:20250813T150000
DTSTAMP:20260420T201648
CREATED:20250731T125344Z
LAST-MODIFIED:20250731T125409Z
UID:90648-1755093600-1755097200@communityactionpartnership.com
SUMMARY:ED/CEO Roundtables: Responding to the Shifting Landscape
DESCRIPTION:Join NCAP for a continuation of the Roundtable series for current Community Action Executive Directors and CEOs. The Roundtables are designed to provide space for an engaging session where EDs and CEOs will have the opportunity to participate in confidential small group discussions with peers. \nThese Roundtables are an opportunity to discuss emerging issues\, get updates on available tools and resources\, and learn effective strategies from your peers. EDs and CEOs may sign up for one or more roundtable sessions. \nRegister now to attend the Roundtables in August! \nRoundtable 1: Rural CAAs \n\nDate: Tuesday\, August 12th\nTime: 2:00pm ET | 1:00pm CT | 12:00pm MT | 11:00am PT\n\nRoundtable 2: All CAAs \n\nDate: Wednesday\, August 13th\nTime: 2:00pm ET | 1:00pm CT | 12:00pm MT | 11:00am PT\n\nPlease Note: The Roundtables are exclusively for Executive Directors and CEOs\, and pre-registration is required. \nWe value your participation and look forward to engaging in productive dialogue! \nQuestions? Contact Denise Harlow at dharlow@communityactionpartnership.com \nClick here to register.
URL:https://communityactionpartnership.com/event/ed-ceo-roundtables-responding-to-the-shifting-landscape-3/2025-08-13/
CATEGORIES:Webinars
END:VEVENT
BEGIN:VEVENT
DTSTART;TZID=UTC:20250814T140000
DTEND;TZID=UTC:20250814T160000
DTSTAMP:20260420T201648
CREATED:20250428T200637Z
LAST-MODIFIED:20250429T174714Z
UID:90232-1755180000-1755187200@communityactionpartnership.com
SUMMARY:Multifamily Weatherization: Scaling Internal Operations
DESCRIPTION:As multifamily weatherization projects expand; agencies must assess and evolve their internal operations to meet growing demands. This session offers a practical look at the strategies and decisions involved in scaling up—from staffing models and contractor engagement to project identification and funding allocation. Participants will explore how to structure their workforce\, build capacity through training\, and develop sustainable operational plans that go beyond the current funding landscape. Real-world considerations and long-term planning will help guide agencies toward a scalable\, mission-aligned approach to multifamily weatherization. \nClick here to register.
URL:https://communityactionpartnership.com/event/multifamily-weatherization-virtual-training-series-a-practical-guide-to-expanding-impact-on-communities-2025-08-14/
CATEGORIES:Webinars
END:VEVENT
BEGIN:VEVENT
DTSTART;TZID=UTC:20250818T140000
DTEND;TZID=UTC:20250818T150000
DTSTAMP:20260420T201648
CREATED:20250804T165211Z
LAST-MODIFIED:20250804T165211Z
UID:90670-1755525600-1755529200@communityactionpartnership.com
SUMMARY:When Your CAA’s Fiscal Year is Uncertain: What Boards Can Do Now
DESCRIPTION:Join us for a walkthrough of the new guide When Your CAA’s Upcoming Fiscal Year is Uncertain: A Guide for CAA Boards. This session will introduce key strategies boards can use to stay informed\, plan for different scenarios\, and support their agencies through changing fiscal conditions. We’ll focus on actions boards can take to help their agencies remain strong and mission-focused during uncertain times. \nClick here to register for the webinar.
URL:https://communityactionpartnership.com/event/when-your-caas-fiscal-year-is-uncertain-what-boards-can-do-now/
CATEGORIES:Webinars
END:VEVENT
BEGIN:VEVENT
DTSTART;TZID=UTC:20250820T123000
DTEND;TZID=UTC:20250820T133000
DTSTAMP:20260420T201648
CREATED:20250630T004257Z
LAST-MODIFIED:20250630T004257Z
UID:90546-1755693000-1755696600@communityactionpartnership.com
SUMMARY:Engaging & Building Family Leadership in Community Action
DESCRIPTION:Community Action Agencies have a unique role in amplifying the voices of families within their communities. This interactive webinar is designed to equip agency leaders\, advocates\, and frontline staff with strategies to cultivate meaningful family leadership. Participants will explore techniques for identifying potential family leaders\, fostering their growth\, and creating pathways for active\, engaged participation in agency decisions and community initiatives. This session will also cover key challenges and solutions for sustaining engagement\, ensuring that family leadership remains an integral and impactful part of the Community Action mission. Join NCAP staff and special guest facilitators from Alia Innovations for this timely conversation. \nClick here to register for the webinar.
URL:https://communityactionpartnership.com/event/engaging-building-family-leadership-in-community-action/
CATEGORIES:Webinars
END:VEVENT
BEGIN:VEVENT
DTSTART;TZID=UTC:20250904T130000
DTEND;TZID=UTC:20250904T140000
DTSTAMP:20260420T201648
CREATED:20250814T144528Z
LAST-MODIFIED:20250814T144528Z
UID:90731-1756990800-1756994400@communityactionpartnership.com
SUMMARY:How to Enroll and What to Expect as a CCAP Candidate
DESCRIPTION:Participants of this webinar will learn who is eligible to enroll\, tips for a successful CCAP candidacy\, process due dates\, what to expect from testing\, and more. \nNote that this session is recommended to those new to the CCAP process and first time Candidates. \nReserve your spot by clicking HERE.
URL:https://communityactionpartnership.com/event/how-to-enroll-and-what-to-expect-as-a-ccap-candidate-2/
CATEGORIES:Webinars
END:VEVENT
END:VCALENDAR