BEGIN:VCALENDAR
VERSION:2.0
PRODID:-//National CAP - ECPv6.15.20//NONSGML v1.0//EN
CALSCALE:GREGORIAN
METHOD:PUBLISH
X-WR-CALNAME:National CAP
X-ORIGINAL-URL:https://communityactionpartnership.com
X-WR-CALDESC:Events for National CAP
REFRESH-INTERVAL;VALUE=DURATION:PT1H
X-Robots-Tag:noindex
X-PUBLISHED-TTL:PT1H
BEGIN:VTIMEZONE
TZID:UTC
BEGIN:STANDARD
TZOFFSETFROM:+0000
TZOFFSETTO:+0000
TZNAME:UTC
DTSTART:20230101T000000
END:STANDARD
END:VTIMEZONE
BEGIN:VEVENT
DTSTART;TZID=UTC:20241120T140000
DTEND;TZID=UTC:20241120T150000
DTSTAMP:20260422T232826
CREATED:20241018T193128Z
LAST-MODIFIED:20241024T212705Z
UID:88760-1732111200-1732114800@communityactionpartnership.com
SUMMARY:Leading the Way for Community-Driven Health Transformation: Lessons Learned from the Vaccine Equity Project
DESCRIPTION:Join the National Community Action Partnership (NCAP) and the Association of State and Territorial Health Officials (ASTHO) in exploring insights and strategies gained from the Vaccine Equity Project and learn how to utilize new tools and resources to address health disparities\, including vaccination rates\, in your community. Discover practical approaches for community engagement\, strategic partnerships\, and evidence-based interventions that can drive meaningful change and create a sustainable framework for health equity that benefits the entire community. \nClick here to register for the webinar.
URL:https://communityactionpartnership.com/event/leading-the-way-for-community-driven-health-transformation-lessons-learned-from-the-vaccine-equity-project/
CATEGORIES:Webinars
END:VEVENT
BEGIN:VEVENT
DTSTART;TZID=UTC:20241121T140000
DTEND;TZID=UTC:20241121T150000
DTSTAMP:20260422T232826
CREATED:20241022T194916Z
LAST-MODIFIED:20241024T141751Z
UID:88811-1732197600-1732201200@communityactionpartnership.com
SUMMARY:The Solar Value Proposition: Leveraging Renewable Energy Now to Lower Your Operating Costs
DESCRIPTION:Solar energy is safe\, clean\, good for people and the environment\, yet in 2023 solar power only generated 3.9% of electricity in the United States. Why aren’t projects and panels popping up in on buildings and homes in communities everywhere? Because solar is complex… it’s new\, requires change\, and impacts industry and the economy; plus\, it requires strategy\, time\, and resources. \nThis webinar will provide insight into the roles equity\, community\, and justice play in Solar Energy. We will break down solar into bite size pieces\, discuss energy systems\, and how they can impact low-income communities\, people of color\, and high-risk populations. We will talk about eCAP- a collaboration between NCAP\, Cap Renewables\, and the Kresge Foundation to outfit CAAs with solar energy systems- and its imperative of energizing the CAA network’s influence and responses to climate shifts in our communities. Topics will include getting solar ready\, seeding resiliency hubs\, generating and sharing community energy\, and more.  \nPresenters: Kendra Baldwin (NCAP) and Laura Miranda-Brown (Cap Renewables) \nClick here to register for the webinar.
URL:https://communityactionpartnership.com/event/the-solar-value-proposition/
CATEGORIES:Webinars
END:VEVENT
BEGIN:VEVENT
DTSTART;TZID=UTC:20241203T140000
DTEND;TZID=UTC:20241203T150000
DTSTAMP:20260422T232826
CREATED:20240819T230113Z
LAST-MODIFIED:20240924T140301Z
UID:88167-1733234400-1733238000@communityactionpartnership.com
SUMMARY:Peer Data Webinar Series: A Web of Data Management Systems: What If Your Spreadsheets Talked to Each Other?
DESCRIPTION:Peer Presenter: Keenan Woods\, Ph.D\, Director of Performance Management\, United Planning Organization \nIn today’s rapidly evolving technological landscape\, the interconnectedness of data management systems stands as a pivotal strategy with multifaceted benefits. Linking these systems seamlessly enhances efficiency by facilitating streamlined access and retrieval of information\, fostering collaboration across departments or functions. This interconnected approach mitigates redundancy and promotes data accuracy\, as updates made in one system are instantly reflected in others. Furthermore\, it provides a holistic view of organizational data\, enabling informed decision-making and strategic planning. The synergy achieved through linked data management systems empowers businesses to adapt agilely to changing requirements\, ultimately driving innovation in an interconnected world. This presentation will demonstrate the relationship between multiple data systems nested in the Microsoft 365 cloud-based SharePoint system. \nClick here to register for the webinar.
URL:https://communityactionpartnership.com/event/a-web-of-data-management-systems-what-if-your-spreadsheets-talked-to-each-other/
CATEGORIES:Webinars
END:VEVENT
BEGIN:VEVENT
DTSTART;TZID=UTC:20241205T130000
DTEND;TZID=UTC:20241205T140000
DTSTAMP:20260422T232826
CREATED:20240924T141727Z
LAST-MODIFIED:20240924T141727Z
UID:88471-1733403600-1733407200@communityactionpartnership.com
SUMMARY:Navigating the Pathways to Excellence Program
DESCRIPTION:Discover what excellence means in Community Action through the lens of the Community Action Standards of Excellence. This webinar will provide an overview of the National Community Action Partnership’s Pathways to Excellence program\, addressing common questions and offering peer insights from those who have embarked on their own journey toward excellence. Learn how this program can help your agency meet the highest standards of performance and drive continuous improvement. \nClick here to register for the webinar.
URL:https://communityactionpartnership.com/event/navigating-the-pathways-to-excellence-program/
CATEGORIES:Webinars
END:VEVENT
END:VCALENDAR