BEGIN:VCALENDAR
VERSION:2.0
PRODID:-//National CAP - ECPv6.15.20//NONSGML v1.0//EN
CALSCALE:GREGORIAN
METHOD:PUBLISH
X-WR-CALNAME:National CAP
X-ORIGINAL-URL:https://communityactionpartnership.com
X-WR-CALDESC:Events for National CAP
REFRESH-INTERVAL;VALUE=DURATION:PT1H
X-Robots-Tag:noindex
X-PUBLISHED-TTL:PT1H
BEGIN:VTIMEZONE
TZID:UTC
BEGIN:STANDARD
TZOFFSETFROM:+0000
TZOFFSETTO:+0000
TZNAME:UTC
DTSTART:20230101T000000
END:STANDARD
END:VTIMEZONE
BEGIN:VEVENT
DTSTART;TZID=UTC:20241010T130000
DTEND;TZID=UTC:20241010T140000
DTSTAMP:20260422T015817
CREATED:20241001T164440Z
LAST-MODIFIED:20241001T164440Z
UID:88508-1728565200-1728568800@communityactionpartnership.com
SUMMARY:NCAP 2025-2026 Policy Priorities Listening Session I
DESCRIPTION:As NCAP begins its fourth cycle of identifying Community Action policy priorities\, the organization is continuing its deep commitment to the maximum participation of the groups most effected by which policies are highlighted – namely\, Community Action organizations and their customers. To that end\, NCAP is providing robust Network-wide feedback opportunities to ensure the resulting priorities accurately represent the Community Action perspective. \nThis public listening session will give attendees the opportunity to review current priorities and provide feedback\, including recommendations to add new policies\, update existing priorities\, and remove outdated items. NCAP staff will frame each discussion with a focus on equity considerations and how each issue affects populations and communities experiencing low incomes. \nClick here to register.
URL:https://communityactionpartnership.com/event/ncap-2025-2026-policy-priorities-listening-session-i/
CATEGORIES:Webinars
END:VEVENT
BEGIN:VEVENT
DTSTART;TZID=UTC:20241015T133000
DTEND;TZID=UTC:20241015T143000
DTSTAMP:20260422T015817
CREATED:20240606T124257Z
LAST-MODIFIED:20240606T124659Z
UID:87870-1728999000-1729002600@communityactionpartnership.com
SUMMARY:Virtual Racial Healing Circle in observance of Indigenous Peoples' Day
DESCRIPTION:In observance of Indigenous People’s Day\, join us as we take participants into a Racial Healing Circle Experience. This introductory circle will bring participants into the heart space by inviting us to tell our own stories\, to listen deeply to the stories of others by finding common ground\, and to embrace our common humanity when we see ourselves in the perceived other. When this occurs\, we build the trust that is necessary for courageous dialogue and the transformation of hearts and minds that shows up in what we say and do. This building model alternates between group conversation and one-on-one dyads\, aiming to offer a deeper practice than usual. Racial Healing Circles satisfy the unrecognized need of communal healing and shared liberation. \nClick here to register.
URL:https://communityactionpartnership.com/event/virtual-racial-healing-circle-in-observance-of-indigenous-peoples-day/
CATEGORIES:Webinars
END:VEVENT
BEGIN:VEVENT
DTSTART;TZID=UTC:20241016T140000
DTEND;TZID=UTC:20241016T150000
DTSTAMP:20260422T015817
CREATED:20240925T185938Z
LAST-MODIFIED:20240925T185938Z
UID:88476-1729087200-1729090800@communityactionpartnership.com
SUMMARY:Mobility for Families Through 2Gen Principles & Community-Driven Pathways
DESCRIPTION:People’s Equal Action and Community Effort\, Inc. (or PEACE\, Inc.\, the Community Action Agency for Onondaga County/Syracuse New York) and Kresge Foundation staff will share best practices from the Boosting Opportunities for Social and Economic Mobility for Families (BOOST) Initiative. Through community college/human service nonprofit partnerships\, BOOST used Aspen Ascend/2Gen approaches\, career pathways\, and racial equity principles to offer holistic solutions for low-income families. Focus will be placed on BOOST Syracuse\, a city tapped for transformative federal infrastructure/CHIPs Act investments and possessing some of the highest rates of poverty/child poverty in the nation. \nClick here to register for the webinar.
URL:https://communityactionpartnership.com/event/mobility-for-families-through-2gen-principles-community-driven-pathways/
CATEGORIES:Webinars
END:VEVENT
BEGIN:VEVENT
DTSTART;TZID=UTC:20241017T120000
DTEND;TZID=UTC:20241017T133000
DTSTAMP:20260422T015817
CREATED:20241007T134345Z
LAST-MODIFIED:20241007T134345Z
UID:88540-1729166400-1729171800@communityactionpartnership.com
SUMMARY:Membership Office Hours - October 17\, 2024
DESCRIPTION:NCAP membership renewal invoices will be available soon. Do you have questions about your agency’s membership status\, how to renew online\, or who from your agency can renew? Join NCAP staff during membership office hours. Click here to join.
URL:https://communityactionpartnership.com/event/membership-office-hours-october-17-2024/
CATEGORIES:Webinars
END:VEVENT
BEGIN:VEVENT
DTSTART;TZID=UTC:20241024T120000
DTEND;TZID=UTC:20241024T133000
DTSTAMP:20260422T015817
CREATED:20241007T134457Z
LAST-MODIFIED:20241007T134457Z
UID:88542-1729771200-1729776600@communityactionpartnership.com
SUMMARY:Membership Office Hours - October 24\, 2024
DESCRIPTION:NCAP membership renewal invoices will be available soon. Do you have questions about your agency’s membership status\, how to renew online\, or who from your agency can renew? Join NCAP staff during membership office hours. Click here to join.
URL:https://communityactionpartnership.com/event/membership-office-hours-october-24-2024/
CATEGORIES:Webinars
END:VEVENT
BEGIN:VEVENT
DTSTART;TZID=UTC:20241024T130000
DTEND;TZID=UTC:20241024T140000
DTSTAMP:20260422T015817
CREATED:20241011T142834Z
LAST-MODIFIED:20241011T142834Z
UID:88610-1729774800-1729778400@communityactionpartnership.com
SUMMARY:CSBG Annual Report 3.0: What’s New and How to Comment
DESCRIPTION:The Office of Community Services (OCS) has proposed significant revisions to the CSBG Annual Report. Join us to review the key updates to the CSBG Annual Report Version 3.0\, discuss NCAP’s preliminary comments\, and learn how the Community Action Network can submit feedback during the 30-day public comment period. This is an important opportunity to engage in shaping the future of the CSBG reporting framework. \nClick here to register for the webinar.
URL:https://communityactionpartnership.com/event/csbg-annual-report-3-0-whats-new-and-how-to-comment/
CATEGORIES:Webinars
END:VEVENT
BEGIN:VEVENT
DTSTART;TZID=UTC:20241024T160000
DTEND;TZID=UTC:20241024T170000
DTSTAMP:20260422T015817
CREATED:20240509T213232Z
LAST-MODIFIED:20240509T213232Z
UID:87390-1729785600-1729789200@communityactionpartnership.com
SUMMARY:60th Anniversary of Community Action Idea Generator!
DESCRIPTION:Many Community Action leaders have been hard at work planning activities to commemorate the 60th Anniversary of Community Action. Join this event to hear about some exciting and fun activities from your peers\, exchange plans\, and soak up some great ideas you can steal with zeal! \nClick here to register for the webinar.
URL:https://communityactionpartnership.com/event/60th-anniversary-of-community-action-idea-generator-2/
CATEGORIES:Webinars
END:VEVENT
BEGIN:VEVENT
DTSTART;TZID=UTC:20241028T140000
DTEND;TZID=UTC:20241028T150000
DTSTAMP:20260422T015817
CREATED:20241024T141915Z
LAST-MODIFIED:20241024T141915Z
UID:88841-1730124000-1730127600@communityactionpartnership.com
SUMMARY:NCAP Office Hours: CSBG Annual Report Version 3.0
DESCRIPTION:Join NCAP for office hours to discuss the proposed changes to the CSBG Annual Report Version 3.0. This is a chance to ask questions\, get help submitting comments\, or add your organization’s support to the national sign-on letter. NCAP staff will be available to provide guidance and answer any questions about how these changes affect your agency.\n\n\n\n\n\n\nClick here to register for the webinar.
URL:https://communityactionpartnership.com/event/ncap-office-hours-csbg-annual-report-version-3-0/
CATEGORIES:Webinars
END:VEVENT
BEGIN:VEVENT
DTSTART;TZID=UTC:20241030T140000
DTEND;TZID=UTC:20241030T150000
DTSTAMP:20260422T015817
CREATED:20240926T140800Z
LAST-MODIFIED:20240926T140800Z
UID:88483-1730296800-1730300400@communityactionpartnership.com
SUMMARY:Amazon Business Discounted Purchasing Informational Virtual Meeting Series
DESCRIPTION:The Amazon Business Nonprofit Team will provide an overview of their Community Action Agency LIHEAP pricing program\, as well as the NCAP discount program for savings on top Office\, IT\, and Head Start/Early Head Start products. \nThis webinar will include a Q&A session and participants will receive contact information from your dedicated Amazon Business Account Executive\, who will follow up to assist with account setup customizations\, such as establishing organizational guided buying policies\, enabling 501. c tax exemptions\, activating pay-by-invoice and other features. \nClick here to register for the webinar.
URL:https://communityactionpartnership.com/event/amazon-business-discounted-purchasing-informational-virtual-meeting-series/
CATEGORIES:Webinars
END:VEVENT
BEGIN:VEVENT
DTSTART;TZID=UTC:20241030T160000
DTEND;TZID=UTC:20241030T170000
DTSTAMP:20260422T015817
CREATED:20241024T142053Z
LAST-MODIFIED:20241024T142053Z
UID:88843-1730304000-1730307600@communityactionpartnership.com
SUMMARY:NCAP Office Hours: CSBG Annual Report Version 3.0
DESCRIPTION:Join NCAP for office hours to discuss the proposed changes to the CSBG Annual Report Version 3.0. This is a chance to ask questions\, get help submitting comments\, or add your organization’s support to the national sign-on letter. NCAP staff will be available to provide guidance and answer any questions about how these changes affect your agency.\n\n\n\n\n\n\nClick here to register for the webinar.
URL:https://communityactionpartnership.com/event/ncap-office-hours-csbg-annual-report-version-3-0-2/
CATEGORIES:Webinars
END:VEVENT
BEGIN:VEVENT
DTSTART;TZID=UTC:20241106T140000
DTEND;TZID=UTC:20241106T150000
DTSTAMP:20260422T015817
CREATED:20240819T225912Z
LAST-MODIFIED:20240819T225912Z
UID:88165-1730901600-1730905200@communityactionpartnership.com
SUMMARY:Peer Data Webinar Series: Navigating the Landscape of Technology and Data Systems
DESCRIPTION:Peer Presenter: Emmett Slobodzian\, Program Impact Manager\, Norwescap \nFollow a transformative journey towards enhancing efficiency and impact with non-profit resources. We delve into the quest for a tailored Customer Relationship Management software solution\, aligning with our unique needs through an RFP process. Discover how we built a system for specific needs from an out-of-the-box solution. We share insights on training tech-resistant staff\, evolving reporting capabilities\, and implementing time-saving automations\, all geared towards maximizing our mission’s success. \nClick here to register for the webinar.
URL:https://communityactionpartnership.com/event/peer-data-webinar-series-navigating-the-landscape-of-technology-and-data-systems/
CATEGORIES:Webinars
END:VEVENT
END:VCALENDAR