BEGIN:VCALENDAR
VERSION:2.0
PRODID:-//National CAP - ECPv6.15.20//NONSGML v1.0//EN
CALSCALE:GREGORIAN
METHOD:PUBLISH
X-WR-CALNAME:National CAP
X-ORIGINAL-URL:https://communityactionpartnership.com
X-WR-CALDESC:Events for National CAP
REFRESH-INTERVAL;VALUE=DURATION:PT1H
X-Robots-Tag:noindex
X-PUBLISHED-TTL:PT1H
BEGIN:VTIMEZONE
TZID:UTC
BEGIN:STANDARD
TZOFFSETFROM:+0000
TZOFFSETTO:+0000
TZNAME:UTC
DTSTART:20230101T000000
END:STANDARD
END:VTIMEZONE
BEGIN:VEVENT
DTSTART;TZID=UTC:20240617T160000
DTEND;TZID=UTC:20240617T170000
DTSTAMP:20260421T204512
CREATED:20240509T212538Z
LAST-MODIFIED:20240509T212538Z
UID:87388-1718640000-1718643600@communityactionpartnership.com
SUMMARY:60th Anniversary of Community Action Idea Generator!
DESCRIPTION:Many Community Action leaders have been hard at work planning activities to commemorate the 60th Anniversary of Community Action. Join this event to hear about some exciting and fun activities from your peers\, exchange plans\, and soak up some great ideas you can steal with zeal! \nClick here to register for the webinar.
URL:https://communityactionpartnership.com/event/60th-anniversary-of-community-action-idea-generator/
CATEGORIES:Webinars
END:VEVENT
BEGIN:VEVENT
DTSTART;TZID=UTC:20240618T130000
DTEND;TZID=UTC:20240618T140000
DTSTAMP:20260421T204512
CREATED:20240329T131218Z
LAST-MODIFIED:20240606T123124Z
UID:84007-1718715600-1718719200@communityactionpartnership.com
SUMMARY:Public CAA Quarterly Meeting - CSBG in Public CAAs
DESCRIPTION:Join our quarterly meeting to explore the broad uses and flexibility of the Community Services Block Grant (CSBG) within public Community Action Agencies. Beyond just a program\, CSBG serves as a crucial asset for supporting transformative work in communities. Discover how public CAAs effectively utilize and leverage CSBG funds to create meaningful change\, with practical examples showcasing its versatile applications. Engage in discussions with peer public CAAs and gain insights into maximizing CSBG for your community. \nNOTE: This session is specifically for public Community Action Agencies (i.e. Community Action Agencies within a local government entity\, in contrast to a nonprofit or private CAA). \nClick here to register for the meeting.
URL:https://communityactionpartnership.com/event/public-caa-quarterly-meeting-csbg-in-public-caas/
CATEGORIES:Webinars
END:VEVENT
BEGIN:VEVENT
DTSTART;TZID=UTC:20240618T150000
DTEND;TZID=UTC:20240618T160000
DTSTAMP:20260421T204512
CREATED:20240531T135828Z
LAST-MODIFIED:20240531T140601Z
UID:87601-1718722800-1718726400@communityactionpartnership.com
SUMMARY:NCAP Office Hours: CSBG Annual Report Proposed Changes Public Comments and Feedback
DESCRIPTION:The National Community Action Partnership (NCAP) is offering office hours to assist Community Action Agencies (CAAs) with submitting their public comments on the proposed changes to the CSBG Annual Report. Join us for thought partnership and technical support to ensure your feedback is effectively communicated. Take advantage of this opportunity to get personalized assistance and make your voice heard in shaping the future of our community action programs. \nClick here to register for the webinar.
URL:https://communityactionpartnership.com/event/ncap-office-hours-csbg-annual-report-proposed-changes-public-comments-and-feedback-2/
CATEGORIES:Webinars
END:VEVENT
BEGIN:VEVENT
DTSTART;TZID=UTC:20240626T140000
DTEND;TZID=UTC:20240626T150000
DTSTAMP:20260421T204512
CREATED:20240329T132053Z
LAST-MODIFIED:20240616T074915Z
UID:84009-1719410400-1719414000@communityactionpartnership.com
SUMMARY:Community Action 101
DESCRIPTION:For nearly 60 years\, Community Action has been a crucial force in tackling poverty at its roots throughout the USA\, championing community-driven solutions and advancing social and ecomoic mobility. Join us as we delve into the rich history\, innovative model\, and enduring promise of Community Action. Discover how we cultivate collaboration within communities and ignite movements for change\, shaping a future where every person thrives.\n\nClick here to register for the webinar.
URL:https://communityactionpartnership.com/event/webinar-community-action-101/
CATEGORIES:Webinars
END:VEVENT
BEGIN:VEVENT
DTSTART;TZID=UTC:20240710T140000
DTEND;TZID=UTC:20240710T150000
DTSTAMP:20260421T204512
CREATED:20240606T130431Z
LAST-MODIFIED:20240621T174613Z
UID:87878-1720620000-1720623600@communityactionpartnership.com
SUMMARY:Applied Brain and Behavioral Science for Families\, Part One: Executive Skills 101
DESCRIPTION:New Moms\, Inc. commits to applying an Executive Skills approach that builds the foundation of healthy brain architecture and future success for families. This webinar highlights barriers to goal achievement and progression\, which is essential to agencies pursuing a Whole Family Approach. Participants will gain a deeper understanding of their executive skills profile and how to use coaching sessions to define goals and monitor progress. \nClick here to register for the webinar.
URL:https://communityactionpartnership.com/event/executive-skills-101/
CATEGORIES:Webinars
END:VEVENT
BEGIN:VEVENT
DTSTART;TZID=UTC:20240717T140000
DTEND;TZID=UTC:20240717T150000
DTSTAMP:20260421T204512
CREATED:20240703T160307Z
LAST-MODIFIED:20240703T160307Z
UID:87966-1721224800-1721228400@communityactionpartnership.com
SUMMARY:CSBG Annual Report Version 2.1: Clearance Process  Update and Public Comment Opportunities
DESCRIPTION:Join the National Community Action Partnership for an important update on the CSBG Annual Report Version 2.1 clearance process\, currently in its 30-day public comment period. This webinar will cover the Office of Management and Budget clearance process\, NCAP’s comments and reflections on Version 2.1\, and review how to add your agency to the NCAP sign-on letter to the Office of Management and Budget. Register here.
URL:https://communityactionpartnership.com/event/csbg-annual-report-version-2-1-clearance-process-update-and-public-comment-opportunities/
CATEGORIES:Webinars
END:VEVENT
BEGIN:VEVENT
DTSTART;TZID=UTC:20240717T140000
DTEND;TZID=UTC:20240717T150000
DTSTAMP:20260421T204512
CREATED:20240106T123055Z
LAST-MODIFIED:20240106T123055Z
UID:83172-1721224800-1721228400@communityactionpartnership.com
SUMMARY:Managing Special Event Risks: Lay the Foundation for Safety
DESCRIPTION:A nonprofit event can provide lots of magical things: delicious food and drink\, your community’s favorite traditions (or new traditions)\, and great company. Events also bring many potential safety risks. Learn how to mitigate those and have a great event. \nClick here to register.
URL:https://communityactionpartnership.com/event/managing-special-event-risks-lay-the-foundation-for-safety/
CATEGORIES:Affiliate Events
END:VEVENT
BEGIN:VEVENT
DTSTART;TZID=UTC:20240724T140000
DTEND;TZID=UTC:20240724T150000
DTSTAMP:20260421T204512
CREATED:20240606T130154Z
LAST-MODIFIED:20240606T130154Z
UID:87874-1721829600-1721833200@communityactionpartnership.com
SUMMARY:Rapid Cycle Learning
DESCRIPTION:One of the top staff training needs that have been identified over the past 4 years is the topic of data analysis. In this session we will look at a special kind of evaluation process that has been used to test effectiveness and efficiency (outcome and process) of an intervention (service). This type of learning has been used in industry and is now being applied to human services. \nClick here to register for the webinar.
URL:https://communityactionpartnership.com/event/rapid-cycle-learning/
CATEGORIES:Webinars
END:VEVENT
BEGIN:VEVENT
DTSTART;TZID=UTC:20240726T123000
DTEND;TZID=UTC:20240726T133000
DTSTAMP:20260421T204512
CREATED:20240701T022505Z
LAST-MODIFIED:20240701T022505Z
UID:87961-1721997000-1722000600@communityactionpartnership.com
SUMMARY:NCAP Policy & Advocacy Roundtable
DESCRIPTION:Everyone’s always talking about Community Action’s history of advocacy and the public policy implications of fighting poverty. But what does that really look like? Frankly\, it’s hard to say – each person and organization in the Network guides that work through their unique priorities and actions. To that end\, the National Community Action Partnership convenes quarterly Policy and Advocacy Virtual Roundtables to facilitate informal discussions about agency and association engagement on policy and advocacy issues. All are welcome and encouraged to participate – come learn what others are doing and add your voice to the discussion! \nClick here to register for the roundtable.
URL:https://communityactionpartnership.com/event/ncap-policy-advocacy-roundtable/
CATEGORIES:Webinars
END:VEVENT
BEGIN:VEVENT
DTSTART;TZID=UTC:20240731T140000
DTEND;TZID=UTC:20240731T150000
DTSTAMP:20260421T204512
CREATED:20240606T130247Z
LAST-MODIFIED:20240606T130247Z
UID:87876-1722434400-1722438000@communityactionpartnership.com
SUMMARY:Innovative Practices Resource Roundup
DESCRIPTION:Join this webinar to learn more about the innovative practices that can break down barriers\, empower communities\, and promote social and economic mobility. This session will highlight new and improved tools designed to equip and guide Community Action leaders in the areas of implementing a Whole Family Approach\, driving Systems Change\, and advancing Health Equity. Explore practical solutions and gain tools for the journey as you continue working to change lives and improve communities. \nClick here to register for the webinar.
URL:https://communityactionpartnership.com/event/innovative-practices-resource-roundup/
CATEGORIES:Webinars
END:VEVENT
BEGIN:VEVENT
DTSTART;TZID=UTC:20240807T130000
DTEND;TZID=UTC:20240807T140000
DTSTAMP:20260421T204512
CREATED:20240726T132136Z
LAST-MODIFIED:20240726T132136Z
UID:88073-1723035600-1723039200@communityactionpartnership.com
SUMMARY:HUD Healthy Homes Weatherization Cooperation Demonstration Grants
DESCRIPTION:Join U.S. DOE WAP and HUD for an overview of the HUD Healthy Homes Weatherization Cooperation Demonstration Grant program. These three-year grants are designed to target HUD funds for Weatherized homes under specific circumstances. Subgrantees are encouraged to apply. Panelists will discuss the application process\, and showcase examples of successful collaborations\, with ample time for live Q&A. \nClick here to register for the webinar.
URL:https://communityactionpartnership.com/event/hud-healthy-homes-weatherization-cooperation-demonstration-grants/
CATEGORIES:Webinars
END:VEVENT
BEGIN:VEVENT
DTSTART;TZID=UTC:20240813T140000
DTEND;TZID=UTC:20240813T150000
DTSTAMP:20260421T204512
CREATED:20240708T201436Z
LAST-MODIFIED:20240708T201436Z
UID:87979-1723557600-1723561200@communityactionpartnership.com
SUMMARY:Public CAA Quarterly Meeting: Embracing Excellence
DESCRIPTION:Join us for our upcoming Public Community Action Agency (CAA) quarterly meeting\, where we will focus on the concept of Excellence within public Community Action Agencies (typically those situated within units of local government). We will explore strategies to go beyond mere compliance and build a culture of excellence\, including learning about benchmarks of excellence in Community Action\, facilitating continuous quality improvement\, centering ethical leadership\, and advancing professional development within your organization. We will also discuss how NCAP’s Pathways to Excellence program and the Certified Community Action Professional (CCAP) program can contribute to the growth and success of your agency and foster excellence at both the personal and organizational levels. \nClick here to register.
URL:https://communityactionpartnership.com/event/public-caa-quarterly-meeting-embracing-excellence/
CATEGORIES:Webinars
END:VEVENT
BEGIN:VEVENT
DTSTART;TZID=UTC:20240814T130000
DTEND;TZID=UTC:20240814T140000
DTSTAMP:20260421T204512
CREATED:20240809T194158Z
LAST-MODIFIED:20240809T194158Z
UID:88123-1723640400-1723644000@communityactionpartnership.com
SUMMARY:Funding Spotlight: Digital Equity Competitive Grant Program
DESCRIPTION:Join us for a network discussion about the Digital Equity Competitive Grant Program from the National Telecommunications and Information Administration. We’ll review the funding opportunity and explore various approaches and ideas for advancing digital inclusion. Connect with peers\, share insights\, and learn more about how we can collectively tackle this important issue. Learn more about the funding opportunity here. \nClick here to register for the webinar.
URL:https://communityactionpartnership.com/event/funding-spotlight-digital-equity-competitive-grant-program/
CATEGORIES:Webinars
END:VEVENT
BEGIN:VEVENT
DTSTART;TZID=UTC:20240814T140000
DTEND;TZID=UTC:20240814T150000
DTSTAMP:20260421T204512
CREATED:20240606T130625Z
LAST-MODIFIED:20240621T174528Z
UID:87880-1723644000-1723647600@communityactionpartnership.com
SUMMARY:Applied Brain and Behavioral Science for Families\, Part Two: Environmental Modifications to Reduce Friction in Whole Family Work
DESCRIPTION:An exploration of Executive Skills-informed “Environmental Modifications” that can reduce sources of stress\, create slack\, and cut financial and temporal costs for staff and families engaging in programs and in their goal progression. \nClick here to register for the webinar.
URL:https://communityactionpartnership.com/event/environmental-modifications/
CATEGORIES:Webinars
END:VEVENT
BEGIN:VEVENT
DTSTART;TZID=UTC:20240815T140000
DTEND;TZID=UTC:20240815T150000
DTSTAMP:20260421T204512
CREATED:20240809T143236Z
LAST-MODIFIED:20240809T143236Z
UID:88120-1723730400-1723734000@communityactionpartnership.com
SUMMARY:New Learning Series: Applying the Human Service Value to Advance Social and Economic Mobility
DESCRIPTION:Join the National Community Action Partnership for the launch of a new learning series on the Human Services Value Curve. The Human Services Value Curve is a tool Community Action leaders can utilize to transform programs and services. By applying this framework\, Community Action Agencies can begin to move beyond regulatory requirements and towards a more generative business model that maximizes organizational capacity and enhances outcomes for families and communities. Attend this webinar to learn more about how the Human Services Value Curve can inspire and equip your community to reimagine the path to advancing social and economic mobility. \nClick here to register for the webinar.
URL:https://communityactionpartnership.com/event/new-learning-series-applying-the-human-service-value-to-advance-social-and-economic-mobility/
CATEGORIES:Webinars
END:VEVENT
BEGIN:VEVENT
DTSTART;TZID=UTC:20240820T140000
DTEND;TZID=UTC:20240820T150000
DTSTAMP:20260421T204512
CREATED:20240719T194004Z
LAST-MODIFIED:20240719T194004Z
UID:88046-1724162400-1724166000@communityactionpartnership.com
SUMMARY:Commemorating the 60th Anniversary of the Economic Opportunity Act and the Creation of Community Action
DESCRIPTION:To commemorate the 60th anniversary of the Economic Opportunity Act\, the federal legislation launching Community Action\, the National Community Action Partnership\, and CAPLAW\, in partnership with the LBJ Presidential Library\, will host a special program featuring remarks from library representatives and historical objects from its extensive collection. \nSixty years ago\, President Lyndon B. Johnson signed the Economic Opportunity Act (EOA) of 1964\, which formed the cornerstone of the War on Poverty. The EOA came not even two months after the signing of the Civil Rights Act of 1964. The year launched an unprecedented period of executive and legislative action designed to achieve President Johnson’s vision to “elevate our national life and advance the quality of our American civilization” by ending poverty and racial injustice. \nRegister for this special program\, join others from your agency and around the Community Action Network to mark this special day\, and expand your understanding of the launch of Community Action. \nClick here to register for the webinar.
URL:https://communityactionpartnership.com/event/commemorating-the-60th-anniversary-of-the-economic-opportunity-act-and-the-creation-of-community-action/
CATEGORIES:Webinars
END:VEVENT
BEGIN:VEVENT
DTSTART;TZID=UTC:20240905T140000
DTEND;TZID=UTC:20240905T150000
DTSTAMP:20260421T204512
CREATED:20240819T152232Z
LAST-MODIFIED:20240819T152232Z
UID:88147-1725544800-1725548400@communityactionpartnership.com
SUMMARY:The Basics of the CSBG Organizational Standards
DESCRIPTION:The CSBG Organizational Standards help ensure that Community Action Agencies have the capacity needed to serve their communities well. In this webinar\, we’ll cover what the CSBG Organizational Standards are\, why they matter\, and how they help CAAs operate effectively. We’ll also share where you can find resources and get support for meeting the CSBG Organizational Standards. \nClick here to register for the webinar.
URL:https://communityactionpartnership.com/event/the-basics-of-the-csbg-organizational-standards/
CATEGORIES:Webinars
END:VEVENT
BEGIN:VEVENT
DTSTART;TZID=UTC:20240910T150000
DTEND;TZID=UTC:20240910T160000
DTSTAMP:20260421T204512
CREATED:20240909T134102Z
LAST-MODIFIED:20240909T142650Z
UID:88364-1725980400-1725984000@communityactionpartnership.com
SUMMARY:Weatherization Day National Partner Webinar
DESCRIPTION:Weatherization Day is just around the corner! Join NCAF\, NCAP\, and NASCSP to discuss Weatherization Day and provide you with toolkits to assist with site demonstrations and outreach. \nClick here to register for the webinar.
URL:https://communityactionpartnership.com/event/weatherization-day-national-partner-webinar/
CATEGORIES:Webinars
END:VEVENT
END:VCALENDAR