BEGIN:VCALENDAR
VERSION:2.0
PRODID:-//National CAP - ECPv6.15.20//NONSGML v1.0//EN
CALSCALE:GREGORIAN
METHOD:PUBLISH
X-WR-CALNAME:National CAP
X-ORIGINAL-URL:https://communityactionpartnership.com
X-WR-CALDESC:Events for National CAP
REFRESH-INTERVAL;VALUE=DURATION:PT1H
X-Robots-Tag:noindex
X-PUBLISHED-TTL:PT1H
BEGIN:VTIMEZONE
TZID:UTC
BEGIN:STANDARD
TZOFFSETFROM:+0000
TZOFFSETTO:+0000
TZNAME:UTC
DTSTART:20170101T000000
END:STANDARD
END:VTIMEZONE
BEGIN:VEVENT
DTSTART;TZID=UTC:20181128T123000
DTEND;TZID=UTC:20181128T133000
DTSTAMP:20260425T131445
CREATED:20181120T000732Z
LAST-MODIFIED:20181127T191907Z
UID:11122-1543408200-1543411800@communityactionpartnership.com
SUMMARY:Community Action and the Proposed Changes to the Public Charge Rule
DESCRIPTION:The Community Action Partnership\, the National Association for State Community Services  Programs (NASCSP)\, and CAPLAW have been following a recent initiative being pursued by the Department of Homeland Security\, which would make changes to what is referred to as the Public Charge Rule. Under the  proposed changes\, use of certain government programs would count as negative factors against legal immigrants when they apply for citizenship. Medicaid\, SNAP\, and certain housing programs are specifically called out in the proposal. CSBG\, WAP\, LIHEAP\, and Head Start are not included in the proposed rule. However\, this proposal could have spillover effects negatively impacting Community Action programs and customers. \nThe proposed rule was published in the Federal Register on October 10th\, kicking off a 60-day comment period. The National Partners will host a webinar on November 28th at 12:30 ET/11:30 CT/10:30 MT/9:30 ET. This webinar will give an overview of the proposal and will share suggested comments and templates that your agency can use to officially weigh in the proposal if you so choose. Comments on the Federal Register Notice are due December 10th. \nRegister
URL:https://communityactionpartnership.com/event/community-action-and-the-proposed-changes-to-the-public-charge-rule/
CATEGORIES:Webinars
END:VEVENT
BEGIN:VEVENT
DTSTART;TZID=UTC:20181128T140000
DTEND;TZID=UTC:20181128T153000
DTSTAMP:20260425T131445
CREATED:20180925T150947Z
LAST-MODIFIED:20180925T152619Z
UID:10449-1543413600-1543419000@communityactionpartnership.com
SUMMARY:CCAP – Candidate Data Form (CDF)
DESCRIPTION:Completing the Candidate Data Form (CDF) is the first step in the process of becoming a Certified Community Action Professional (CCAP). It is in a formatted for you to document your learning and experiences in the field of Community Action. In this webinar you can explore the parts of the CDF in great detail. You will gain valuable insights on how you can complete your own first step toward national recognition as a CCAP. \nPresenter:  Jim Lopresti\, CCAP \nProvided by the Certified Community Action Professional (CCAP) Program at National CAP \nRegister
URL:https://communityactionpartnership.com/event/webinar-wednesday-2018-11-28/
CATEGORIES:Webinars
END:VEVENT
BEGIN:VEVENT
DTSTART;TZID=UTC:20181128T150000
DTEND;TZID=UTC:20181128T163000
DTSTAMP:20260425T131445
CREATED:20181109T184249Z
LAST-MODIFIED:20181109T184249Z
UID:11040-1543417200-1543422600@communityactionpartnership.com
SUMMARY:How A Kitchen For Head Start Kids Can Become A  Social Enterprise
DESCRIPTION:Learn how operating a social enterprise can be the next step from activities your CAA is already doing.  Hear how your CAA can use an asset you already have to generate an unrestricted source of income.\nRegister
URL:https://communityactionpartnership.com/event/how-a-kitchen-for-head-start-kids-can-become-a-social-enterprise-2/
CATEGORIES:Webinars
END:VEVENT
BEGIN:VEVENT
DTSTART;TZID=UTC:20181128T150000
DTEND;TZID=UTC:20181128T163000
DTSTAMP:20260425T131445
CREATED:20180925T152737Z
LAST-MODIFIED:20180925T152737Z
UID:10474-1543417200-1543422600@communityactionpartnership.com
SUMMARY:How a Kitchen for Head Start Kids Can Become a Social Enterprise
DESCRIPTION:Utah Community Action did not plan on starting a social enterprise.  They merely wanted to provide decent food to the kids in their Head Start program.  However\, in doing so they found themselves with a facility that could be put to other uses and ended up with a social enterprise that generates substantial income for the organization every year.  Learn how they moved into economic development and the benefits to the organization and the community. \nPresenter:  Joni Clark\, Utah Community Action \nProvided by the Community Economic Development Program at National CAP \nRegister \n 
URL:https://communityactionpartnership.com/event/how-a-kitchen-for-head-start-kids-can-become-a-social-enterprise/
END:VEVENT
BEGIN:VEVENT
DTSTART;TZID=UTC:20181205T140000
DTEND;TZID=UTC:20181205T153000
DTSTAMP:20260425T131445
CREATED:20181126T215445Z
LAST-MODIFIED:20181126T215445Z
UID:11462-1544018400-1544023800@communityactionpartnership.com
SUMMARY:2019 Learning Community Kick-Off Webinar
DESCRIPTION:Join the Learning Communities Resource Center on December 5th at 2pm ET to learn about the upcoming opportunities in 2019. The webinar will introduce the 2019 Learning Community Groups\, review the application process\, and share the exciting benefits of the Learning Community. \nRegister
URL:https://communityactionpartnership.com/event/2019-learning-community-kick-off-webinar/
CATEGORIES:Webinars
END:VEVENT
BEGIN:VEVENT
DTSTART;TZID=UTC:20181219T140000
DTEND;TZID=UTC:20181219T150000
DTSTAMP:20260425T131445
CREATED:20181127T171444Z
LAST-MODIFIED:20181127T171555Z
UID:11593-1545228000-1545231600@communityactionpartnership.com
SUMMARY:The Do’s and Don’ts of Designing Leveraged Programs
DESCRIPTION:Hosted by the Weatherization Leveraged Partnerships Project at the National Community Action Partnership\, hear from Ohio Partners for Affordable Energy on the Do’s and Don’ts designing programs that leverage the WAP. Winning leveraged dollars and designing coordinated programs should be a win-win for the Weatherization Network and potential partners\, yet making sure that this design works for your program can be a challenge. With over 30 years of experience in regulatory and legislative advocacy\, program design\, and program management\, the OPAE Energy Services team has critical tips and guidance for the Weatherization Network. \nRegister
URL:https://communityactionpartnership.com/event/the-dos-and-donts-of-designing-leveraged-programs/
CATEGORIES:Webinars
END:VEVENT
BEGIN:VEVENT
DTSTART;TZID=UTC:20190109T140000
DTEND;TZID=UTC:20190109T150000
DTSTAMP:20260425T131445
CREATED:20181128T195735Z
LAST-MODIFIED:20181128T195735Z
UID:11785-1547042400-1547046000@communityactionpartnership.com
SUMMARY:CCAP- Executive Skills Portfolio (ESP)
DESCRIPTION:Submitting the Executive Skills Portfolio (ESP) is the second step in the process of becoming a Certified Community Action Professional (CCAP). The ESP is your chance to showcase your skills in doing the work of Community Action. It gives you a vehicle to show that you are a leader who understands Community Action’s vision and values. In this webinar you will get a comprehensive look at what is expected of candidates in this step toward CCAP. And you will gain insight into what the ESP evaluators address when they examine candidates’ ESP submissions. \nRegister
URL:https://communityactionpartnership.com/event/ccap-executive-skills-portfolio-esp/
CATEGORIES:Webinars
END:VEVENT
END:VCALENDAR