BEGIN:VCALENDAR
VERSION:2.0
PRODID:-//National CAP - ECPv6.15.20//NONSGML v1.0//EN
CALSCALE:GREGORIAN
METHOD:PUBLISH
X-WR-CALNAME:National CAP
X-ORIGINAL-URL:https://communityactionpartnership.com
X-WR-CALDESC:Events for National CAP
REFRESH-INTERVAL;VALUE=DURATION:PT1H
X-Robots-Tag:noindex
X-PUBLISHED-TTL:PT1H
BEGIN:VTIMEZONE
TZID:UTC
BEGIN:STANDARD
TZOFFSETFROM:+0000
TZOFFSETTO:+0000
TZNAME:UTC
DTSTART:20230101T000000
END:STANDARD
END:VTIMEZONE
BEGIN:VEVENT
DTSTART;TZID=UTC:20240402T153000
DTEND;TZID=UTC:20240402T163000
DTSTAMP:20260423T002118
CREATED:20240329T141016Z
LAST-MODIFIED:20240329T141016Z
UID:84013-1712071800-1712075400@communityactionpartnership.com
SUMMARY:National Leading Equity Cohort Informational Session
DESCRIPTION:Want to enhance your understanding of diversity\, equity\, belonging\, and justice (DEBJ) concepts? Learn how to instill dignity\, cultivate belonging\, and build power in human services delivery and organizational management? Join NCAP’s National Leading Equity Cohort! \nWant to learn more about this exciting new cohort? Join NCAP for this informational session! Click here to register for the webinar.
URL:https://communityactionpartnership.com/event/national-leading-equity-cohort-informational-session/
CATEGORIES:Webinars
END:VEVENT
BEGIN:VEVENT
DTSTART;TZID=UTC:20240403T150000
DTEND;TZID=UTC:20240403T160000
DTSTAMP:20260423T002118
CREATED:20240227T232130Z
LAST-MODIFIED:20240227T232130Z
UID:83801-1712156400-1712160000@communityactionpartnership.com
SUMMARY:Explore How Community Action Agencies Can Lead in the Renewable Energy Revolution
DESCRIPTION:NCAP\, CAP Solar and The Kresge Foundation have formed Electric CAP (eCAP). eCAP is committed to transitioning all viable Community Action locations to a sustainable future through the funding\, installation\, and management of solar + battery solutions\, offering resources to save money\, boost resiliency\, and cut emissions. \neCAP’s goal is to aggregate a Community Action wide solar portfolio to give our network the position it deserves within the national renewable energy conversation. \nWe hope you are interested in hearing more. Join us for an overview and a chance to dialogue with the experts in our field. \nThis webinar will be offered twice. Once on Wednesday\, March 6th at 2:00 ET/1:00 CT/12:00 MT/11:00 PT and again on Wednesday\, April 3rd at 3:00 ET/2:00 CT/1:00 MT/12:00 PT. The session is free\, but pre-registration is required. \nWednesday\, March 6th\, at 2:00 ET/1:00 CT/12:00 MT/11:00 PT \nWednesday\, April 3rd\, at 3:00 ET/2:00 CT/1:00 MT/12:00 PT \nPresenters: \n\nJoe Evans\, Portfolio Director and Social Investment Officer\, Social Investment Practice\, The Kresge Foundation\, Troy\, MI\nSteven Leitner\, COO\, CAP Solar\nRobert Halsch\, CEO\, Greater Bergen Community Action and CAP Solar\nLynne Algrant\, Chief Resource & Development Officer\, Greater Bergen Community Action\, Inc.\nMike Burns\, Partner\, BWB Solutions\, Woodbridge\, CT\nDenise Harlow\, CEO\, National Community Action Partnership
URL:https://communityactionpartnership.com/event/explore-how-community-action-agencies-can-lead-in-the-renewable-energy-revolution-2/
CATEGORIES:Webinars
END:VEVENT
BEGIN:VEVENT
DTSTART;TZID=UTC:20240405T150000
DTEND;TZID=UTC:20240405T160000
DTSTAMP:20260423T002118
CREATED:20240208T200854Z
LAST-MODIFIED:20240331T201431Z
UID:83580-1712329200-1712332800@communityactionpartnership.com
SUMMARY:New State Association ED/CEO Orientation (Part Two)
DESCRIPTION:NCAP will host Part 2 of the New State Association ED/CEO Orientation on Friday\, April 5\, 2024\, from 3:00 pm – 4:30 pm ET (2:00 pm – 3:30 pm CT | 1:00 pm – 2:30 pm MT | 12:00 pm – 1:30 pm PT). This conversational session is meant to orient new directors to their role within a State Association and the Community Action Network and provide new State Association directors the opportunity to connect with their peers from around the country. This session is offered as a member benefit to those with less than two years of experience in their State Association ED role. Registration is open.
URL:https://communityactionpartnership.com/event/new-state-association-ed-ceo-orientation-part-two/
CATEGORIES:CAP Events,Webinars
END:VEVENT
BEGIN:VEVENT
DTSTART;TZID=UTC:20240416T140000
DTEND;TZID=UTC:20240416T150000
DTSTAMP:20260423T002118
CREATED:20240321T181255Z
LAST-MODIFIED:20240321T181255Z
UID:83957-1713276000-1713279600@communityactionpartnership.com
SUMMARY:Centering Participant Voices in Assessing Your Impact
DESCRIPTION:This session will walk you through a process to center participant voices and experiences in assessing the impact of your program. We’ll explore a framework for using participant voice and share tips and strategies on how to gather and center participant feedback and insights in order to understand and improve program effectiveness. \nClick here to register for the webinar.
URL:https://communityactionpartnership.com/event/centering-participant-voices-in-assessing-your-impact/
CATEGORIES:Webinars
END:VEVENT
BEGIN:VEVENT
DTSTART;TZID=UTC:20240417T140000
DTEND;TZID=UTC:20240417T150000
DTSTAMP:20260423T002118
CREATED:20240405T191732Z
LAST-MODIFIED:20240405T191732Z
UID:84042-1713362400-1713366000@communityactionpartnership.com
SUMMARY:Three Part Series: Whole Family Approach 101
DESCRIPTION:Join the NCAP team for this exciting new webinar series designed for agencies interested in applying a Whole Family Approach (WFA) to serving children and the adults in their lives. Over the course of three interconnected sessions\, attendees will be grounded in the foundational concepts of WFA\, inspired by success stories from within the Community Action Network\, and empowered to begin their own WFA implementation journey. A single registration gets you access to all three sessions\, including recordings that can be watched later or shared with colleagues within your organization. All sessions will be hosted live and include time for Q&A. Don’t miss this unique opportunity! Register today! \nSession 1 – Whole Family Approach 101: Foundational Concepts \nLearn the fundamentals of Whole Family Approach – what it is and how it differs from other service delivery practices – and how it can be used to catalyze social and economic mobility for families and interrupt the intergenerational cycle of poverty. \nClick here to register for the series.
URL:https://communityactionpartnership.com/event/three-part-series-whole-family-approach-101/
CATEGORIES:Webinars
END:VEVENT
BEGIN:VEVENT
DTSTART;TZID=UTC:20240417T160000
DTEND;TZID=UTC:20240417T170000
DTSTAMP:20260423T002118
CREATED:20240412T185653Z
LAST-MODIFIED:20240412T185653Z
UID:84085-1713369600-1713373200@communityactionpartnership.com
SUMMARY:Office Hours Q&A Session for NCAP's Regional Whole Family Approach Community of Practice Application
DESCRIPTION:Do you live in Alaska\, Idaho\, Minnesota\, Montana\, North Dakota\, South Dakota\, Washington\, or Wisconsin? Are you interested in WFA but do not know where to start? Join NCAP for a Live “Office Hours: Q&A Session” for the Whole Family Approach Regional Community of Practice Application. Bring any questions you have regarding WFA and the application. Application open now! Deadline to apply is April 25\, 2024. \nClick here to register for the webinar.
URL:https://communityactionpartnership.com/event/office-hours-qa-session-for-ncaps-regional-whole-family-approach-community-of-practice-application/
CATEGORIES:Webinars
END:VEVENT
BEGIN:VEVENT
DTSTART;TZID=UTC:20240418T150000
DTEND;TZID=UTC:20240418T160000
DTSTAMP:20260423T002118
CREATED:20240329T184020Z
LAST-MODIFIED:20240329T193847Z
UID:84018-1713452400-1713456000@communityactionpartnership.com
SUMMARY:Collaborative on Economic Mobility (CEM): Regional Listening Session (Regions I\, II\, III\, V)
DESCRIPTION:Join NCAP for a series of Regional Listening Sessions to help inform and guide the efforts of the Collaborative on Economic Mobility (CEM). In partnership with the Office of Community Services\, the purpose of the Collaborative is to highlight promising practices and expand the capacity of the Community Action Network to deliver services that promote social and economic mobility. The focus areas for discussion will include: Workforce Development\, Education\, Community Asset Building\, Whole Family Approaches\, Equity\, and Innovation. Participants will have the opportunity to provide insight and perspective from a local context\, and learn more about the challenges and opportunities of others in the network. As the Collaborative moves forward\, this information will be utilized to help identify and develop high-quality tools and resources for training and technical assistance. \n(Includes the Following States and Territories: Connecticut\, Massachusetts\, Rhode Island\, New Hampshire\, Maine\, Vermont\, New Jersey\, New York\, Puerto Rico\, Virgin Islands\, Virginia\, West Virginia\, Pennsylvania\, Maryland\, Delaware\, Ohio\, Michigan\, Indiana\, Illinois\, Wisconsin\, Minnesota) \nClick here to register.
URL:https://communityactionpartnership.com/event/collaborative-on-economic-equity-cem-regional-listening-session-regions-i-ii-iii-v/
CATEGORIES:Webinars
END:VEVENT
END:VCALENDAR