BEGIN:VCALENDAR
VERSION:2.0
PRODID:-//National CAP - ECPv6.15.20//NONSGML v1.0//EN
CALSCALE:GREGORIAN
METHOD:PUBLISH
X-WR-CALNAME:National CAP
X-ORIGINAL-URL:https://communityactionpartnership.com
X-WR-CALDESC:Events for National CAP
REFRESH-INTERVAL;VALUE=DURATION:PT1H
X-Robots-Tag:noindex
X-PUBLISHED-TTL:PT1H
BEGIN:VTIMEZONE
TZID:UTC
BEGIN:STANDARD
TZOFFSETFROM:+0000
TZOFFSETTO:+0000
TZNAME:UTC
DTSTART:20230101T000000
END:STANDARD
END:VTIMEZONE
BEGIN:VEVENT
DTSTART;TZID=UTC:20240221T140000
DTEND;TZID=UTC:20240221T150000
DTSTAMP:20260423T043942
CREATED:20240102T152314Z
LAST-MODIFIED:20240102T152314Z
UID:83125-1708524000-1708527600@communityactionpartnership.com
SUMMARY:Stages of Change
DESCRIPTION:Join us for an insightful webinar on “Stages of Change” designed to empower individuals and professionals working with families to understand the dynamics of behavioral change. Explore the key stages and learn effective strategies to utilize at each stage to create a supportive environment for lasting change. Join us to take the next steps in facilitating positive transformations in your Whole Family Approach model. \nClick here to register for the webinar.
URL:https://communityactionpartnership.com/event/stages-of-change/
CATEGORIES:Webinars
END:VEVENT
BEGIN:VEVENT
DTSTART;TZID=UTC:20240221T143000
DTEND;TZID=UTC:20240221T153000
DTSTAMP:20260423T043942
CREATED:20240119T212927Z
LAST-MODIFIED:20240129T173222Z
UID:83322-1708525800-1708529400@communityactionpartnership.com
SUMMARY:Exploring the Connection: Community Action Agencies and Family Resource Centers
DESCRIPTION:This webinar will highlight the impactful work of Community Action Agencies and Family Resource Centers supporting American families. Presenters will discuss similarities and differences of the programs\, and examples of when they work in complementary or collaborative ways\, or are sometimes one and the same. \nPresenters: \n\nDenise Harlow\, Chief Executive Officer\, National Community Action Partnership\nMaria Miranda\, Early Learning Home Visitation Department Director\, El Centro De La Raza\, Washington\nDaniela Lizarraga\, Navigations Manager\, El Centro De La Raza\, Washington\nJason Wilde\, Executive Director\, Open Doors Utah\, Utah\n\nClick here to register for the webinar.
URL:https://communityactionpartnership.com/event/exploring-the-connection-community-action-agencies-and-family-resource-centers/
CATEGORIES:Webinars
END:VEVENT
BEGIN:VEVENT
DTSTART;TZID=UTC:20240227T110000
DTEND;TZID=UTC:20240227T120000
DTSTAMP:20260423T043942
CREATED:20240222T155941Z
LAST-MODIFIED:20240225T130907Z
UID:83778-1709031600-1709035200@communityactionpartnership.com
SUMMARY:Showcasing Jefferson Franklin Community Action Corp's Healthy Homes Initiative
DESCRIPTION:Missouri’s Jefferson Franklin Community Action Corporation’s Healthy Homes initiative combines multiple revenue streams to deliver comprehensive assessments and interventions to low and moderate-income homeowners and renters. Issues addressed include lead-based paint\, radon gas\, asbestos and mold\, while repairs can include windows\, doors\, gutters and roofs. Healthy Homes Coordinator\, David Leas\, will describe how JFCAC works with Weatherization and other housing programs within the agency to maximize the impact of multiple programs. \nClick here to register for the webinar.
URL:https://communityactionpartnership.com/event/jfcac-healthy-homes/
CATEGORIES:Webinars
END:VEVENT
BEGIN:VEVENT
DTSTART;TZID=UTC:20240229T130000
DTEND;TZID=UTC:20240229T140000
DTSTAMP:20260423T043942
CREATED:20240229T130831Z
LAST-MODIFIED:20240229T130831Z
UID:83807-1709211600-1709215200@communityactionpartnership.com
SUMMARY:Leveraging Federal Home Retrofit Programs for Households Aging in Place
DESCRIPTION:Please join us to learn more about federal programs that can help single-family households aging in place with needed home retrofits from the USDA\, HUD and DOE. Specific programs to be highlighted are: USDA’s rural programs such as Direct Home Loan Purchase Program and Packaging\, Site Develop Loans\, Self-Help Housing Grants\, Home Repair Loan/Grants\, and Housing Preservation Grants; HUD’s Healthy Homes and Lead Hazard Control Programs\, and DOE’s Weatherization Assistance Program. Learn how you can braid these funding sources to make the largest impact in communities you serve.\n\n\nClick here to register for the webinar.
URL:https://communityactionpartnership.com/event/leveraging-federal-home-retrofit-programs-for-households-aging-in-place/
CATEGORIES:Webinars
END:VEVENT
BEGIN:VEVENT
DTSTART;TZID=UTC:20240306T140000
DTEND;TZID=UTC:20240306T150000
DTSTAMP:20260423T043942
CREATED:20240227T231853Z
LAST-MODIFIED:20240227T231853Z
UID:83799-1709733600-1709737200@communityactionpartnership.com
SUMMARY:Explore How Community Action Agencies Can Lead in the Renewable Energy Revolution
DESCRIPTION:NCAP\, CAP Solar and The Kresge Foundation have formed Electric CAP (eCAP). eCAP is committed to transitioning all viable Community Action locations to a sustainable future through the funding\, installation\, and management of solar + battery solutions\, offering resources to save money\, boost resiliency\, and cut emissions. \neCAP’s goal is to aggregate a Community Action wide solar portfolio to give our network the position it deserves within the national renewable energy conversation. \nJoin us for an overview and a chance to dialogue with the experts in our field. \nThis webinar will be offered twice. Once on Wednesday\, March 6th at 2:00 ET/1:00 CT/12:00 MT/11:00 PT and again on Wednesday\, April 3rd at 3:00 ET/2:00 CT/1:00 MT/12:00 PT. The session is free\, but pre-registration is required. \n\nWednesday\, March 6th\, at 2:00 ET/1:00 CT/12:00 MT/11:00 PT\nWednesday\, April 3rd\, at 3:00 ET/2:00 CT/1:00 MT/12:00 PT\n\nPresenters: \n\nJoe Evans\, Portfolio Director and Social Investment Officer\, Social Investment Practice\, The Kresge Foundation\, Troy\, MI\nSteven Leitner\, COO\, CAP Solar\nRobert Halsch\, CEO\, Greater Bergen Community Action and CAP Solar\nLynne Algrant\, Chief Resource & Development Officer\, Greater Bergen Community Action\, Inc.\nMike Burns\, Partner\, BWB Solutions\, Woodbridge\, CT\nDenise Harlow\, CEO\, National Community Action Partnership
URL:https://communityactionpartnership.com/event/explore-how-community-action-agencies-can-lead-in-the-renewable-energy-revolution/
CATEGORIES:Webinars
END:VEVENT
BEGIN:VEVENT
DTSTART;TZID=UTC:20240306T140000
DTEND;TZID=UTC:20240306T150000
DTSTAMP:20260423T043942
CREATED:20240208T200725Z
LAST-MODIFIED:20240208T200725Z
UID:83578-1709733600-1709737200@communityactionpartnership.com
SUMMARY:ATTENTION 2024 CCAP CANDIDATES: Proctored Exam Webinar
DESCRIPTION:The 2024 CCAP Proctored Examination will be administered on Wednesday\, April 17.  Candidates planning to sit for the Proctored Exam are invited to join CCAP program staff for this informational tour covering what to expect before\, during and after Exam Day.  Trainers will reinforce important dates\, steps CCAP Candidates are expected to take\, and rules for Exam Day.  Participants will receive a first-hand look at the online\, Community Action Academy platform through which the Proctored Exam will be administered\, and we will leave as much time as needed to answer Candidate questions. Participation in this session is voluntary and there is no charge to participate.  If you have questions before registering\, please let us know at CCAP@CommunityActionPartnership.com.  Register through NCAP’s Member Portal\, under the EVENTS tab.
URL:https://communityactionpartnership.com/event/attention-2024-ccap-candidates-proctored-exam-webinar/
CATEGORIES:Webinars
END:VEVENT
END:VCALENDAR