BEGIN:VCALENDAR
VERSION:2.0
PRODID:-//National CAP - ECPv6.15.20//NONSGML v1.0//EN
CALSCALE:GREGORIAN
METHOD:PUBLISH
X-WR-CALNAME:National CAP
X-ORIGINAL-URL:https://communityactionpartnership.com
X-WR-CALDESC:Events for National CAP
REFRESH-INTERVAL;VALUE=DURATION:PT1H
X-Robots-Tag:noindex
X-PUBLISHED-TTL:PT1H
BEGIN:VTIMEZONE
TZID:UTC
BEGIN:STANDARD
TZOFFSETFROM:+0000
TZOFFSETTO:+0000
TZNAME:UTC
DTSTART:20220101T000000
END:STANDARD
END:VTIMEZONE
BEGIN:VEVENT
DTSTART;TZID=UTC:20231030T130000
DTEND;TZID=UTC:20231030T140000
DTSTAMP:20260423T063426
CREATED:20231020T193743Z
LAST-MODIFIED:20231020T193743Z
UID:82666-1698670800-1698674400@communityactionpartnership.com
SUMMARY:Uniform Guidance Wants Your Feedback
DESCRIPTION:Wipfli would like to invite you to an upcoming webinar\, discussing the latest round of proposed updates to the Uniform Guidance regulations – including how impactful your voice can be in the notice of proposed rule making process. \nWipfli’s team of experts has been diligently working to provide you with valuable insights into the proposed changes that could impact your organization. This is a fantastic opportunity to stay ahead of the curve with the evolving regulatory landscape. \nTo secure your spot\, please register now using the following link: Uniform Guidance Wants Your Feedback (wipfli.com) \nIf you have any questions beforehand\, feel free to reach out to tjelinek@wipfli.com.
URL:https://communityactionpartnership.com/event/uniform-guidance-wants-your-feedback/
CATEGORIES:Webinars
END:VEVENT
BEGIN:VEVENT
DTSTART;TZID=UTC:20231108T140000
DTEND;TZID=UTC:20231108T150000
DTSTAMP:20260423T063426
CREATED:20231010T134010Z
LAST-MODIFIED:20231010T134010Z
UID:82607-1699452000-1699455600@communityactionpartnership.com
SUMMARY:Your Community by the Numbers
DESCRIPTION:This workshop is designed to give data users an overview of the power of census data. During this training\, you will learn about how the Census Bureau collects and publishes data on these topics\, as well how to access and download tables and create maps. Attendees will learn about the topics and geographic level of data that can be used for planning and serving community development. This training will show data users how to find topics about the demographics\, such as age\, sex\, race\, ethnicity\, housing\, poverty\, disability\, veteran status\, employment\, and more. Participants will learn how to navigate data products such as Quick Facts\, data.census.gov\, and tools in the Data Equity product suite. \nPresenter:\nKimberly Davis\nData Dissemination Specialist\nU.S. Census Bureau \nClick here to register for the webinar. \nAfter registering\, you will receive a confirmation email containing information about joining the meeting.
URL:https://communityactionpartnership.com/event/your-community-by-the-numbers/
CATEGORIES:Webinars
END:VEVENT
BEGIN:VEVENT
DTSTART;TZID=UTC:20231113T140000
DTEND;TZID=UTC:20231113T150000
DTSTAMP:20260423T063426
CREATED:20231106T171643Z
LAST-MODIFIED:20231106T171643Z
UID:82784-1699884000-1699887600@communityactionpartnership.com
SUMMARY:IACAA Staffing Pilot Webinar
DESCRIPTION:The Ameren Illinois Energy Efficiency Program Weatherization Supplemental Staffing Initiative provides utility funds to support recruitment and training for new Weatherization staff. Implemented by Waker-Miller Energy Services\, in partnership with the Illinois Association of Community Action Agencies (IACAA) and the Illinois Department of Commerce and Economic Opportunity (DCEO)\, the three-phase pilot provided additional assessment and inspection capacity\, dedicated program staff\, and development of a permanent staffing pipeline. Panelists (LIST) will discuss the conception and launch of this innovative program\, from the initial network survey and discovery sessions to lessons learned and potential next steps. \nClick here to register for the webinar.
URL:https://communityactionpartnership.com/event/iacaa-staffing-pilot-webinar/
CATEGORIES:Webinars
END:VEVENT
BEGIN:VEVENT
DTSTART;TZID=UTC:20231114T130000
DTEND;TZID=UTC:20231114T170000
DTSTAMP:20260423T063426
CREATED:20231020T194007Z
LAST-MODIFIED:20231020T194007Z
UID:82668-1699966800-1699981200@communityactionpartnership.com
SUMMARY:Become an Official Excellence Program Peer Reviewer
DESCRIPTION:There is no better way to deepen your understanding of the Community Action Standards of Excellence while broadening your exposure to the work of Community Action Agencies implementing excellence. This eight-hour\, online training is delivered on two Tuesday afternoons: November 14 and November 28\, 1:00 – 5:00 pm (Eastern). Completion of the training requires participation both afternoons. Registration for the Pathways to Excellence Peer Reviewer Training is $449 per person and can be accessed through NCAP’s Member Portal under “Events”. \nClick here for more information about Pathways to Excellence or the Community Action Standards of Excellence. 
URL:https://communityactionpartnership.com/event/become-an-official-excellence-program-peer-reviewer/2023-11-14/
CATEGORIES:CAP Events,Webinars
END:VEVENT
BEGIN:VEVENT
DTSTART;TZID=UTC:20231116T130000
DTEND;TZID=UTC:20231116T140000
DTSTAMP:20260423T063426
CREATED:20231102T143930Z
LAST-MODIFIED:20231102T143930Z
UID:82761-1700139600-1700143200@communityactionpartnership.com
SUMMARY:SNAP E&T Third Party Partnerships – An Opportunity for Community Action Agencies
DESCRIPTION:Want to explore the potential of SNAP Employment and Training (SNAP E&T) Third Party Partnerships for your Community Action Agency? In this webinar\, NCAP and its partner the Seattle Jobs Initiative will review the power of third-party collaborations in SNAP E&T\, review how these partnerships allow CAAs to join forces with state SNAP agencies and other stakeholders to deliver essential employment and training services to SNAP recipients\, and share new training and technical assistance opportunities designed to equip agencies with the knowledge and tools necessary to increase their capacity to serve the community through SNAP E&T. Whether you’re an experienced CAA looking to expand your impact or considering entering the world of SNAP E&T\, this webinar will provide valuable insights and guidance. Don’t miss this chance to discover how your agency can become a driving force in supporting SNAP recipient economic mobility. \nClick here to register for the webinar.
URL:https://communityactionpartnership.com/event/snap-et-third-party-partnerships-an-opportunity-for-community-action-agencies/
CATEGORIES:Webinars
END:VEVENT
BEGIN:VEVENT
DTSTART;TZID=UTC:20231211T140000
DTEND;TZID=UTC:20231211T150000
DTSTAMP:20260423T063426
CREATED:20231117T175453Z
LAST-MODIFIED:20231117T200756Z
UID:82806-1702303200-1702306800@communityactionpartnership.com
SUMMARY:Community Action 101
DESCRIPTION:For nearly 60 years\, Community Action has stood as a dynamic and impactful force\, actively engaging communities to address the root causes and conditions of poverty throughout the USA. Join Denise Harlow\, CEO of the National Community Action Partnership\, for a discussion delving into our historical foundations\, the current network structure\, and opportunities for engagement in shaping the future of Community Action. \nClick here to register for the webinar.
URL:https://communityactionpartnership.com/event/community-action-101-webinar/
CATEGORIES:Webinars
END:VEVENT
BEGIN:VEVENT
DTSTART;TZID=UTC:20231213T140000
DTEND;TZID=UTC:20231213T150000
DTSTAMP:20260423T063426
CREATED:20231127T143756Z
LAST-MODIFIED:20231127T152146Z
UID:82854-1702476000-1702479600@communityactionpartnership.com
SUMMARY:Getting Ready to Commemorate Community Action’s 60th Anniversary: NCAP Toolkits\, Resources\, and More
DESCRIPTION:Join NCAP for an overview of new toolkits and resources to help the Community Action Network commemorate its 60th anniversary. \nPresenters: \n\nDenise Harlow\, Chief Executive Officer\, NCAP\nJeannie Chaffin\, Special Advisor\, NCAP\n\nClick here to register for the webinar.
URL:https://communityactionpartnership.com/event/getting-ready-to-commemorate-community-actions-60th-anniversary-ncap-toolkits-resources-and-more/
CATEGORIES:Webinars
END:VEVENT
END:VCALENDAR