BEGIN:VCALENDAR
VERSION:2.0
PRODID:-//National CAP - ECPv6.15.20//NONSGML v1.0//EN
CALSCALE:GREGORIAN
METHOD:PUBLISH
X-WR-CALNAME:National CAP
X-ORIGINAL-URL:https://communityactionpartnership.com
X-WR-CALDESC:Events for National CAP
REFRESH-INTERVAL;VALUE=DURATION:PT1H
X-Robots-Tag:noindex
X-PUBLISHED-TTL:PT1H
BEGIN:VTIMEZONE
TZID:UTC
BEGIN:STANDARD
TZOFFSETFROM:+0000
TZOFFSETTO:+0000
TZNAME:UTC
DTSTART:20220101T000000
END:STANDARD
END:VTIMEZONE
BEGIN:VEVENT
DTSTART;TZID=UTC:20230803T140000
DTEND;TZID=UTC:20230803T150000
DTSTAMP:20260423T110527
CREATED:20230730T063728Z
LAST-MODIFIED:20230730T064114Z
UID:80333-1691071200-1691074800@communityactionpartnership.com
SUMMARY:Weatherization Day Public Information Campaign Toolkit Webinar
DESCRIPTION:Join this webinar to learn about the Weatherization Day Public Information Campaign and the resources available to you. Whether the Outreach Toolkit\, Site Demonstration Toolkit\, or advice from NASCSP partners at the Community Action Partnership and the Community Action Foundation appeal to you\, this is the webinar to join! \nClick here to register.
URL:https://communityactionpartnership.com/event/weatherization-day-webinar/
CATEGORIES:Webinars
END:VEVENT
BEGIN:VEVENT
DTSTART;VALUE=DATE:20230821
DTEND;VALUE=DATE:20230826
DTSTAMP:20260423T110527
CREATED:20230217T210530Z
LAST-MODIFIED:20230217T210530Z
UID:79420-1692576000-1693007999@communityactionpartnership.com
SUMMARY:2023 Annual Convention
DESCRIPTION:Please consider joining us August 23-25 for the 2023 Annual Convention in Atlanta\, Georgia! The Annual Convention is designed to provide Community Action Agency professionals and board members the latest policy and programmatic updates as well as management and governance tools. Special emphasis will be placed on effective strategies for transforming communities and changing the lives of Community Action customers. \nClick here for more.
URL:https://communityactionpartnership.com/event/2023-annual-convention/
CATEGORIES:Annual Convention
END:VEVENT
BEGIN:VEVENT
DTSTART;TZID=UTC:20230831T140000
DTEND;TZID=UTC:20230831T150000
DTSTAMP:20260423T110527
CREATED:20230623T165920Z
LAST-MODIFIED:20230623T165920Z
UID:80175-1693490400-1693494000@communityactionpartnership.com
SUMMARY:Quarterly Public Community Action Agency Convening
DESCRIPTION:Want to connect with fellow public Community Action Agency staff from around the country? In this session NCAP will bring together public Community Action Agencies for programmatic updates\, peer learning\, and resource sharing. Gather with colleagues from across the nation to learn\, discuss\, and share! \nThis session will focus on data\, its importance\, and use within a public CAA. Come prepared to discuss challenges\, give advice\, and share best practices with fellow public CAAs! \nNOTE: This session is specifically for public Community Action Agencies (i.e. Community Action Agencies within a local government entity\, in contrast to a nonprofit or private CAA). \nClick here to register for the meeting.
URL:https://communityactionpartnership.com/event/quarterly-public-community-action-agency-convening/
CATEGORIES:Webinars
END:VEVENT
BEGIN:VEVENT
DTSTART;TZID=UTC:20230906T150000
DTEND;TZID=UTC:20230906T160000
DTSTAMP:20260423T110527
CREATED:20230714T162936Z
LAST-MODIFIED:20230714T162936Z
UID:80283-1694012400-1694016000@communityactionpartnership.com
SUMMARY:Community Action Conversations: ENERGY STAR Home Upgrade Service Provider Partnership
DESCRIPTION:The Environmental Protection Agency’s (EPA) ENERGY STAR Home Upgrade Program highlights six specific energy conservation and electrification steps consumers can take to maximize savings. Many\, such as insulation\, heat pumps\, and smart thermostats\, are common weatherization measures. EPA would like to discuss this program with WAP subgrantees to learn whether their promotional pathways\, market research and educational materials could support Weatherization. Could shoppers in key zip codes be prompted to look into Weatherization before spending their own funds? Could ENERGY STAR literature\, illustrations or videos help make client education more impactful? Attend this webinar to share your thoughts and learn more about the opportunity to be a charter partner as EPA launches this initiative. \nClick here to register for the webinar.
URL:https://communityactionpartnership.com/event/community-action-conversations-energy-star-home-upgrade-service-provider-partnership/
CATEGORIES:Webinars
END:VEVENT
BEGIN:VEVENT
DTSTART;TZID=UTC:20230907T140000
DTEND;TZID=UTC:20230907T150000
DTSTAMP:20260423T110527
CREATED:20230818T180018Z
LAST-MODIFIED:20230831T123514Z
UID:80415-1694095200-1694098800@communityactionpartnership.com
SUMMARY:Mutual Reinforcement for Two-Generation Initiatives: A New Measurement Tool
DESCRIPTION:Since 2019\, the federal government has sponsored Next Steps for Rigorous Research on Two-Generation Approaches (NS2G) to strengthen initiatives that aim to support child development and improve family economic security. One objective of the NS2G project was to develop and test a draft measure of two-generation initiative functioning. In this session\, we will share the Two Generation Mutual Reinforcement Measurement Tool that Mathematica developed\, provide a live demonstration\, discuss how you might use this tool within your agency and with your partners\, and answer any questions you have. \nPanelists: Scott Baumgartner and Kara Conroy\, Mathematica. \nClick here to register.
URL:https://communityactionpartnership.com/event/mutual-reinforcement-for-two-gen-initiatives/
CATEGORIES:Webinars
END:VEVENT
BEGIN:VEVENT
DTSTART;TZID=UTC:20230913T140000
DTEND;TZID=UTC:20230913T150000
DTSTAMP:20260423T110527
CREATED:20230818T175209Z
LAST-MODIFIED:20230818T175209Z
UID:80412-1694613600-1694617200@communityactionpartnership.com
SUMMARY:What to Expect as a CCAP Candidate
DESCRIPTION:Interested in earning Community Action’s premier\, professional credential and becoming a CERTIFIED COMMUNITY ACTION PROFESSIONAL? Join NCAP’s CCAP Staff & Commission on Wednesday\, September 13\, at 2:00 pm Eastern. Learn how to enroll and what the examination process entails. This session will also be a great update for current CCAPs interested in learning about how the program has been updated to meet the needs of Community Action in 2024 and beyond. This is a FREE event hosted by your National Community Action Partnership. \nClick here to register.
URL:https://communityactionpartnership.com/event/what-to-expect-as-a-ccap-candidate/
CATEGORIES:Webinars
END:VEVENT
BEGIN:VEVENT
DTSTART;TZID=UTC:20230920T140000
DTEND;TZID=UTC:20230920T150000
DTSTAMP:20260423T110527
CREATED:20230901T173455Z
LAST-MODIFIED:20230901T173455Z
UID:80560-1695218400-1695222000@communityactionpartnership.com
SUMMARY:Reimagining eLearning and Peer Sharing in Community Action Academy
DESCRIPTION:NCAP is reimagining eLearning and peer sharing for the Community Action Network! Coming September 2023\, NCAP’s online learning hub\, Community Action Academy will be getting new face powered by Docebo. Docebo is learning management system designed to provide the Community Action Network with modern\, robust\, and personalized learning environment. Join us to learn more about Community Action’s new learning management system! \nClick here to register for the webinar.
URL:https://communityactionpartnership.com/event/reimagining-elearning-and-peer-sharing-in-community-action-academy/
CATEGORIES:Webinars
END:VEVENT
BEGIN:VEVENT
DTSTART;TZID=UTC:20230921T140000
DTEND;TZID=UTC:20230921T150000
DTSTAMP:20260423T110527
CREATED:20230906T124603Z
LAST-MODIFIED:20230906T124603Z
UID:80677-1695304800-1695308400@communityactionpartnership.com
SUMMARY:Introduction to the NEW & IMPROVED Community Action Data Hub
DESCRIPTION:Join us for an update on the Community Action Data Hub\, a resource for Community Needs Assessments\, grant writing\, and other quantitative data needs. Learn more about how to use the recently updated multi-purpose tool\, which now includes Justice40 Environmental Justice data sets. \nClick here to register for the webinar.
URL:https://communityactionpartnership.com/event/introduction-to-the-new-improved-community-action-data-hub/
CATEGORIES:Webinars
END:VEVENT
BEGIN:VEVENT
DTSTART;TZID=UTC:20231003T140000
DTEND;TZID=UTC:20231003T150000
DTSTAMP:20260423T110527
CREATED:20230922T155155Z
LAST-MODIFIED:20230922T155155Z
UID:81549-1696341600-1696345200@communityactionpartnership.com
SUMMARY:HUD Healthy Homes & Weatherization Cooperation Demonstration Grant: Fund Announcement
DESCRIPTION:The U.S. Department of Housing and Urban Development’s Healthy Homes and Weatherization Cooperation Demonstration Notice of Funding Opportunity was released September 15th. This funding is intended to: (1) demonstrate effectives strategies for coordination between HUD’s Healthy Homes Production and DOE’s Weatherization Assistance Program (WAP) to maximize program efficiencies (2) Reduce WAP deferrals\, (3) Demonstrate sustainable models of inter-program cooperation including data sharing\, reporting\, and recruiting clients\, (4) Demonstrate effective models for the sustainable financing of coordinated healthy homes/weatherization interventions\, and (5) support the collection of data to evaluate the housing interventions conducted through inter-program coordination. HUD will provide an overview of this funding opportunity and representatives from the Indiana Housing & Community Development Authority will share their experience in applying for funds\, recruiting Weatherization subgrantee partners\, and launching their program. Attend this webinar to learn more about how this funding opportunity can help you help more families live in healthy and energy efficient homes. \nClick here to register for the webinar.
URL:https://communityactionpartnership.com/event/hud-healthy-homes-weatherization-cooperation-demonstration-grant-fund-announcement/
CATEGORIES:Webinars
END:VEVENT
BEGIN:VEVENT
DTSTART;TZID=UTC:20231004T140000
DTEND;TZID=UTC:20231004T150000
DTSTAMP:20260423T110527
CREATED:20230922T153322Z
LAST-MODIFIED:20230922T154224Z
UID:81545-1696428000-1696431600@communityactionpartnership.com
SUMMARY:Building Community Pathways to Family First Prevention Services: Partnering to Redesign the Family Engagement and Service Delivery Context
DESCRIPTION:This webinar\, presented by Chapin Hall\, will provide an overview of the prevention provisions within the Family First Prevention Services Act\, highlighting the associated opportunities\, limitations\, flexibilities\, and tensions. Community pathways to prevention services outside of the traditional child welfare service delivery context will be defined and operationalized.  Several examples of how jurisdictions are conceptualizing and implementing community pathways around the country will be shared. Opportunities for elevating community leadership in co-design and implementation processes will be elevated. \nThe objectives for the webinar include: \n\nCAA leaders will learn about the opportunities and flexibilities inherent within the Family First Prevention Services Act for reconceptualizing the prevention services delivery context.\nCAA leaders will develop an increased understanding about how jurisdictions around the country are designing and implementing community pathways to prevention services.\nCAAs will walk away with actionable insights for how community leaders can partner with child welfare system colleagues to design and implement community pathways to prevention services that are responsive to and reflective of community needs and priorities.\n\nFor more information\, please review the document\, Conceptualizing Community Pathways: Key Questions and Considerations. \nPresenter: Krista Thomas\, Senior Policy Fellow\, Chapin Hall at the University of Chicago \nClick here to register for the webinar.
URL:https://communityactionpartnership.com/event/building-community-pathways-to-family-first-prevention-services-partnering-to-redesign-the-family-engagement-and-service-delivery-context/
CATEGORIES:Webinars
END:VEVENT
END:VCALENDAR