BEGIN:VCALENDAR
VERSION:2.0
PRODID:-//National CAP - ECPv6.15.20//NONSGML v1.0//EN
CALSCALE:GREGORIAN
METHOD:PUBLISH
X-WR-CALNAME:National CAP
X-ORIGINAL-URL:https://communityactionpartnership.com
X-WR-CALDESC:Events for National CAP
REFRESH-INTERVAL;VALUE=DURATION:PT1H
X-Robots-Tag:noindex
X-PUBLISHED-TTL:PT1H
BEGIN:VTIMEZONE
TZID:UTC
BEGIN:STANDARD
TZOFFSETFROM:+0000
TZOFFSETTO:+0000
TZNAME:UTC
DTSTART:20220101T000000
END:STANDARD
END:VTIMEZONE
BEGIN:VEVENT
DTSTART;TZID=UTC:20230803T140000
DTEND;TZID=UTC:20230803T150000
DTSTAMP:20260423T051315
CREATED:20230730T063728Z
LAST-MODIFIED:20230730T064114Z
UID:80333-1691071200-1691074800@communityactionpartnership.com
SUMMARY:Weatherization Day Public Information Campaign Toolkit Webinar
DESCRIPTION:Join this webinar to learn about the Weatherization Day Public Information Campaign and the resources available to you. Whether the Outreach Toolkit\, Site Demonstration Toolkit\, or advice from NASCSP partners at the Community Action Partnership and the Community Action Foundation appeal to you\, this is the webinar to join! \nClick here to register.
URL:https://communityactionpartnership.com/event/weatherization-day-webinar/
CATEGORIES:Webinars
END:VEVENT
BEGIN:VEVENT
DTSTART;VALUE=DATE:20230821
DTEND;VALUE=DATE:20230826
DTSTAMP:20260423T051315
CREATED:20230217T210530Z
LAST-MODIFIED:20230217T210530Z
UID:79420-1692576000-1693007999@communityactionpartnership.com
SUMMARY:2023 Annual Convention
DESCRIPTION:Please consider joining us August 23-25 for the 2023 Annual Convention in Atlanta\, Georgia! The Annual Convention is designed to provide Community Action Agency professionals and board members the latest policy and programmatic updates as well as management and governance tools. Special emphasis will be placed on effective strategies for transforming communities and changing the lives of Community Action customers. \nClick here for more.
URL:https://communityactionpartnership.com/event/2023-annual-convention/
CATEGORIES:Annual Convention
END:VEVENT
END:VCALENDAR