BEGIN:VCALENDAR
VERSION:2.0
PRODID:-//National CAP - ECPv6.15.20//NONSGML v1.0//EN
CALSCALE:GREGORIAN
METHOD:PUBLISH
X-WR-CALNAME:National CAP
X-ORIGINAL-URL:https://communityactionpartnership.com
X-WR-CALDESC:Events for National CAP
REFRESH-INTERVAL;VALUE=DURATION:PT1H
X-Robots-Tag:noindex
X-PUBLISHED-TTL:PT1H
BEGIN:VTIMEZONE
TZID:UTC
BEGIN:STANDARD
TZOFFSETFROM:+0000
TZOFFSETTO:+0000
TZNAME:UTC
DTSTART:20250101T000000
END:STANDARD
END:VTIMEZONE
BEGIN:VEVENT
DTSTART;TZID=UTC:20260623T140000
DTEND;TZID=UTC:20260623T150000
DTSTAMP:20260423T160020
CREATED:20260423T154333Z
LAST-MODIFIED:20260423T154333Z
UID:92687-1782223200-1782226800@communityactionpartnership.com
SUMMARY:Walking the Walk\, Talking the Talk: Using Data Events to Amplify Customer Voice and Increase Community Engagement
DESCRIPTION:Participants will hear how Central Missouri Community Action (CMCA) uses an innovative approach to data walks that turns numbers into connections – and connections into action. Melody Vieth\, CMCA Director of Research and Data\, will share the agency’s journey from their first data walk to their current approach\, which blends data presentations with powerful storytelling from community members with lived poverty experience. This webinar will walk through the planning process\, facilitation strategies\, and lessons learned along the way. \nClick here to register for the webinar.
URL:https://communityactionpartnership.com/event/walking-the-walk-talking-the-talk-using-data-events-to-amplify-customer-voice-and-increase-community-engagement/
CATEGORIES:Webinars
END:VEVENT
BEGIN:VEVENT
DTSTART;TZID=UTC:20260715T140000
DTEND;TZID=UTC:20260715T150000
DTSTAMP:20260423T160020
CREATED:20251216T153442Z
LAST-MODIFIED:20251216T153442Z
UID:91245-1784124000-1784127600@communityactionpartnership.com
SUMMARY:Data Privacy and Retention
DESCRIPTION:The NRMC team often gets questions about access to nonprofit records—who should have it and how long records should be retained. Join us for an informative session on key tenets of data privacy and risks to consider when it comes to data retention. \nClick here to register.
URL:https://communityactionpartnership.com/event/data-privacy-and-retention/
CATEGORIES:Affiliate Events
END:VEVENT
BEGIN:VEVENT
DTSTART;TZID=UTC:20260916T140000
DTEND;TZID=UTC:20260916T150000
DTSTAMP:20260423T160020
CREATED:20251216T153559Z
LAST-MODIFIED:20251218T172518Z
UID:91247-1789567200-1789570800@communityactionpartnership.com
SUMMARY:Understanding and Calibrating Risk Appetite
DESCRIPTION:We often find nonprofit leaders and boards struggle to agree on risk appetite—the amount of risk an organization should take to achieve its mission. Discussions and disagreements about risk appetite can be healthy\, if done well! Learn how to bring different perspectives together to build consensus on your nonprofit’s risk appetite. \nClick here to register.
URL:https://communityactionpartnership.com/event/understanding-and-calibrating-risk-appetite/
CATEGORIES:Affiliate Events
END:VEVENT
BEGIN:VEVENT
DTSTART;TZID=UTC:20261110T140000
DTEND;TZID=UTC:20261110T150000
DTSTAMP:20260423T160020
CREATED:20251216T153714Z
LAST-MODIFIED:20251216T153714Z
UID:91249-1794319200-1794322800@communityactionpartnership.com
SUMMARY:Crisis Communications
DESCRIPTION:When a crisis hits\, it helps to be prepared. Learn how to develop a strong crisis communications strategy before you need it—and get tips for how to adapt it when risky situations unfold quickly. \nClick here to register.
URL:https://communityactionpartnership.com/event/crisis-communications/
CATEGORIES:Affiliate Events
END:VEVENT
END:VCALENDAR