BEGIN:VCALENDAR
VERSION:2.0
PRODID:-//National CAP - ECPv6.15.20//NONSGML v1.0//EN
CALSCALE:GREGORIAN
METHOD:PUBLISH
X-WR-CALNAME:National CAP
X-ORIGINAL-URL:https://communityactionpartnership.com
X-WR-CALDESC:Events for National CAP
REFRESH-INTERVAL;VALUE=DURATION:PT1H
X-Robots-Tag:noindex
X-PUBLISHED-TTL:PT1H
BEGIN:VTIMEZONE
TZID:UTC
BEGIN:STANDARD
TZOFFSETFROM:+0000
TZOFFSETTO:+0000
TZNAME:UTC
DTSTART:20210101T000000
END:STANDARD
END:VTIMEZONE
BEGIN:VTIMEZONE
TZID:America/New_York
BEGIN:DAYLIGHT
TZOFFSETFROM:-0500
TZOFFSETTO:-0400
TZNAME:EDT
DTSTART:20210314T070000
END:DAYLIGHT
BEGIN:STANDARD
TZOFFSETFROM:-0400
TZOFFSETTO:-0500
TZNAME:EST
DTSTART:20211107T060000
END:STANDARD
BEGIN:DAYLIGHT
TZOFFSETFROM:-0500
TZOFFSETTO:-0400
TZNAME:EDT
DTSTART:20220313T070000
END:DAYLIGHT
BEGIN:STANDARD
TZOFFSETFROM:-0400
TZOFFSETTO:-0500
TZNAME:EST
DTSTART:20221106T060000
END:STANDARD
BEGIN:DAYLIGHT
TZOFFSETFROM:-0500
TZOFFSETTO:-0400
TZNAME:EDT
DTSTART:20230312T070000
END:DAYLIGHT
BEGIN:STANDARD
TZOFFSETFROM:-0400
TZOFFSETTO:-0500
TZNAME:EST
DTSTART:20231105T060000
END:STANDARD
END:VTIMEZONE
BEGIN:VEVENT
DTSTART;TZID=UTC:20221013T140000
DTEND;TZID=UTC:20221013T150000
DTSTAMP:20260422T215334
CREATED:20220928T175009Z
LAST-MODIFIED:20220928T175009Z
UID:77050-1665669600-1665673200@communityactionpartnership.com
SUMMARY:New Weatherization Technologies and Processes
DESCRIPTION:Join the National Renewable Energy Laboratory to learn about new technologies and processes that can help grow the impact of WAP and improve implementation for staff both in the office and in the field. Building from the 2022 Continuous Improvement Workshops\, this session will address topics such as new workforce development and training technology resources that are available to the weatherization network\, digital tools to facilitate work in the field\, and software and tools for program administration. This is also an opportunity to share how your agency is innovating and finding success in these areas with DOE and the weatherization network more broadly. \nClick here to register.
URL:https://communityactionpartnership.com/event/new-weatherization-technologies-and-processes/
CATEGORIES:Webinars
END:VEVENT
BEGIN:VEVENT
DTSTART;TZID=UTC:20221013T150000
DTEND;TZID=UTC:20221013T160000
DTSTAMP:20260422T215334
CREATED:20220728T130213Z
LAST-MODIFIED:20220829T185305Z
UID:76083-1665673200-1665676800@communityactionpartnership.com
SUMMARY:Public CAA Convening
DESCRIPTION:In this moment\, public Community Action Agencies face unprecedented challenges and opportunities. In this event\, NCAP will bring together public Community Action Agencies for programmatic updates\, peer learning\, and resource sharing. Gather with colleagues from across the nation to learn\, discuss\, and share! \nThis session will focus on Community Needs Assessments (CNAs). Come prepared with your questions\, ideas\, and insights! \n*** NOTE: This session is specifically for public Community Action Agencies (i.e. Community Action Agencies within a local government entity\, in contrast to a nonprofit or private CAA). \nClick here to register.
URL:https://communityactionpartnership.com/event/public-caa-convening-2/
CATEGORIES:Webinars
END:VEVENT
BEGIN:VEVENT
DTSTART;TZID=UTC:20221019T140000
DTEND;TZID=UTC:20221019T150000
DTSTAMP:20260422T215334
CREATED:20221007T123901Z
LAST-MODIFIED:20221007T123901Z
UID:77078-1666188000-1666191600@communityactionpartnership.com
SUMMARY:Financial Empowerment Resource Roundup
DESCRIPTION:TIME: 2 PM ET | 1 PM CT | 12 PM MT | 11 AM PT \nNCAP partner\, Prosperity Now\, works to build a just and equitable economy where families and communities have the power to build and sustain generational wealth. Join NCAP for an overview of the tools and resources available to help families and communities thrive\, and an introduction to how Community Action Agencies can utilize these tools in their work to not only equip and empower families for economic recovery\, growth\, and development\, but also to impact policy and advocate for economic justice at the systemic level. \nClick here to register.
URL:https://communityactionpartnership.com/event/financial-empowerment-resource-roundup/
CATEGORIES:Webinars
END:VEVENT
BEGIN:VEVENT
DTSTART;TZID=UTC:20221020T110000
DTEND;TZID=UTC:20221020T120000
DTSTAMP:20260422T215334
CREATED:20221014T153414Z
LAST-MODIFIED:20221014T153414Z
UID:77113-1666263600-1666267200@communityactionpartnership.com
SUMMARY:NCAP Head Start Forum: Workforce Challenges
DESCRIPTION:Head Start and Early Head Start programs within Community Actions Agencies are facing unique workforce challenges. Join the National Community Action Partnership Head Start Task Force and CAPLAW for a forum to discuss the workforce issues facing CAA Head Start/EHS programs\, potential solutions\, and next steps. The forum will be focused on feedback from CAA Executive Directors and Head Start/EHS Directors and Staff\, but all Community Action Network members are welcome. \nClick here to register.
URL:https://communityactionpartnership.com/event/ncap-head-start-forum-workforce-challenges/
CATEGORIES:Webinars
END:VEVENT
BEGIN:VEVENT
DTSTART;TZID=UTC:20221020T140000
DTEND;TZID=UTC:20221020T150000
DTSTAMP:20260422T215334
CREATED:20220928T192007Z
LAST-MODIFIED:20220928T192007Z
UID:77053-1666274400-1666278000@communityactionpartnership.com
SUMMARY:Multifamily Weatherization: Opportunities and Challenges
DESCRIPTION:ICAST is a national 501c3 non-profit organization that specializes in retrofitting multifamily affordable housing properties. As a Weatherization Assistance Subgrantee\, ICAST has helped Community Action Agencies\, WAP subgrantees and State Weatherization Administrators tackle multifamily weatherization projects. ICAST was also recently awarded an Enhancement and Innovation Grant by the Department of Energy to help state administrators and WAP subgrantees target multifamily properties. \nThis session will cover the challenges to utilizing WAP funding on multifamily units including: \n\nTechnical and Logistical Challenges: Different modeling/audit requirements\, different contractor skill sets etc.\nProgrammatic Challenges: Securing cost share from owners\, income qualification guidelines\, the split incentive and working with multiple stakeholders (property owner\, property manager\, low-income client etc.)\nExperience Challenges: Has the state administrator been working with DOE on multifamily WAP projects\, is there a streamlined reporting/project methodology? Do you know how to target and outreach to multifamily properties\, as well as perform follow up education\, rather than have them come to you?\n\nThe session will also cover opportunities for working with multifamily housing including: \n\nLeveraging Additional Funding\nServing more households\nServing highly disadvantaged/underserved groups such as low income disabled individuals\, seniors and people of color which disproportionately live in multifamily housing\n\nLearning Objectives: \n\nLearn how to target multifamily properties which will be receptive to WAP\nLearn how to better talk about and secure cost share\nLearn about the resources available to help work with multifamily properties\n\nClick here to register.
URL:https://communityactionpartnership.com/event/multifamily-weatherization-opportunities-and-challenges/
CATEGORIES:Webinars
END:VEVENT
BEGIN:VEVENT
DTSTART;TZID=UTC:20221026T140000
DTEND;TZID=UTC:20221026T150000
DTSTAMP:20260422T215334
CREATED:20221018T132701Z
LAST-MODIFIED:20221020T030842Z
UID:77139-1666792800-1666796400@communityactionpartnership.com
SUMMARY:Harnessing Executive Skills for Goal Achievement
DESCRIPTION:Everyone has Executive Skills\, the 12 brain-based abilities that govern how we organize\, react\, and get things done. In this session\, participants will learn what Executive Skills are\, how they develop\, why they matter for goal achievement\, and how to integrate Executive Skills strategies into family engagement. Participants will identify their own Executive Skills\, learning how to leverage those skills to improve and accelerate their own goal progression in their work\, as well. \nClick here to register.
URL:https://communityactionpartnership.com/event/harnessing-executive-skills-for-goal-achievement/
CATEGORIES:Webinars
END:VEVENT
BEGIN:VEVENT
DTSTART;TZID=America/New_York:20221102T140000
DTEND;TZID=America/New_York:20221102T150000
DTSTAMP:20260422T215334
CREATED:20221014T131829Z
LAST-MODIFIED:20221014T131829Z
UID:77105-1667397600-1667401200@communityactionpartnership.com
SUMMARY:Using 2022 Performance to Inform 2023 Goals: Moving Towards Excellence
DESCRIPTION:With 2023 just around the corner\, now is the perfect time to evaluate your organization’s progress to inform agency goals and priorities for the new year. Partnership staff will review dynamic tools and processes you can use to reflect on organizational performance in 2022 to inform action in 2023\, including through the Community Action Standards of Excellence and organizational assessment tools available to the Community Action network. Join this webinar to learn more about these great tools and resources\, and the 2023 Pathways to Excellence cohort opportunities you can use to move your agency practices towards excellence. \nClick here to register.
URL:https://communityactionpartnership.com/event/using-2022-performance-to-inform-2023-goals-moving-towards-excellence/
CATEGORIES:CAP Events,Webinars
END:VEVENT
BEGIN:VEVENT
DTSTART;TZID=UTC:20221129T140000
DTEND;TZID=UTC:20221129T150000
DTSTAMP:20260422T215334
CREATED:20221104T160540Z
LAST-MODIFIED:20221117T131757Z
UID:78372-1669730400-1669734000@communityactionpartnership.com
SUMMARY:Harnessing Executive Skills for Goal Achievement - Part 2
DESCRIPTION:In part 2 of “Harnessing Executive Skills for Goal Achievement”\, New Moms\, Inc. commits to applying an Executive Skills approach that builds the foundation of healthy brain architecture and future success for families. This webinar highlights environmental modifications needed to remove barriers to goal achievement and progression\, which is essential to agencies pursuing a Whole Family Approach. Participants will gain a deeper understanding of their executive skills profile and how to use coaching sessions to define goals and monitor progress. Missed part 1 of “Harnessing Executive Skills for Goal Achievement”? Check it out here! \nOur partners at New Moms\, Inc. has also provided a few resources in preparation of “Harnessing Executive Skills for Goal Achievement” – Part 2. Want to know what Executive Skills you have? Take the Executive Skills Questionnaire to find of which of the 12 brain-based abilities you use every day to manage your life and achieve your goals. Now that you know your Executive Skills\, Executive Skills Definitions and Activity Worksheet to explore more! \nClick here to register.
URL:https://communityactionpartnership.com/event/harnessing-executive-skills-part-2/
CATEGORIES:Webinars
END:VEVENT
BEGIN:VEVENT
DTSTART;TZID=UTC:20221207T140000
DTEND;TZID=UTC:20221207T150000
DTSTAMP:20260422T215334
CREATED:20221114T184333Z
LAST-MODIFIED:20221114T184333Z
UID:78452-1670421600-1670425200@communityactionpartnership.com
SUMMARY:Learning Communities Resource Center Kick-Off
DESCRIPTION:TIME: 2 PM ET | 1 PM CT | 12 PM MT | 11 AM PT \nThe Learning Communities Resource Center (LCRC) is an innovation hub funded by the Community Service Block Grant (CSBG) that works with Community Action Agencies to identify effective and promising practice models that combat the causes and conditions of poverty. During this webinar we will discuss upcoming events\, resources\, and ways to get involved with the next cycle of learning communities. Upcoming focus topics will include Achieving Equitable Outcomes for Families and Exploring Tribal Partnerships. Join us to learn more! \nClick here to register.
URL:https://communityactionpartnership.com/event/learning-communities-resource-center-kick-off/
CATEGORIES:Webinars
END:VEVENT
BEGIN:VEVENT
DTSTART;TZID=UTC:20221213T140000
DTEND;TZID=UTC:20221213T150000
DTSTAMP:20260422T215334
CREATED:20221201T141853Z
LAST-MODIFIED:20221201T141853Z
UID:78542-1670940000-1670943600@communityactionpartnership.com
SUMMARY:NCAP Policy Platform National Listening Session
DESCRIPTION:TIME: 2 PM ET | 1 PM CT | 12 PM MT | 11 AM PT \nNCAP is hosting a national listening session to receive final feedback on the 2023-2024 Public Policy Platform. Over the past five months\, we have conducted listening sessions on specific policy topics. This national session will cover all policies in the current platform and allow the Network to provide feedback on the full platform. \nClick HERE to Register!
URL:https://communityactionpartnership.com/event/ncap-policy-platform-national-listening-session/
CATEGORIES:Webinars
END:VEVENT
END:VCALENDAR