BEGIN:VCALENDAR
VERSION:2.0
PRODID:-//National CAP - ECPv6.15.20//NONSGML v1.0//EN
CALSCALE:GREGORIAN
METHOD:PUBLISH
X-WR-CALNAME:National CAP
X-ORIGINAL-URL:https://communityactionpartnership.com
X-WR-CALDESC:Events for National CAP
REFRESH-INTERVAL;VALUE=DURATION:PT1H
X-Robots-Tag:noindex
X-PUBLISHED-TTL:PT1H
BEGIN:VTIMEZONE
TZID:UTC
BEGIN:STANDARD
TZOFFSETFROM:+0000
TZOFFSETTO:+0000
TZNAME:UTC
DTSTART:20210101T000000
END:STANDARD
END:VTIMEZONE
BEGIN:VTIMEZONE
TZID:Pacific/Easter
BEGIN:STANDARD
TZOFFSETFROM:-0500
TZOFFSETTO:-0600
TZNAME:-06
DTSTART:20210404T030000
END:STANDARD
BEGIN:DAYLIGHT
TZOFFSETFROM:-0600
TZOFFSETTO:-0500
TZNAME:-05
DTSTART:20210905T040000
END:DAYLIGHT
BEGIN:STANDARD
TZOFFSETFROM:-0500
TZOFFSETTO:-0600
TZNAME:-06
DTSTART:20220403T030000
END:STANDARD
BEGIN:DAYLIGHT
TZOFFSETFROM:-0600
TZOFFSETTO:-0500
TZNAME:-05
DTSTART:20220911T040000
END:DAYLIGHT
BEGIN:STANDARD
TZOFFSETFROM:-0500
TZOFFSETTO:-0600
TZNAME:-06
DTSTART:20230402T030000
END:STANDARD
BEGIN:DAYLIGHT
TZOFFSETFROM:-0600
TZOFFSETTO:-0500
TZNAME:-05
DTSTART:20230903T040000
END:DAYLIGHT
END:VTIMEZONE
BEGIN:VTIMEZONE
TZID:America/New_York
BEGIN:DAYLIGHT
TZOFFSETFROM:-0500
TZOFFSETTO:-0400
TZNAME:EDT
DTSTART:20210314T070000
END:DAYLIGHT
BEGIN:STANDARD
TZOFFSETFROM:-0400
TZOFFSETTO:-0500
TZNAME:EST
DTSTART:20211107T060000
END:STANDARD
BEGIN:DAYLIGHT
TZOFFSETFROM:-0500
TZOFFSETTO:-0400
TZNAME:EDT
DTSTART:20220313T070000
END:DAYLIGHT
BEGIN:STANDARD
TZOFFSETFROM:-0400
TZOFFSETTO:-0500
TZNAME:EST
DTSTART:20221106T060000
END:STANDARD
BEGIN:DAYLIGHT
TZOFFSETFROM:-0500
TZOFFSETTO:-0400
TZNAME:EDT
DTSTART:20230312T070000
END:DAYLIGHT
BEGIN:STANDARD
TZOFFSETFROM:-0400
TZOFFSETTO:-0500
TZNAME:EST
DTSTART:20231105T060000
END:STANDARD
END:VTIMEZONE
BEGIN:VEVENT
DTSTART;TZID=UTC:20220425T150000
DTEND;TZID=UTC:20220425T160000
DTSTAMP:20260423T110330
CREATED:20220421T170555Z
LAST-MODIFIED:20220421T170555Z
UID:72150-1650898800-1650902400@communityactionpartnership.com
SUMMARY:CARES CSBG Spending Office Hours
DESCRIPTION:MONDAY\, APRIL 25\, at 3 ET | 2 ET | 1 CT | 12 MT \nClick here to register.
URL:https://communityactionpartnership.com/event/cares-csbg-spending-office-hours-2/
CATEGORIES:Webinars
END:VEVENT
BEGIN:VEVENT
DTSTART;TZID=UTC:20220428T123000
DTEND;TZID=UTC:20220428T133000
DTSTAMP:20260423T110330
CREATED:20220408T113100Z
LAST-MODIFIED:20220408T113100Z
UID:72016-1651149000-1651152600@communityactionpartnership.com
SUMMARY:Achieving Generative Leadership through the Human Services Value Curve
DESCRIPTION:TIME: 12:30 PM ET | 11:30 AM CT | 10:30 AM MT | 9:30 AM PT \nDESCRIPTION: Join us for this deep dive to learn how the Human Services Value Curve inspires and equips leaders and policymakers of health and human services organizations\, systems\, and communities to envision and create a path for achieving better and more equitable outcomes for individuals\, families\, and communities\, as well as improve and accelerate human services social and economic value for society. \nClick here to register.
URL:https://communityactionpartnership.com/event/achieving-generative-leadership-through-the-human-services-value-curve-2/
CATEGORIES:Webinars
END:VEVENT
BEGIN:VEVENT
DTSTART;TZID=Pacific/Easter:20220503T140000
DTEND;TZID=Pacific/Easter:20220503T150000
DTSTAMP:20260423T110330
CREATED:20220311T134042Z
LAST-MODIFIED:20220311T134042Z
UID:71723-1651586400-1651590000@communityactionpartnership.com
SUMMARY:The Rising Tide of Environmental\, Social and Governance (ESG) Investing
DESCRIPTION:TIME: 2 PM ET | 1 PM CT | 12 PM MT | 11 AM PT \nEVENT DESCRIPTION: Mutual of America Financial Group\, a Partnership endorsed member and longtime supporter of Community Action\, is pleased to present a 30-minute webinar on Tuesday May 3rd at 2:00 p.m. ET\, titled The Rising Tide of Environmental\, Social and Governance (ESG) Investing\, which will provide valuable insights into the recent growth of ESG investing and considerations for retirement plan sponsors. Today\, more investors than ever want to see their investment portfolios guided by their philosophical views. You may have heard about ESG investing\, as well as socially responsible\, or green\, investing. These descriptors are used to mean the same thing: investing money in funds that align with one or more recognized ESG factors. ESG investing also considers an investment’s potential environmental and social impact as part of the selection process. To learn more\, please be sure to register here for this webinar.
URL:https://communityactionpartnership.com/event/the-rising-tide-of-environmental-social-and-governance-esg-investing/
CATEGORIES:Webinars
END:VEVENT
BEGIN:VEVENT
DTSTART;TZID=UTC:20220511T140000
DTEND;TZID=UTC:20220511T150000
DTSTAMP:20260423T110330
CREATED:20220324T192426Z
LAST-MODIFIED:20220324T192639Z
UID:71879-1652277600-1652281200@communityactionpartnership.com
SUMMARY:Advocates Assist With Utility Weatherization Funding Overhaul
DESCRIPTION:TIME: 2 PM ET | 1 PM CT | 12 PM MT | 11 AM PT \nDESCRIPTION: Duke Energy Indiana is the state’s largest electric utility\, serving 69 of 92 counties. Until recently\, Indiana WAP spent less than a quarter of the $2 million available for Duke’s Low Income Weatherization Program. Christin Willman of Indiana Community Action Association (INCAA) is joined by partners at Duke and Citizens Action Coalition to describe how they collaborated to increase administrative and health and safety funding\, increase rebate price points\, serve rental dwellings\, offer key measures such as mini-split systems and establish a designated Duke contact person. \nClick here to register.
URL:https://communityactionpartnership.com/event/advocates-assist-with-utility-weatherization-funding-overhaul/
CATEGORIES:Webinars
END:VEVENT
BEGIN:VEVENT
DTSTART;TZID=UTC:20220601T140000
DTEND;TZID=UTC:20220601T150000
DTSTAMP:20260423T110330
CREATED:20220428T150712Z
LAST-MODIFIED:20220428T150712Z
UID:72189-1654092000-1654095600@communityactionpartnership.com
SUMMARY:Delivering Low-Income Solar: Barriers and Opportunities
DESCRIPTION:Curious about how solar interacts with weatherization? With increased interest in leveraging weatherization programs to support low-income access to solar\, the National Renewable Energy Laboratory (NREL) is conducting research and analysis to understand the pathways\, barriers\, and opportunities for incorporating solar into the Weatherization Assistance Program (WAP) and Low-Income Home Energy Assistance Program (LIHEAP). Join Jeff Cook and Juliana Williams from NREL to hear about their research and preliminary findings\, and share your perspective.\n\n\nClick here to register.
URL:https://communityactionpartnership.com/event/delivering-low-income-solar-barriers-and-opportunities/
CATEGORIES:Webinars
END:VEVENT
BEGIN:VEVENT
DTSTART;TZID=UTC:20220608T140000
DTEND;TZID=UTC:20220608T150000
DTSTAMP:20260423T110330
CREATED:20220519T132608Z
LAST-MODIFIED:20220519T132608Z
UID:72331-1654696800-1654700400@communityactionpartnership.com
SUMMARY:Organizational Standards 101
DESCRIPTION:TIME: 2 PM ET | 1 PM CT | 12 PM MT | 11 AM PT \nCSBG Organizational Standards represent important minimum thresholds to ensure Community Action Agencies have the needed capacity to serve America’s communities. The full implementation of the principles and practices articulated in the Organizational Standards assures a consistent and strong CSBG network. This session will provide an overview of the Organizational Standards\, their requirements\, available resources\, and how-to tips and tricks for meeting standards (and documenting them!). \nClick here to register.
URL:https://communityactionpartnership.com/event/organizational-standards-101-2/
CATEGORIES:Webinars
END:VEVENT
BEGIN:VEVENT
DTSTART;TZID=America/New_York:20220608T140000
DTEND;TZID=America/New_York:20220608T150000
DTSTAMP:20260423T110330
CREATED:20220519T131415Z
LAST-MODIFIED:20220519T131522Z
UID:72329-1654696800-1654700400@communityactionpartnership.com
SUMMARY:Organizational Standards 101
DESCRIPTION:CSBG Organizational Standards represent important minimum thresholds to ensure Community Action Agencies have the needed capacity to serve America’s communities. The full implementation of the principles and practices articulated in the Organizational Standards assures a consistent and strong CSBG network. This session will provide an overview of the Organizational Standards\, their requirements\, available resources\, and how-to tips and tricks for meeting standards (and documenting them!). \nClick here to register.
URL:https://communityactionpartnership.com/event/organizational-standards-101/
END:VEVENT
BEGIN:VEVENT
DTSTART;TZID=UTC:20220613T120000
DTEND;TZID=UTC:20220613T130000
DTSTAMP:20260423T110330
CREATED:20220603T144004Z
LAST-MODIFIED:20220603T144004Z
UID:72422-1655121600-1655125200@communityactionpartnership.com
SUMMARY:Pediatric Vaccine Success Stories from the Field
DESCRIPTION:Hip\, hip\, hooray\, we are on our way to under five-year-old vaccinations! \nNCAP\, National Head Start Association\, CDC\, and ACF are excited to bring a webinar to the Network\, as we prepare for approval of the COVID-19 vaccine for children 6 months to five years old: \n\nCDC Vaccine Confidence and Demand Team: Learn vaccine confidence concepts and hear tips for building vaccine confidence in parents\, caregivers and your community\nSuccess Stories from the Field: Learn from sites that have been successful in promoting or partnering to provide pediatric vaccinations\nQuestions and Answers: Ask your burning questions! All presenters will be available to respond to questions following the presentations\n\nClick here to register.
URL:https://communityactionpartnership.com/event/pediatric-vaccine-success-stories-from-the-field/
CATEGORIES:Webinars
END:VEVENT
BEGIN:VEVENT
DTSTART;TZID=UTC:20220622T140000
DTEND;TZID=UTC:20220622T150000
DTSTAMP:20260423T110330
CREATED:20220428T151057Z
LAST-MODIFIED:20220428T151057Z
UID:72194-1655906400-1655910000@communityactionpartnership.com
SUMMARY:Making the Most of Low-e Storm Windows and Smart HVAC Tools
DESCRIPTION:The U.S Department of Energy has two technology campaigns that could revolutionize weatherization work: the Storm Window and Insulating Panel (SWIP) Campaign and the Smart Tools for Efficient HVAC Performance (STEP) Campaign. Modern\, high-efficiency storms are a cost-effective alternative to full window replacement at a fraction of the cost – providing air sealing\, thermal insulation\, noise reduction\, and other benefits. Smart diagnostic tools identify energy-wasting faults in residential HVAC systems by pairing a suite of digital gauges with a smart phone. Both the SWIP and STEP campaigns are national platforms to share information and recognize successes among campaign partners. In this webinar\, Pacific Northwest National Laboratory staff will describe how to implement these technologies in your work. \nClick here to register.
URL:https://communityactionpartnership.com/event/making-the-most-of-low-e-storm-windows-and-smart-hvac-tools/
CATEGORIES:Webinars
END:VEVENT
END:VCALENDAR