BEGIN:VCALENDAR
VERSION:2.0
PRODID:-//National CAP - ECPv6.15.20//NONSGML v1.0//EN
CALSCALE:GREGORIAN
METHOD:PUBLISH
X-WR-CALNAME:National CAP
X-ORIGINAL-URL:https://communityactionpartnership.com
X-WR-CALDESC:Events for National CAP
REFRESH-INTERVAL;VALUE=DURATION:PT1H
X-Robots-Tag:noindex
X-PUBLISHED-TTL:PT1H
BEGIN:VTIMEZONE
TZID:UTC
BEGIN:STANDARD
TZOFFSETFROM:+0000
TZOFFSETTO:+0000
TZNAME:UTC
DTSTART:20200101T000000
END:STANDARD
END:VTIMEZONE
BEGIN:VEVENT
DTSTART;TZID=UTC:20211118T150000
DTEND;TZID=UTC:20211118T160000
DTSTAMP:20260423T220725
CREATED:20211112T140724Z
LAST-MODIFIED:20211112T140724Z
UID:70791-1637247600-1637251200@communityactionpartnership.com
SUMMARY:Empowering Communities: Fair Districting & Community Action’s Role
DESCRIPTION:The decennial districting process is in full swing! New congressional\, legislative\, and local elected official districts are being drawn and some have already been finalized. At the Partnership\, our Fair Districting project is up and running\, ready to assist the Network as it engages on this issue. Join NCAP staff and our subject matter experts to get an overview of the districting process\, learn how to find information on how the process works in your state and community\, and what role our Network can play in this crucial process. \nClick here to register for the webinar.
URL:https://communityactionpartnership.com/event/empowering-communities-fair-districting-community-actions-role/
CATEGORIES:Webinars
END:VEVENT
BEGIN:VEVENT
DTSTART;TZID=UTC:20211214T150000
DTEND;TZID=UTC:20211214T160000
DTSTAMP:20260423T220725
CREATED:20211130T214044Z
LAST-MODIFIED:20211130T215424Z
UID:70862-1639494000-1639497600@communityactionpartnership.com
SUMMARY:CCAP Candidate Data Form (CDF) Guidance
DESCRIPTION:Presented by CCAP Commissioners Tiffany Keimig and Charles McCann: \nCompleting the Candidate Data Form (CDF) is the first step in the process of becoming a Certified Community Action Professional (CCAP). It is formatted for you to document your education and learning and experiences in the field of Community Action. In this webinar you will explore each part of the CDF in great detail and gain valuable insights on how you can complete your own first step toward national recognition as a CCAP. \nClick here to register.
URL:https://communityactionpartnership.com/event/ccap-candidate-data-form-cdf-guidance/
CATEGORIES:Webinars
END:VEVENT
BEGIN:VEVENT
DTSTART;TZID=UTC:20211214T160000
DTEND;TZID=UTC:20211214T170000
DTSTAMP:20260423T220725
CREATED:20211115T163844Z
LAST-MODIFIED:20211115T163844Z
UID:70800-1639497600-1639501200@communityactionpartnership.com
SUMMARY:Introduction to Community Action
DESCRIPTION:The Community Action Network serves 99% of America’s counties providing life-changing services that build pathways to opportunity. And while we reject the one size fits all solution to poverty\, there are core Community Action ingredients that are part of our makeup today and have been since Day 1. Join NCAP CEO Denise Harlow for a discussion on the core elements of Community Action and how we embed our history into today. \nClick here to register.
URL:https://communityactionpartnership.com/event/introduction-to-community-action/
CATEGORIES:Webinars
END:VEVENT
BEGIN:VEVENT
DTSTART;TZID=UTC:20211222T140000
DTEND;TZID=UTC:20211222T150000
DTSTAMP:20260423T220725
CREATED:20211123T160422Z
LAST-MODIFIED:20211123T163028Z
UID:70843-1640181600-1640185200@communityactionpartnership.com
SUMMARY:Stacking Weatherization Funds With Habitat For Humanity
DESCRIPTION:Habitat for Humanity of Omaha is the Weatherization Subgrantee for Douglas County\, NE\, which encompasses both urban and rural territory in the greater Omaha region. Weatherization is housed within Habitat’s home improvement portfolio\, so clients come from multiple intake pathways. Danyelle Baratta\, Senior Manager of Home Improvement Programs\, describes how they identify clients\, how they interact with Habitat’s home repair loan programs\, and how they “stack” DOE\, LIHEAP\, utility\, and foundation funds to maximize the weatherization & energy efficiency work they can perform on each project. \nClick here to register.
URL:https://communityactionpartnership.com/event/stacking-weatherization-funds-with-habitat-for-humanity/
CATEGORIES:Webinars
END:VEVENT
BEGIN:VEVENT
DTSTART;TZID=UTC:20220112T140000
DTEND;TZID=UTC:20220112T150000
DTSTAMP:20260423T220725
CREATED:20220107T173519Z
LAST-MODIFIED:20220107T173714Z
UID:70984-1641996000-1641999600@communityactionpartnership.com
SUMMARY:Reflections — with Ken Ackerman of Virtual CAP
DESCRIPTION:CAFCA’s Deb Polun will interview longtime Community Action network friend and partner Ken Ackerman\, for reflections on his years in Community Action\, and what he thinks lies ahead for our Promise. \nClick here to register for the webinar.
URL:https://communityactionpartnership.com/event/reflections-with-ken-ackerman/
CATEGORIES:Webinars
END:VEVENT
BEGIN:VEVENT
DTSTART;TZID=UTC:20220112T140000
DTEND;TZID=UTC:20220112T150000
DTSTAMP:20260423T220725
CREATED:20211216T183437Z
LAST-MODIFIED:20211216T183437Z
UID:70928-1641996000-1641999600@communityactionpartnership.com
SUMMARY:Learning Communities Resource Center 2022 Kickoff Webinar
DESCRIPTION:Join the National Partnership team to learn more about how to get involved with the Learning Communities Resource Center (LCRC) as we launch the next cycle of sharing and learning opportunities for the Community Action CSBG Network. LCRC is an innovation hub that works with CAAs to identify effective\, promising\, and innovative practice models that combat the causes and conditions of poverty. Participating individuals and agencies are given the opportunity to develop innovative anti-poverty approaches\, improve programs\, and sharpen service-delivery strategies specific to the needs of local communities. Join a network of organizations and leaders who have been given the tools to launch impactful and lasting transformations through participation in these sharing and learning cohorts! During the webinar we will discuss upcoming events\, cohort topics\, new resources\, and application process questions. \nClick here to register for the webinar.
URL:https://communityactionpartnership.com/event/learning-communities-resource-center-2022-kickoff-webinar/
CATEGORIES:Webinars
END:VEVENT
END:VCALENDAR