BEGIN:VCALENDAR
VERSION:2.0
PRODID:-//National CAP - ECPv6.15.20//NONSGML v1.0//EN
CALSCALE:GREGORIAN
METHOD:PUBLISH
X-WR-CALNAME:National CAP
X-ORIGINAL-URL:https://communityactionpartnership.com
X-WR-CALDESC:Events for National CAP
REFRESH-INTERVAL;VALUE=DURATION:PT1H
X-Robots-Tag:noindex
X-PUBLISHED-TTL:PT1H
BEGIN:VTIMEZONE
TZID:UTC
BEGIN:STANDARD
TZOFFSETFROM:+0000
TZOFFSETTO:+0000
TZNAME:UTC
DTSTART:20200101T000000
END:STANDARD
END:VTIMEZONE
BEGIN:VEVENT
DTSTART;TZID=UTC:20210505T120000
DTEND;TZID=UTC:20210505T130000
DTSTAMP:20260424T103713
CREATED:20210413T125101Z
LAST-MODIFIED:20210429T114647Z
UID:68500-1620216000-1620219600@communityactionpartnership.com
SUMMARY:The Pandemic Continues — Supporting Our Organizations' Recoveries
DESCRIPTION:In this interactive workshop\, participants will learn about trauma and its impact on individuals\, communities and organizations\, focusing on how that impact has been amplified during this time of global pandemic. The webinar will cover foundational concepts of trauma-informed organizational approaches and provide opportunities for attendees to connect with colleagues from peer organizations to share experiences\, innovations\, and strategies for future work. Participants envisioning a return to a new work environment will leave with a framework on how to integrate a trauma-informed organizational approach; one that is responsive to the trauma experienced by clients and staff over the last year and in the months to come. Resources for continued assessment and learning will also be provided.\n\nClick here to register for the webinar.
URL:https://communityactionpartnership.com/event/the-pandemic-continues-supporting-our-organizations-recoveries/
CATEGORIES:Webinars
END:VEVENT
BEGIN:VEVENT
DTSTART;TZID=UTC:20210512T123000
DTEND;TZID=UTC:20210512T133000
DTSTAMP:20260424T103713
CREATED:20210430T172411Z
LAST-MODIFIED:20210430T172411Z
UID:68834-1620822600-1620826200@communityactionpartnership.com
SUMMARY:CFPB Tools and Resources to Prevent Eviction & New Tenant Rights Included in the CDC Eviction Moratorium
DESCRIPTION:Millions of homeowners and renters continue to struggle with housing insecurity due to the COVID-19 pandemic and its economic impact. While protections exist\, they aren’t automatic and many consumers aren’t aware of how to get help. The CFPB and its interagency partners have plain-language resources to help consumers understand their rights and how to take action. This webinar will present information on existing protections for homeowners and renters\, the CFPB’s housing portal and additional resources\, and specific actions your organization can take to help reach consumers who are struggling. \nClick here to register for the webinar.
URL:https://communityactionpartnership.com/event/cfpb-tools-and-resources-to-prevent-eviction-new-tenant-rights-included-in-the-cdc-eviction-moratorium/
CATEGORIES:Webinars
END:VEVENT
BEGIN:VEVENT
DTSTART;TZID=UTC:20210513T160000
DTEND;TZID=UTC:20210513T170000
DTSTAMP:20260424T103713
CREATED:20210507T145927Z
LAST-MODIFIED:20210507T145927Z
UID:68973-1620921600-1620925200@communityactionpartnership.com
SUMMARY:Bringing CSBG to Life: State CSBG Plan and Local Community Action Plan Connection
DESCRIPTION:The National Community Action Partnership (The Partnership) and the National Association for State Community Service Programs (NASCSP) will jointly present on the “magic” that Community Action creates every day across the country. This “magic” is not a secret formula: it is built on a foundation of key values and principles\, a theory of change and a strong accountability network. All of these come together in the plans that guide the network’s services and change strategies. \nPresenters: \n\nAaron Wicks\, PhD\, CCAP\, NCRT\, Vice President Organizational Capacity Building\, National Community Action Partnership\nMaribeth Schneber-Rhemrev\, CSBG State Assistance Director\, National Association of State Community Services Programs\nHugh Poole\, CSBG State Assistance Specialist\, National Association of State Community Services Programs\n\nClick here to register.
URL:https://communityactionpartnership.com/event/bringing-csbg-to-life-state-csbg-plan-and-local-community-action-plan-connection/
CATEGORIES:Webinars
END:VEVENT
BEGIN:VEVENT
DTSTART;TZID=UTC:20210520T110000
DTEND;TZID=UTC:20210520T120000
DTSTAMP:20260424T103713
CREATED:20210413T125210Z
LAST-MODIFIED:20210413T125210Z
UID:68502-1621508400-1621512000@communityactionpartnership.com
SUMMARY:Crisis Management and Crisis Communications
DESCRIPTION:In their book\, “The Risk Intelligent Enterprise\,” authors Funston and Wagner write that “the crisis you plan for may not be the one you experience\, but any preparation will serve you well.” While it’s virtually impossible to forecast the timing\, source\, and scope of the next crisis you’ll face\, there are steps every Community Action Agency can and should take to build crisis management and crisis communications readiness. This webinar outlines practical steps you can take this year to establish best-in-class crisis management and crisis communications capabilities. Attendees can expect to explore everything from forming crisis teams and critical operations teams to drafting statements that can be adapted to suit the crisis and more.\n\nClick here to register for the webinar.
URL:https://communityactionpartnership.com/event/crisis-management-and-crisis-communications/
CATEGORIES:Webinars
END:VEVENT
BEGIN:VEVENT
DTSTART;TZID=UTC:20210520T160000
DTEND;TZID=UTC:20210520T170000
DTSTAMP:20260424T103713
CREATED:20210507T150124Z
LAST-MODIFIED:20210507T150124Z
UID:68975-1621526400-1621530000@communityactionpartnership.com
SUMMARY:Transforming and Aligning Systems to Advance Social and Economic Mobility for Children and Families
DESCRIPTION:NCAP will present this webinar. This session will provide an overview of whole family approach including key hallmarks for advancing social and economic mobility for children and the adults in their lives together. Additionally\, the presentation will highlight opportunities for transforming and aligning systems to support this important innovation. \nPresenters: \n\nTiffney Marley\, CCAP\, Vice President\, Practice Transformation\, National Community Action Partnership\nCynthia Croom\, Ed.D.\, Executive Director\, Metropolitan Action Commission\nLiz Kuoppala\, CCAP\, Executive Director\, MAHUBE-OTWA Community Action Partnership\n\nClick here to register.
URL:https://communityactionpartnership.com/event/transforming-and-aligning-systems-to-advance-social-and-economic-mobility-for-children-and-families/
CATEGORIES:Webinars
END:VEVENT
BEGIN:VEVENT
DTSTART;TZID=UTC:20210527T160000
DTEND;TZID=UTC:20210527T170000
DTSTAMP:20260424T103713
CREATED:20210507T150251Z
LAST-MODIFIED:20210507T150251Z
UID:68977-1622131200-1622134800@communityactionpartnership.com
SUMMARY:The Center for Excellence and Community Action Highlighted Initiatives: Catalysts for Change
DESCRIPTION:Join the National Community Action Partnership (The Partnership) for a closer look at some of the incredible projects underway as part of the Center of Excellence on Human Capacity and Community Transformation initiative through the Community Action Network. \nClick here to register.
URL:https://communityactionpartnership.com/event/the-center-for-excellence-and-community-action-highlighted-initiatives-catalysts-for-change/
CATEGORIES:Webinars
END:VEVENT
BEGIN:VEVENT
DTSTART;TZID=UTC:20210616T140000
DTEND;TZID=UTC:20210616T153000
DTSTAMP:20260424T103713
CREATED:20210527T195334Z
LAST-MODIFIED:20210527T195334Z
UID:69239-1623852000-1623857400@communityactionpartnership.com
SUMMARY:Data Strategy Considerations – From Collecting to Communicating
DESCRIPTION:What is your agency’s strategy around data? We often get overwhelmed by data – how to collect it\, what to collect\, aggregation\, data quality\, analysis\, visualization\, reports\, telling the story… it can feel complicated! It doesn’t have to be. Join this webinar to take a moment to consider your agency’s overall data strategy\, as well as ways to simplify and connect the pieces of the process from collecting to communicating your data. We don’t promise magic\, but small steps of improvement toward making data not so scary and instead\, useful and powerful. \nPresented by the National Community Action Partnership’s Center of Excellence. \nClick here to register.
URL:https://communityactionpartnership.com/event/data-strategy-considerations-from-collecting-to-communicating/
CATEGORIES:Webinars
END:VEVENT
BEGIN:VEVENT
DTSTART;TZID=UTC:20210617T140000
DTEND;TZID=UTC:20210617T153000
DTSTAMP:20260424T103713
CREATED:20210610T144735Z
LAST-MODIFIED:20210610T144735Z
UID:69359-1623938400-1623943800@communityactionpartnership.com
SUMMARY:Ready. . . or Not? Creating Practical\, Action-Oriented Readiness Plans
DESCRIPTION:Resilience is a concept we have all learned much more about in the last year. Organizational resilience is key to continued operation and growth in complex times. Melanie Lockwood Herman\, Executive Director of the Nonprofit Risk Management Center\, will be presenting an eight-part webinar series on developing more resilient organizations with practical tools for non-profit and public organizations. Each webinar will feature concrete\, hands-on approaches to building resilience from the inside out. Melanie will break down the concept of organizational resilience into the eight key themes we all need to learn and know to strengthen our agencies and our teams. The webinars are being released in conjunction with a robust\, interactive Resilience Toolkit also available through the Partnership. \nThis webinar begins with an overview of the features and elements that make an action plan truly actionable and continues with an overview of strategies to evaluate your agency’s readiness to face the risks you can’t avoid. Next\, learn how to apply 6 tips and techniques for creating plans that will increase your Community Action Agency’s resilience and readiness. The webinar will wrap up with practical tips and takeaways you can put to use immediately. \nFuture webinars in this series will be held on the third Thursday of each month and will focus on topics such as Ready to Serve: How to Build and Equip a Crisis-Ready Response Team\, Accessing Resilience Resources from Public and Private Sources and How to Become the Resilient Leader Your Mission Requires. Register today to join this timely series.
URL:https://communityactionpartnership.com/event/ready-or-not-creating-practical-action-oriented-readiness-plans/
CATEGORIES:Webinars
ORGANIZER;CN="Community Action Partnership%2C National Office":MAILTO:registration@communityactionpartnership.com
END:VEVENT
BEGIN:VEVENT
DTSTART;TZID=UTC:20210621T150000
DTEND;TZID=UTC:20210621T160000
DTSTAMP:20260424T103713
CREATED:20210621T130410Z
LAST-MODIFIED:20210621T130559Z
UID:69463-1624287600-1624291200@communityactionpartnership.com
SUMMARY:Child Tax Credit Awareness Day Webinar with OCS\, OHS\, and NCAP
DESCRIPTION:NCAP is pleased to announce that Dr. Lanikque Howard of the Office of Community Services (OCS) and Ann Linehan of the Office of Head Start (OHS) will be joining us for the National Community Action Partnership Child Tax Credit (CTC) Awareness Day webinar on Monday\, June 21st at 3:00 PM ET / 2:00 PM CT / 1:00 PM MT / 12:00 PM PT. \nThe CTC is a critical component to ending poverty in America\, and is a proven method to cut child poverty in half. The Network plays a vital role in creating this reality. Community Action and Head Start staff connect directly with customers almost every day and they are trusted messengers.  They play a key role in elevating the visibility and impact the CTC benefit can provide for families\, even those who did not file taxes. The process will also allow families who may not have received the previous stimulus payments to receive those funds now.  In some cases\, this would be a substantial amount of money\, lifting their families up during this challenging time. \nIt is important to share this information with staff who engage directly with families and have them register to attend. You and your staff can register for the event here. \nTo learn more about the Child Tax Credit\, visit the new White House CTC Expansion page. Also\, view the Biden Administration’s announcement of Child Tax Credit Awareness Day and click here to view a flyer about the CTC from the White House.
URL:https://communityactionpartnership.com/event/child-tax-credit-awareness-day-webinar-with-ocs-ohs-and-ncap/
CATEGORIES:Webinars
END:VEVENT
BEGIN:VEVENT
DTSTART;TZID=UTC:20210622T140000
DTEND;TZID=UTC:20210622T150000
DTSTAMP:20260424T103713
CREATED:20210610T175935Z
LAST-MODIFIED:20210615T174613Z
UID:69372-1624370400-1624374000@communityactionpartnership.com
SUMMARY:Preventing Homelessness: Exploring Strategies to Reach Those At Greatest Risk
DESCRIPTION:Are your locality’s emergency assistance programs reaching people who are at the greatest risk of homelessness?  This kick-off webinar will examine the research on homelessness prevention and explore strategies Community Action Agencies may consider to find and assist people who are frequently overlooked by traditional eviction prevention programs. \nRegister Here
URL:https://communityactionpartnership.com/event/homelessness-prevention-webinar-series-emergency-rental-assistance-part-i/
CATEGORIES:Webinars
END:VEVENT
BEGIN:VEVENT
DTSTART;TZID=UTC:20210630T140000
DTEND;TZID=UTC:20210630T150000
DTSTAMP:20260424T103713
CREATED:20210611T150754Z
LAST-MODIFIED:20210615T174418Z
UID:69381-1625061600-1625065200@communityactionpartnership.com
SUMMARY:Racism and Health Equity in Community Action
DESCRIPTION:This webinar will explore the intersections of poverty\, health and racism in America. The webinar will also introduce the Community Action Network to the American Public Health Association’s six-part webinar series\, Advancing Racial Equity\, which explores racism as driving force for the social determinants of health.  \nPresenters: Georges C. Benjamin\, M.D.\, Executive Director\, APHA | Denise Harlow\, Chief Executive Officer\, NCAP \nModerators: Tia Taylor Williams\, Director\, Center for Public Health Policy\, Center for School\, Health and Education\, APHA | Tiffney Marley\, Sr. Vice President\, Practice Transformation\, NCAP \nRegister Here 
URL:https://communityactionpartnership.com/event/racism-and-health-equity-in-community-action/
CATEGORIES:Webinars
END:VEVENT
BEGIN:VEVENT
DTSTART;TZID=UTC:20210707T140000
DTEND;TZID=UTC:20210707T150000
DTSTAMP:20260424T103713
CREATED:20210610T214227Z
LAST-MODIFIED:20210622T161225Z
UID:69374-1625666400-1625670000@communityactionpartnership.com
SUMMARY:Utilizing Property-Tax Aide to Improve the Lives of Seniors
DESCRIPTION:The most vulnerable older adults in your community may be surprised to learn they may qualify for property tax credits or refunds that put money back in their pockets. \nLearn from AARP Foundation Property Tax-Aide about how you can expand your services and partner to utilize their innovative technology and volunteer training. This webinar series with the AARP Foundation will provide a presentation and demonstration on their best in class digital tool to support eligible homeowners and renters\, in select states\, apply for property tax relief. \nProperty Tax-Aide is a free program currently available in – New Hampshire\, New York\, New York City\, New Jersey\, Maryland\, Washington D.C.\, North Carolina\, Florida (Miami-Dade County)\, Illinois (Cook County)\, Missouri\, Minnesota\, Nebraska\, Colorado\, and Arizona. \nSpeakers–Kylie Brock Property Tax-Aide Partnership Manager and Karen Tan Property Tax Aide Program Manager \nRegister Here 
URL:https://communityactionpartnership.com/event/utilizing-property-tax-aide-to-improve-the-lives-of-seniors-part-i/
CATEGORIES:Webinars
END:VEVENT
BEGIN:VEVENT
DTSTART;TZID=UTC:20210712T150000
DTEND;TZID=UTC:20210712T160000
DTSTAMP:20260424T103713
CREATED:20210708T195841Z
LAST-MODIFIED:20210708T195841Z
UID:69563-1626102000-1626105600@communityactionpartnership.com
SUMMARY:NCAP Community Action Agency Leaders Webinar on OCS CSBG CARES Act Rapid-Cycle Impact Projects
DESCRIPTION:This new FOA will support the CSBG CARES Act Rapid-Cycle Impact Projects goal of adapting current service models to effectively respond to immediate community needs while also testing innovative community approaches and strategies developed to prevent\, prepare for\, and respond to the effects of the COVID-19 public health emergency. Grantees will be responsible for implementing community-based projects focused on priority areas identified by OCS. Grantees will be expected to incorporate a rapid-cycle learning\, or continuous quality improvement\, approach into the implementation of their project to strengthen the implementation and effectiveness of programs and service strategies. Grantees will receive support from OCS on all aspects of this rapid-cycle learning approach and assistance in implementing it in their projects. \nClick here to register for the webinar.
URL:https://communityactionpartnership.com/event/ncap-community-action-agency-leaders-webinar-on-ocs-csbg-cares-act-rapid-cycle-impact-projects/
CATEGORIES:Webinars
END:VEVENT
BEGIN:VEVENT
DTSTART;TZID=UTC:20210715T140000
DTEND;TZID=UTC:20210715T153000
DTSTAMP:20260424T103713
CREATED:20210610T144944Z
LAST-MODIFIED:20210714T141144Z
UID:69361-1626357600-1626363000@communityactionpartnership.com
SUMMARY:Ready to Serve: How to Build and Equip a Crisis-Ready Response Team
DESCRIPTION:Resilience is a concept we have all learned much more about in the last year. Organizational resilience is key to continued operation and growth in complex times. Melanie Lockwood Herman\, Executive Director of the Nonprofit Risk Management Center\, will be presenting an eight-part webinar series on developing more resilient organizations with practical tools for non-profit and public organizations. Each webinar will feature concrete\, hands-on approaches to building resilience from the inside out. Melanie will break down the concept of organizational resilience into the eight key themes we all need to learn and know to strengthen our agencies and our teams. The webinars are being released in conjunction with a robust\, interactive Resilience Toolkit also available through the Partnership. \nThis webinar explores three critical stages to create and support a crisis response team: 1. Reflect\, 2. Plan\, and 3. Practice. You’ll learn how and when planning and response teams differ (in composition as well as emphasis)\, how to ‘bake in’ lessons from previous crisis events into your planning and response strategies\, and why and how the substance and style of your planning activities matter. The webinar also explores approaches to ‘practicing’ what you’ve built before your next crisis is at hand\, rules of thumb for your crisis team\, and takeaways you can apply to create a crisis-ready response team. \nFuture webinars in this series will be held on the third Thursday of each month and will focus on topics such as Accessing Resilience Resources from Public and Private Sources and How to Become the Resilient Leader Your Mission Requires. Register today to join this timely series. \nClick here to register.
URL:https://communityactionpartnership.com/event/ready-to-serve-how-to-build-and-equip-a-crisis-ready-response-team/
CATEGORIES:Webinars
ORGANIZER;CN="Community Action Partnership%2C National Office":MAILTO:registration@communityactionpartnership.com
END:VEVENT
END:VCALENDAR