BEGIN:VCALENDAR
VERSION:2.0
PRODID:-//National CAP - ECPv6.15.20//NONSGML v1.0//EN
CALSCALE:GREGORIAN
METHOD:PUBLISH
X-ORIGINAL-URL:https://communityactionpartnership.com
X-WR-CALDESC:Events for National CAP
REFRESH-INTERVAL;VALUE=DURATION:PT1H
X-Robots-Tag:noindex
X-PUBLISHED-TTL:PT1H
BEGIN:VTIMEZONE
TZID:UTC
BEGIN:STANDARD
TZOFFSETFROM:+0000
TZOFFSETTO:+0000
TZNAME:UTC
DTSTART:20230101T000000
END:STANDARD
END:VTIMEZONE
BEGIN:VEVENT
DTSTART;TZID=UTC:20240717T140000
DTEND;TZID=UTC:20240717T150000
DTSTAMP:20260421T002556
CREATED:20240703T160307Z
LAST-MODIFIED:20240703T160307Z
UID:87966-1721224800-1721228400@communityactionpartnership.com
SUMMARY:CSBG Annual Report Version 2.1: Clearance Process  Update and Public Comment Opportunities
DESCRIPTION:Join the National Community Action Partnership for an important update on the CSBG Annual Report Version 2.1 clearance process\, currently in its 30-day public comment period. This webinar will cover the Office of Management and Budget clearance process\, NCAP’s comments and reflections on Version 2.1\, and review how to add your agency to the NCAP sign-on letter to the Office of Management and Budget. Register here.
URL:https://communityactionpartnership.com/event/csbg-annual-report-version-2-1-clearance-process-update-and-public-comment-opportunities/
CATEGORIES:Webinars
END:VEVENT
END:VCALENDAR