BEGIN:VCALENDAR
VERSION:2.0
PRODID:-//National CAP - ECPv6.15.20//NONSGML v1.0//EN
CALSCALE:GREGORIAN
METHOD:PUBLISH
X-ORIGINAL-URL:https://communityactionpartnership.com
X-WR-CALDESC:Events for National CAP
REFRESH-INTERVAL;VALUE=DURATION:PT1H
X-Robots-Tag:noindex
X-PUBLISHED-TTL:PT1H
BEGIN:VTIMEZONE
TZID:UTC
BEGIN:STANDARD
TZOFFSETFROM:+0000
TZOFFSETTO:+0000
TZNAME:UTC
DTSTART:20200101T000000
END:STANDARD
END:VTIMEZONE
BEGIN:VEVENT
DTSTART;TZID=UTC:20211027T140000
DTEND;TZID=UTC:20211027T150000
DTSTAMP:20260423T235755
CREATED:20211007T210857Z
LAST-MODIFIED:20211008T122439Z
UID:70427-1635343200-1635346800@communityactionpartnership.com
SUMMARY:Braiding Funds For Weatherization Recruitment & Retention
DESCRIPTION:Christopher Vought\, Director of Housing Rehabilitation\, Energy Conservation & NH Electric Assistance Program at Community Action Program\, Belknap-Merrimack Counties\, Inc. in Concord\, New Hampshire has a strong Weatherization crew and hopes to expand it. To attract quality candidates he’s using a combination of funding sources to offer a starting salary over $40\,000 per year. “Minimum wage is $7.25. Wal-Mart starts at $15 an hour. This is a good opportunity”\, he explained. In this webinar\, Chris will describe how he delivers competitive salaries with federal\, state and utility funds\, and how he is learning to work with technical colleges and high schools in the area to recruit and train quality candidates. \nClick here to register.
URL:https://communityactionpartnership.com/event/braiding-funds-for-weatherization-recruitment-retention/
CATEGORIES:Webinars
END:VEVENT
END:VCALENDAR