BEGIN:VCALENDAR
VERSION:2.0
PRODID:-//National CAP - ECPv6.15.20//NONSGML v1.0//EN
CALSCALE:GREGORIAN
METHOD:PUBLISH
X-WR-CALNAME:National CAP
X-ORIGINAL-URL:https://communityactionpartnership.com
X-WR-CALDESC:Events for National CAP
REFRESH-INTERVAL;VALUE=DURATION:PT1H
X-Robots-Tag:noindex
X-PUBLISHED-TTL:PT1H
BEGIN:VTIMEZONE
TZID:UTC
BEGIN:STANDARD
TZOFFSETFROM:+0000
TZOFFSETTO:+0000
TZNAME:UTC
DTSTART:20180101T000000
END:STANDARD
END:VTIMEZONE
BEGIN:VEVENT
DTSTART;TZID=UTC:20190911T140000
DTEND;TZID=UTC:20190911T153000
DTSTAMP:20260425T144528
CREATED:20190816T130627Z
LAST-MODIFIED:20190816T130627Z
UID:54609-1568210400-1568215800@communityactionpartnership.com
SUMMARY:Demystifying Data Analysis
DESCRIPTION:Simple analysis techniques and stories from local CAAs will be shared to help agencies get started with a plan for undertaking the evaluation phase of the ROMA Cycle. Elements of a data-centric agency will be reviewed along with ideas about what is needed to have good data.   Key items to be included in data collection\, aggregation and analysis policies and procedures will be discussed.  Examples of putting analysis of data to work during decision making will demonstrate how to USE data for program improvement. \nRegister Here
URL:https://communityactionpartnership.com/event/demystifying-data-analysis/
CATEGORIES:Webinars
END:VEVENT
BEGIN:VEVENT
DTSTART;TZID=UTC:20190911T150000
DTEND;TZID=UTC:20190911T163000
DTSTAMP:20260425T144528
CREATED:20190906T183729Z
LAST-MODIFIED:20190906T183729Z
UID:54702-1568214000-1568219400@communityactionpartnership.com
SUMMARY:Community Level Work Service: Housing Construction Job Training
DESCRIPTION:Learn how the Community Action Program of Lancaster\, Pennsylvania is meeting the housing needs of their community by training a construction crew of formerly incarcerated individuals. \nRegister
URL:https://communityactionpartnership.com/event/community-level-work-service-housing-construction-job-training/
CATEGORIES:Webinars
END:VEVENT
END:VCALENDAR