BEGIN:VCALENDAR
VERSION:2.0
PRODID:-//National CAP - ECPv6.15.20//NONSGML v1.0//EN
CALSCALE:GREGORIAN
METHOD:PUBLISH
X-WR-CALNAME:National CAP
X-ORIGINAL-URL:https://communityactionpartnership.com
X-WR-CALDESC:Events for National CAP
REFRESH-INTERVAL;VALUE=DURATION:PT1H
X-Robots-Tag:noindex
X-PUBLISHED-TTL:PT1H
BEGIN:VTIMEZONE
TZID:UTC
BEGIN:STANDARD
TZOFFSETFROM:+0000
TZOFFSETTO:+0000
TZNAME:UTC
DTSTART:20180101T000000
END:STANDARD
END:VTIMEZONE
BEGIN:VEVENT
DTSTART;TZID=UTC:20190807T140000
DTEND;TZID=UTC:20190807T153000
DTSTAMP:20260425T161229
CREATED:20190710T155420Z
LAST-MODIFIED:20190806T213515Z
UID:53961-1565186400-1565191800@communityactionpartnership.com
SUMMARY:Creative Approaches to Rural Transportation
DESCRIPTION:Robin Phillips\, Executive Director of the National Rural Transit Assistance Program will share her extensive experience in designing\, developing\, and maintaining rural transportation systems. Highlighting successful programs\, including Community Action programs\, we will look at the critical components of comprehensive planning and funding development. \nRegister
URL:https://communityactionpartnership.com/event/creative-approaches-to-rural-transportation/
CATEGORIES:Webinars
END:VEVENT
END:VCALENDAR