BEGIN:VCALENDAR
VERSION:2.0
PRODID:-//National CAP - ECPv6.15.20//NONSGML v1.0//EN
CALSCALE:GREGORIAN
METHOD:PUBLISH
X-ORIGINAL-URL:https://communityactionpartnership.com
X-WR-CALDESC:Events for National CAP
REFRESH-INTERVAL;VALUE=DURATION:PT1H
X-Robots-Tag:noindex
X-PUBLISHED-TTL:PT1H
BEGIN:VTIMEZONE
TZID:UTC
BEGIN:STANDARD
TZOFFSETFROM:+0000
TZOFFSETTO:+0000
TZNAME:UTC
DTSTART:20180101T000000
END:STANDARD
END:VTIMEZONE
BEGIN:VEVENT
DTSTART;TZID=UTC:20190626T140000
DTEND;TZID=UTC:20190626T153000
DTSTAMP:20260425T212744
CREATED:20190613T185147Z
LAST-MODIFIED:20190613T185147Z
UID:53774-1561557600-1561563000@communityactionpartnership.com
SUMMARY:Transforming Perspectives: The Community Action Poverty Simulation (CAPS)
DESCRIPTION:As a society\, we are often presented with many stereotypes and misconceptions about poverty and inequality. How then do we shift our paradigm about poverty away from being seen as a personal failure and toward the understanding of poverty as structural\, or a failure of society? One of the key ways Community Action professionals can respond is through the Community Action Poverty Simulation (CAPS). \nCAPS is an interactive immersion experience designed to sensitize community participants to the realities of poverty\, and ultimately transform perspectives. \nPlease join the National Community Action Partnership and Missouri Community Action Network on Wednesday\, June 26 to learn more about this powerful tool and how you can use it in your own community to make a lasting impact. \nRegister \n 
URL:https://communityactionpartnership.com/event/transforming-perspectives-the-community-action-poverty-simulation-caps-2/
CATEGORIES:Webinars
END:VEVENT
END:VCALENDAR