BEGIN:VCALENDAR
VERSION:2.0
PRODID:-//National CAP - ECPv6.15.20//NONSGML v1.0//EN
CALSCALE:GREGORIAN
METHOD:PUBLISH
X-ORIGINAL-URL:https://communityactionpartnership.com
X-WR-CALDESC:Events for National CAP
REFRESH-INTERVAL;VALUE=DURATION:PT1H
X-Robots-Tag:noindex
X-PUBLISHED-TTL:PT1H
BEGIN:VTIMEZONE
TZID:UTC
BEGIN:STANDARD
TZOFFSETFROM:+0000
TZOFFSETTO:+0000
TZNAME:UTC
DTSTART:20180101T000000
END:STANDARD
END:VTIMEZONE
BEGIN:VEVENT
DTSTART;TZID=UTC:20190417T140000
DTEND;TZID=UTC:20190417T150000
DTSTAMP:20260426T003155
CREATED:20190415T221431Z
LAST-MODIFIED:20190415T221431Z
UID:52575-1555509600-1555513200@communityactionpartnership.com
SUMMARY:Analyzing & Addressing Community Level Work
DESCRIPTION:Barbara Mooney will offer practical insights and suggestions on the context for focus on community level work\, using lessons that the Partnership learned from prior Learning Community Groups and working in the field. She will discuss definitions\, points of clarification\, ideas for further exploration and  resources\, as well as identifying the sections of Module 3 of the CSBG Annual Report that support the development and reporting of this work. \nPresenter:  Dr. Barbara Mooney\, Director of ANCRT & LCRC Subject Matter Expert \n  \nRegister:  https://communityactionevents.webex.com/communityactionevents/onstage/g.php?MTID=e5ed66491f62ab51ed8e508596536eeb4
URL:https://communityactionpartnership.com/event/analyzing-addressing-community-level-work-2/
CATEGORIES:Webinars
END:VEVENT
BEGIN:VEVENT
DTSTART;TZID=UTC:20190417T140000
DTEND;TZID=UTC:20190417T153000
DTSTAMP:20260426T003155
CREATED:20190410T140948Z
LAST-MODIFIED:20190410T143233Z
UID:52529-1555509600-1555515000@communityactionpartnership.com
SUMMARY:Analyzing & Addressing Community Level Work
DESCRIPTION:Register
URL:https://communityactionpartnership.com/event/analyzing-addressing-community-level-work/
CATEGORIES:Webinars
END:VEVENT
END:VCALENDAR