BEGIN:VCALENDAR
VERSION:2.0
PRODID:-//National CAP - ECPv6.15.20//NONSGML v1.0//EN
CALSCALE:GREGORIAN
METHOD:PUBLISH
X-ORIGINAL-URL:https://communityactionpartnership.com
X-WR-CALDESC:Events for National CAP
REFRESH-INTERVAL;VALUE=DURATION:PT1H
X-Robots-Tag:noindex
X-PUBLISHED-TTL:PT1H
BEGIN:VTIMEZONE
TZID:UTC
BEGIN:STANDARD
TZOFFSETFROM:+0000
TZOFFSETTO:+0000
TZNAME:UTC
DTSTART:20180101T000000
END:STANDARD
END:VTIMEZONE
BEGIN:VEVENT
DTSTART;TZID=UTC:20190401T150000
DTEND;TZID=UTC:20190401T160000
DTSTAMP:20260425T212825
CREATED:20190308T173027Z
LAST-MODIFIED:20190308T173027Z
UID:51724-1554130800-1554134400@communityactionpartnership.com
SUMMARY:Board Capacity Building for CAAs
DESCRIPTION:A culture of training and capacity building is essential for a strong tripartite board.  Join this Organizational Standards Center of Excellence webinar to learn more about structure and content for board orientations\, developing a board training strategy\, topics and resources to consider for conducting board trainings\, and how to conduct board evaluations. \nRegister \n 
URL:https://communityactionpartnership.com/event/board-capacity-building-for-caas/
CATEGORIES:Webinars
END:VEVENT
BEGIN:VEVENT
DTSTART;TZID=UTC:20190403T140000
DTEND;TZID=UTC:20190403T153000
DTSTAMP:20260425T212825
CREATED:20190325T164534Z
LAST-MODIFIED:20190325T164534Z
UID:52003-1554300000-1554305400@communityactionpartnership.com
SUMMARY:Insights in Piloting\, Prototyping\, and Continuous Quality Improvement
DESCRIPTION:An essential practice for ensuring the sustainability of human service programs is the implementation of a robust system of piloting\, prototyping\, and continuous quality improvement. Join us on April 3 for an introductory conversation on the how and why of taking programs to scale using this method. Attendees will develop a shared language around these concepts and get insight on where in the implementation process that these concepts are most useful. \n  \nRegister
URL:https://communityactionpartnership.com/event/insights-in-piloting-prototyping-and-continuous-quality-improvement/
CATEGORIES:Webinars
END:VEVENT
END:VCALENDAR