BEGIN:VCALENDAR
VERSION:2.0
PRODID:-//National CAP - ECPv6.15.20//NONSGML v1.0//EN
CALSCALE:GREGORIAN
METHOD:PUBLISH
X-ORIGINAL-URL:https://communityactionpartnership.com
X-WR-CALDESC:Events for National CAP
REFRESH-INTERVAL;VALUE=DURATION:PT1H
X-Robots-Tag:noindex
X-PUBLISHED-TTL:PT1H
BEGIN:VTIMEZONE
TZID:UTC
BEGIN:STANDARD
TZOFFSETFROM:+0000
TZOFFSETTO:+0000
TZNAME:UTC
DTSTART:20230101T000000
END:STANDARD
END:VTIMEZONE
BEGIN:VEVENT
DTSTART;TZID=UTC:20240402T153000
DTEND;TZID=UTC:20240402T163000
DTSTAMP:20260420T201332
CREATED:20240329T141016Z
LAST-MODIFIED:20240329T141016Z
UID:84013-1712071800-1712075400@communityactionpartnership.com
SUMMARY:National Leading Equity Cohort Informational Session
DESCRIPTION:Want to enhance your understanding of diversity\, equity\, belonging\, and justice (DEBJ) concepts? Learn how to instill dignity\, cultivate belonging\, and build power in human services delivery and organizational management? Join NCAP’s National Leading Equity Cohort! \nWant to learn more about this exciting new cohort? Join NCAP for this informational session! Click here to register for the webinar.
URL:https://communityactionpartnership.com/event/national-leading-equity-cohort-informational-session/
CATEGORIES:Webinars
END:VEVENT
END:VCALENDAR