BEGIN:VCALENDAR
VERSION:2.0
PRODID:-//National CAP - ECPv6.15.20//NONSGML v1.0//EN
CALSCALE:GREGORIAN
METHOD:PUBLISH
X-WR-CALNAME:National CAP
X-ORIGINAL-URL:https://communityactionpartnership.com
X-WR-CALDESC:Events for National CAP
REFRESH-INTERVAL;VALUE=DURATION:PT1H
X-Robots-Tag:noindex
X-PUBLISHED-TTL:PT1H
BEGIN:VTIMEZONE
TZID:UTC
BEGIN:STANDARD
TZOFFSETFROM:+0000
TZOFFSETTO:+0000
TZNAME:UTC
DTSTART:20230101T000000
END:STANDARD
END:VTIMEZONE
BEGIN:VEVENT
DTSTART;TZID=UTC:20240320T140000
DTEND;TZID=UTC:20240320T150000
DTSTAMP:20260421T001718
CREATED:20240202T160300Z
LAST-MODIFIED:20240202T160300Z
UID:83458-1710943200-1710946800@communityactionpartnership.com
SUMMARY:Savings with Purchasing Point: Utilizing Your National Community Action Partnership Member Benefit
DESCRIPTION:This webinar will provide a brief overview of the PurchasingPoint ® program. The goal of the program is to save nonprofits money for mission\, with double-digit discounts from 100+ national vendors. Register today by completing the form below and learn how to start saving with PurchasingPoint. This valuable free benefit is available to you as a National Community Action Partnership member. \nClick here to register for the webinar.
URL:https://communityactionpartnership.com/event/savings-with-purchasing-point-utilizing-your-national-community-action-partnership-member-benefit/
CATEGORIES:Webinars
END:VEVENT
END:VCALENDAR