BEGIN:VCALENDAR
VERSION:2.0
PRODID:-//National CAP - ECPv6.15.20//NONSGML v1.0//EN
CALSCALE:GREGORIAN
METHOD:PUBLISH
X-WR-CALNAME:National CAP
X-ORIGINAL-URL:https://communityactionpartnership.com
X-WR-CALDESC:Events for National CAP
REFRESH-INTERVAL;VALUE=DURATION:PT1H
X-Robots-Tag:noindex
X-PUBLISHED-TTL:PT1H
BEGIN:VTIMEZONE
TZID:UTC
BEGIN:STANDARD
TZOFFSETFROM:+0000
TZOFFSETTO:+0000
TZNAME:UTC
DTSTART:20230101T000000
END:STANDARD
END:VTIMEZONE
BEGIN:VEVENT
DTSTART;TZID=UTC:20240124T140000
DTEND;TZID=UTC:20240124T150000
DTSTAMP:20260421T030940
CREATED:20231215T185750Z
LAST-MODIFIED:20231215T202649Z
UID:83075-1706104800-1706108400@communityactionpartnership.com
SUMMARY:What’s New in CCAP Renewals?
DESCRIPTION:CCAPs and CCAP Candidates won’t want to miss this vital\, informational update. Join NCAP to review newly instituted continued learning and engagement requirements for CCAP renewals. We will help you understand the specifics of each requirement\, how to track and report your progress in meeting the requirements\, and how the requirements are being phased in between 2024 and 2027. You worked hard to become a CCAP. Let’s make sure you’re ready to keep your credential shiny and fresh! \nClick here to register for the webinar.
URL:https://communityactionpartnership.com/event/whats-new-in-ccap-renewals/
CATEGORIES:Webinars
END:VEVENT
END:VCALENDAR