BEGIN:VCALENDAR
VERSION:2.0
PRODID:-//National CAP - ECPv6.15.20//NONSGML v1.0//EN
CALSCALE:GREGORIAN
METHOD:PUBLISH
X-ORIGINAL-URL:https://communityactionpartnership.com
X-WR-CALDESC:Events for National CAP
REFRESH-INTERVAL;VALUE=DURATION:PT1H
X-Robots-Tag:noindex
X-PUBLISHED-TTL:PT1H
BEGIN:VTIMEZONE
TZID:UTC
BEGIN:STANDARD
TZOFFSETFROM:+0000
TZOFFSETTO:+0000
TZNAME:UTC
DTSTART:20180101T000000
END:STANDARD
END:VTIMEZONE
BEGIN:VEVENT
DTSTART;TZID=UTC:20190813T120000
DTEND;TZID=UTC:20190813T133000
DTSTAMP:20260425T130912
CREATED:20190510T200134Z
LAST-MODIFIED:20190510T200134Z
UID:53306-1565697600-1565703000@communityactionpartnership.com
SUMMARY:Learn About First Nonprofit
DESCRIPTION:Nonprofits typically have fewer unemployment claims than the private sector; therefore\, they often subsidize the state unemployment fund by paying more than necessary. Federal and state laws allow 501(c)(3) organizations to reimburse the state unemployment fund\, rather than pay the SUI tax in advance of having actual claims. FNP’s unemployment programs may well reduce your unemployment costs if you currently participate in the state tax system and can provide you with a safety net if you have already chosen the reimbursable option. \nParticipation in FNP programs provides:\n•Fixed annual cost for budgetary certainty\n•Multiple options for different coverage levels specific to CAP agency needs\n•Knowledgeable team of unemployment specialists to handle all your UI needs\n•Expert claims representation for unemployment hearings and audits\n•Access to training and services that can decrease the number of invalid unemployment claims\n•No pooling or shared risk \nWe encourage you or your designee to register now for this informative webinar. A quote from FNP is free with no obligation to join their program\, so you have nothing to lose! As an added bonus\, Community Action Agencies receive a 20% discount on the one-time enrollment fee. \nRegister
URL:https://communityactionpartnership.com/event/learn-about-first-nonprofit-2/
CATEGORIES:Webinars
END:VEVENT
END:VCALENDAR