BEGIN:VCALENDAR
VERSION:2.0
PRODID:-//National CAP - ECPv6.15.20//NONSGML v1.0//EN
CALSCALE:GREGORIAN
METHOD:PUBLISH
X-ORIGINAL-URL:https://communityactionpartnership.com
X-WR-CALDESC:Events for National CAP
REFRESH-INTERVAL;VALUE=DURATION:PT1H
X-Robots-Tag:noindex
X-PUBLISHED-TTL:PT1H
BEGIN:VTIMEZONE
TZID:UTC
BEGIN:STANDARD
TZOFFSETFROM:+0000
TZOFFSETTO:+0000
TZNAME:UTC
DTSTART:20180101T000000
END:STANDARD
END:VTIMEZONE
BEGIN:VEVENT
DTSTART;TZID=UTC:20190710T140000
DTEND;TZID=UTC:20190710T153000
DTSTAMP:20260425T150352
CREATED:20190613T185518Z
LAST-MODIFIED:20190710T160050Z
UID:53780-1562767200-1562772600@communityactionpartnership.com
SUMMARY:Re-entry Programs: Three Successful Approaches
DESCRIPTION:Register
URL:https://communityactionpartnership.com/event/re-entry-programs-three-successful-approaches-2/
CATEGORIES:Webinars
END:VEVENT
END:VCALENDAR