BEGIN:VCALENDAR
VERSION:2.0
PRODID:-//National CAP - ECPv6.15.20//NONSGML v1.0//EN
CALSCALE:GREGORIAN
METHOD:PUBLISH
X-WR-CALNAME:National CAP
X-ORIGINAL-URL:https://communityactionpartnership.com
X-WR-CALDESC:Events for National CAP
REFRESH-INTERVAL;VALUE=DURATION:PT1H
X-Robots-Tag:noindex
X-PUBLISHED-TTL:PT1H
BEGIN:VTIMEZONE
TZID:UTC
BEGIN:STANDARD
TZOFFSETFROM:+0000
TZOFFSETTO:+0000
TZNAME:UTC
DTSTART:20180101T000000
END:STANDARD
END:VTIMEZONE
BEGIN:VEVENT
DTSTART;TZID=UTC:20190710T140000
DTEND;TZID=UTC:20190710T153000
DTSTAMP:20260425T131534
CREATED:20190613T185518Z
LAST-MODIFIED:20190710T160050Z
UID:53780-1562767200-1562772600@communityactionpartnership.com
SUMMARY:Re-entry Programs: Three Successful Approaches
DESCRIPTION:Register
URL:https://communityactionpartnership.com/event/re-entry-programs-three-successful-approaches-2/
CATEGORIES:Webinars
END:VEVENT
BEGIN:VEVENT
DTSTART;TZID=UTC:20190717T140000
DTEND;TZID=UTC:20190717T153000
DTSTAMP:20260425T131534
CREATED:20190613T185400Z
LAST-MODIFIED:20190709T181132Z
UID:53778-1563372000-1563377400@communityactionpartnership.com
SUMMARY:Healing is the Revolution: Why Trauma Work is Equity Work
DESCRIPTION:Join us on July 17 to engage in a discussion on the importance of trauma-informed care specific to and for communities of color from experienced trauma-informed health practitioner\, Dr. Dense Shervington. Based on research from her new book\, Healing is the Revolution\, Dr. Shervington will detail the nameable and unnamable struggles that people of color face in a tense\, high stress\, and despairing existence that is modern-day America. While illustrating the effects of decades of compounding structural oppression\, societal disfranchisement\, and psychological backlash on individuals\, she will also provide insight on how community-based organizations can work to help create steps and opportunity for healing on the individual\, family\, and community level. \nPsychiatrist\, professor\, and President and CEO of The Institute of Women and Ethnic Studies (IWES)\, Denese Shervington\, MD\,MPH\, and draws from her intersectional career in public health clinical and academic psychiatry. A nationally esteemed mental health advocate and programmer\, in 2018 Dr. Shervington received the Award for Excellence in Service and Advocacy from the American Psychiatric Association. In 2012\, she received the Jeanne Spurlock Minority Fellowship Achievement Award from the American Psychiatric Association. Dr. Shervington is a member of the American College of Psychiatrists. She has authored several papers in peer-reviewed journals addressing health disparities\, the social determinants of health\, and resilience in underserved communities. \nRegister
URL:https://communityactionpartnership.com/event/healing-is-the-revolution-why-trauma-work-is-equity-work/
CATEGORIES:Webinars
END:VEVENT
BEGIN:VEVENT
DTSTART;TZID=UTC:20190724T150000
DTEND;TZID=UTC:20190724T160000
DTSTAMP:20260425T131534
CREATED:20190708T195950Z
LAST-MODIFIED:20190708T195950Z
UID:53901-1563980400-1563984000@communityactionpartnership.com
SUMMARY:Energy Partnerships: Solar in Rural Communities
DESCRIPTION:Speakers include Vicki O’Day\, Development Director of Rural Renewable Energy Alliance\, Bryan Phipps\, Chief Development Officer of People Inc\, and Mark Moormans\, Strategic Projects Manager of People Inc. \nRegister
URL:https://communityactionpartnership.com/event/energy-partnerships-solar-in-rural-communities/
CATEGORIES:Webinars
END:VEVENT
BEGIN:VEVENT
DTSTART;TZID=UTC:20190731T140000
DTEND;TZID=UTC:20190731T153000
DTSTAMP:20260425T131534
CREATED:20190717T214602Z
LAST-MODIFIED:20190730T155732Z
UID:54137-1564581600-1564587000@communityactionpartnership.com
SUMMARY:Sustainability & Resource Development: Reviewing the Fundamentals
DESCRIPTION:This session will include an introduction and overview of key elements of resource development and sustainability for new staff members and a thoughtful review for seasoned development staff. The National Community Action Partnership staff presenting will cover financing challenges\, sustainability planning\, grants\, social enterprise\, fee for service\, and fundraising. \nRegister Here
URL:https://communityactionpartnership.com/event/sustainability-resource-development-reviewing-the-fundamentals/
CATEGORIES:Webinars
END:VEVENT
END:VCALENDAR