BEGIN:VCALENDAR
VERSION:2.0
PRODID:-//National CAP - ECPv6.15.20//NONSGML v1.0//EN
CALSCALE:GREGORIAN
METHOD:PUBLISH
X-WR-CALNAME:National CAP
X-ORIGINAL-URL:https://communityactionpartnership.com
X-WR-CALDESC:Events for National CAP
REFRESH-INTERVAL;VALUE=DURATION:PT1H
X-Robots-Tag:noindex
X-PUBLISHED-TTL:PT1H
BEGIN:VTIMEZONE
TZID:UTC
BEGIN:STANDARD
TZOFFSETFROM:+0000
TZOFFSETTO:+0000
TZNAME:UTC
DTSTART:20180101T000000
END:STANDARD
END:VTIMEZONE
BEGIN:VTIMEZONE
TZID:America/New_York
BEGIN:DAYLIGHT
TZOFFSETFROM:-0500
TZOFFSETTO:-0400
TZNAME:EDT
DTSTART:20180311T070000
END:DAYLIGHT
BEGIN:STANDARD
TZOFFSETFROM:-0400
TZOFFSETTO:-0500
TZNAME:EST
DTSTART:20181104T060000
END:STANDARD
BEGIN:DAYLIGHT
TZOFFSETFROM:-0500
TZOFFSETTO:-0400
TZNAME:EDT
DTSTART:20190310T070000
END:DAYLIGHT
BEGIN:STANDARD
TZOFFSETFROM:-0400
TZOFFSETTO:-0500
TZNAME:EST
DTSTART:20191103T060000
END:STANDARD
BEGIN:DAYLIGHT
TZOFFSETFROM:-0500
TZOFFSETTO:-0400
TZNAME:EDT
DTSTART:20200308T070000
END:DAYLIGHT
BEGIN:STANDARD
TZOFFSETFROM:-0400
TZOFFSETTO:-0500
TZNAME:EST
DTSTART:20201101T060000
END:STANDARD
END:VTIMEZONE
BEGIN:VEVENT
DTSTART;TZID=UTC:20190109T140000
DTEND;TZID=UTC:20190109T150000
DTSTAMP:20260426T003050
CREATED:20181128T195735Z
LAST-MODIFIED:20181128T195735Z
UID:11785-1547042400-1547046000@communityactionpartnership.com
SUMMARY:CCAP- Executive Skills Portfolio (ESP)
DESCRIPTION:Submitting the Executive Skills Portfolio (ESP) is the second step in the process of becoming a Certified Community Action Professional (CCAP). The ESP is your chance to showcase your skills in doing the work of Community Action. It gives you a vehicle to show that you are a leader who understands Community Action’s vision and values. In this webinar you will get a comprehensive look at what is expected of candidates in this step toward CCAP. And you will gain insight into what the ESP evaluators address when they examine candidates’ ESP submissions. \nRegister
URL:https://communityactionpartnership.com/event/ccap-executive-skills-portfolio-esp/
CATEGORIES:Webinars
END:VEVENT
BEGIN:VEVENT
DTSTART;TZID=UTC:20190122T140000
DTEND;TZID=UTC:20190122T150000
DTSTAMP:20260426T003050
CREATED:20190111T173220Z
LAST-MODIFIED:20190111T173220Z
UID:45331-1548165600-1548169200@communityactionpartnership.com
SUMMARY:Training Webinar for Launch of National Community Action Impact Report
DESCRIPTION:The National Community Action Partnership will be releasing the Community Action National Impact report on Thursday\, January 24. Join this webinar to learn how you and your local agency\, or state association can be engaged at the local or state level in its release. The webinar will share content\, graphics\, and data from the report highlighting how these elements can be used in your local launch efforts. Additionally\, the webinar will demonstrate how you can incorporate your local data\, and success stories into your launch to increase local interest in the report. Thank you to Mutual of America for their support in the development of this report. \nRegister
URL:https://communityactionpartnership.com/event/training-webinar-for-launch-of-national-community-action-impact-report/
CATEGORIES:Webinars
END:VEVENT
BEGIN:VEVENT
DTSTART;TZID=America/New_York:20190123T140000
DTEND;TZID=America/New_York:20190123T150000
DTSTAMP:20260426T003050
CREATED:20181219T215740Z
LAST-MODIFIED:20181219T215740Z
UID:43553-1548252000-1548255600@communityactionpartnership.com
SUMMARY:Rev. Dr. Martin Luther King\, Jr. Commemoration—Partnership National Webinar
DESCRIPTION:Rev. Dr. Martin Luther King\, Jr. Commemoration—Partnership National Webinar \nJanuary 23\, 2019 – 2pm ET \nJoin Partnership Board Chair\, Bryan Duncan and CEO\, Denise Harlow as they give tribute to MLK’s legacy and Community Action’s history. \nRegister
URL:https://communityactionpartnership.com/event/rev-dr-martin-luther-king-jr-commemoration-partnership-national-webinar/
CATEGORIES:Webinars
END:VEVENT
BEGIN:VEVENT
DTSTART;TZID=UTC:20190130T140000
DTEND;TZID=UTC:20190130T150000
DTSTAMP:20260426T003050
CREATED:20181128T200130Z
LAST-MODIFIED:20190108T200400Z
UID:11793-1548856800-1548860400@communityactionpartnership.com
SUMMARY:The 2018 Version of Money Smart for Adults: Building Financial Skills and Confidence through Knowledge and Practice
DESCRIPTION:The FDIC’s 2018 version of the instructor-led Money Smart for Adults curriculum was released in November 2018! This full replacement of the 2010 version provides instructors with practical knowledge\, skills-building opportunities\, and resources they can use to help participants manage their finances with confidence. The 14 new modules feature basic financial topics\, and include updated information\, and expanded content on topics such as mobile banking\, creative ways to save money\, and credit reports and scores. \nRegister
URL:https://communityactionpartnership.com/event/the-2018-version-of-money-smart-for-adults-building-financial-skills-and-confidence-through-knowledge-and-practice/
CATEGORIES:Webinars
END:VEVENT
END:VCALENDAR