BEGIN:VCALENDAR
VERSION:2.0
PRODID:-//National CAP - ECPv6.15.20//NONSGML v1.0//EN
CALSCALE:GREGORIAN
METHOD:PUBLISH
X-ORIGINAL-URL:https://communityactionpartnership.com
X-WR-CALDESC:Events for National CAP
REFRESH-INTERVAL;VALUE=DURATION:PT1H
X-Robots-Tag:noindex
X-PUBLISHED-TTL:PT1H
BEGIN:VTIMEZONE
TZID:UTC
BEGIN:STANDARD
TZOFFSETFROM:+0000
TZOFFSETTO:+0000
TZNAME:UTC
DTSTART:20190101T000000
END:STANDARD
END:VTIMEZONE
BEGIN:VEVENT
DTSTART;VALUE=DATE:20200421
DTEND;VALUE=DATE:20200424
DTSTAMP:20260425T125049
CREATED:20200312T194406Z
LAST-MODIFIED:20200403T201615Z
UID:60168-1587427200-1587686399@communityactionpartnership.com
SUMMARY:2020 National Head Start Conference
DESCRIPTION:As Head Start’s can’t-miss experience of the year and the largest national conference devoted to all things Head Start\, the 47th annual National Head Start Conference will bring everyone together for a week of sharing knowledge\, networking with peers\, and celebrating achievements. \nWhether you’re a Director\, Administrator\, Manager\, Teacher\, Policy Council Member\, Parent\, Community Partner\, Board Member\, or serve Early Head Start and Head Start in another role\, this conference is for you! \nClick here to learn more and register.
URL:https://communityactionpartnership.com/event/2020-national-head-start-conference/
CATEGORIES:National Partner Events
END:VEVENT
END:VCALENDAR