BEGIN:VCALENDAR
VERSION:2.0
PRODID:-//National CAP - ECPv6.15.20//NONSGML v1.0//EN
CALSCALE:GREGORIAN
METHOD:PUBLISH
X-WR-CALNAME:National CAP
X-ORIGINAL-URL:https://communityactionpartnership.com
X-WR-CALDESC:Events for National CAP
REFRESH-INTERVAL;VALUE=DURATION:PT1H
X-Robots-Tag:noindex
X-PUBLISHED-TTL:PT1H
BEGIN:VTIMEZONE
TZID:UTC
BEGIN:STANDARD
TZOFFSETFROM:+0000
TZOFFSETTO:+0000
TZNAME:UTC
DTSTART:20190101T000000
END:STANDARD
END:VTIMEZONE
BEGIN:VEVENT
DTSTART;TZID=UTC:20200414T140000
DTEND;TZID=UTC:20200414T153000
DTSTAMP:20260425T130921
CREATED:20200407T144456Z
LAST-MODIFIED:20200407T144456Z
UID:60969-1586872800-1586878200@communityactionpartnership.com
SUMMARY:Conversation with the Office of Community Services
DESCRIPTION:The National Community Action Foundation (NCAF) will host a live web conference session with Janelle George\, Acting Deputy Director of the Office of Community Services\, Maxine Maloney\, CSBG Program Operations Branch Chief in the Division of Community Assistance\, and David Barrie\, CSBG Financial Operations and Accountability Branch Chief in the Division of Community Assistance. The conversation will include coronavirus and CSBG. \nRegister
URL:https://communityactionpartnership.com/event/conversation-with-the-office-of-community-services/
CATEGORIES:National Partner Events,Webinars
END:VEVENT
END:VCALENDAR