BEGIN:VCALENDAR
VERSION:2.0
PRODID:-//National CAP - ECPv6.15.20//NONSGML v1.0//EN
CALSCALE:GREGORIAN
METHOD:PUBLISH
X-ORIGINAL-URL:https://communityactionpartnership.com
X-WR-CALDESC:Events for National CAP
REFRESH-INTERVAL;VALUE=DURATION:PT1H
X-Robots-Tag:noindex
X-PUBLISHED-TTL:PT1H
BEGIN:VTIMEZONE
TZID:UTC
BEGIN:STANDARD
TZOFFSETFROM:+0000
TZOFFSETTO:+0000
TZNAME:UTC
DTSTART:20190101T000000
END:STANDARD
END:VTIMEZONE
BEGIN:VEVENT
DTSTART;TZID=UTC:20200407T130000
DTEND;TZID=UTC:20200407T143000
DTSTAMP:20260425T125046
CREATED:20200407T141501Z
LAST-MODIFIED:20200407T143945Z
UID:60962-1586264400-1586269800@communityactionpartnership.com
SUMMARY:CARES Act Loans and Tax Credits for Nonprofit Organizations
DESCRIPTION:The Coronavirus Aid\, Relief and Economic Security Act (the CARES Act)\, which was signed into law on March 27\, 2020\, offers various forms of aid to nonprofit Community Action Agencies (CAAs) and other members of the Community Action network whose operations have been impacted by the COVID-19 outbreak. The CARES Act makes partially-forgivable loans and grants from the Small Business Administration and the U.S. Treasury available to qualifying nonprofit organizations. The CARES Act also offers payroll tax credits for employers that keep paying their employees despite total or partial suspension of operations due to COVID-19\, and pushes back the deadline for certain 2020 payroll taxes altogether. \nJoin CAPLAW as they discuss the details of the new law and identify key considerations for nonprofit CAAs and network organizations seeking to take advantage of these benefits. \nRegister
URL:https://communityactionpartnership.com/event/cares-act-loans-and-tax-credits-for-nonprofit-organizations/
CATEGORIES:National Partner Events,Webinars
END:VEVENT
BEGIN:VEVENT
DTSTART;TZID=UTC:20200408T130000
DTEND;TZID=UTC:20200408T143000
DTSTAMP:20260425T125046
CREATED:20200407T142025Z
LAST-MODIFIED:20200407T143314Z
UID:60964-1586350800-1586356200@communityactionpartnership.com
SUMMARY:Conversation with the Office of Head Start
DESCRIPTION:NCAF will host a conversation with Dr. Deborah Bergeron\, Director of the Office of Head Start\, Ann Linehan\, Deputy Director of the Office of Head Start\, and Colleen Rathgeb\, Director of Policy at Office of Head Start. The discussion will include coronavirus and the Head Start program \nRegister
URL:https://communityactionpartnership.com/event/conversation-with-the-office-of-head-start/
CATEGORIES:National Partner Events,Webinars
END:VEVENT
BEGIN:VEVENT
DTSTART;TZID=UTC:20200408T150000
DTEND;TZID=UTC:20200408T160000
DTSTAMP:20260425T125046
CREATED:20200407T143529Z
LAST-MODIFIED:20200407T143529Z
UID:60966-1586358000-1586361600@communityactionpartnership.com
SUMMARY:Joint State Office & State Association Call: The CARES Act & COVID Relief
DESCRIPTION:Join NASCSP\, the National Community Action Partnership\, and CAPLAW for a joint discussion with state CSBG offices and state associations about the CARES Act and COVID-19 relief efforts. \nRegister
URL:https://communityactionpartnership.com/event/joint-state-office-state-association-call-the-cares-act-covid-relief/
CATEGORIES:National Partner Events,Webinars
END:VEVENT
END:VCALENDAR