BEGIN:VCALENDAR
VERSION:2.0
PRODID:-//National CAP - ECPv6.15.20//NONSGML v1.0//EN
CALSCALE:GREGORIAN
METHOD:PUBLISH
X-WR-CALNAME:National CAP
X-ORIGINAL-URL:https://communityactionpartnership.com
X-WR-CALDESC:Events for National CAP
REFRESH-INTERVAL;VALUE=DURATION:PT1H
X-Robots-Tag:noindex
X-PUBLISHED-TTL:PT1H
BEGIN:VTIMEZONE
TZID:UTC
BEGIN:STANDARD
TZOFFSETFROM:+0000
TZOFFSETTO:+0000
TZNAME:UTC
DTSTART:20160101T000000
END:STANDARD
END:VTIMEZONE
BEGIN:VTIMEZONE
TZID:America/New_York
BEGIN:DAYLIGHT
TZOFFSETFROM:-0500
TZOFFSETTO:-0400
TZNAME:EDT
DTSTART:20210314T070000
END:DAYLIGHT
BEGIN:STANDARD
TZOFFSETFROM:-0400
TZOFFSETTO:-0500
TZNAME:EST
DTSTART:20211107T060000
END:STANDARD
BEGIN:DAYLIGHT
TZOFFSETFROM:-0500
TZOFFSETTO:-0400
TZNAME:EDT
DTSTART:20220313T070000
END:DAYLIGHT
BEGIN:STANDARD
TZOFFSETFROM:-0400
TZOFFSETTO:-0500
TZNAME:EST
DTSTART:20221106T060000
END:STANDARD
BEGIN:DAYLIGHT
TZOFFSETFROM:-0500
TZOFFSETTO:-0400
TZNAME:EDT
DTSTART:20230312T070000
END:DAYLIGHT
BEGIN:STANDARD
TZOFFSETFROM:-0400
TZOFFSETTO:-0500
TZNAME:EST
DTSTART:20231105T060000
END:STANDARD
BEGIN:DAYLIGHT
TZOFFSETFROM:-0500
TZOFFSETTO:-0400
TZNAME:EDT
DTSTART:20240310T070000
END:DAYLIGHT
BEGIN:STANDARD
TZOFFSETFROM:-0400
TZOFFSETTO:-0500
TZNAME:EST
DTSTART:20241103T060000
END:STANDARD
END:VTIMEZONE
BEGIN:VEVENT
DTSTART;VALUE=DATE:20230606
DTEND;VALUE=DATE:20230609
DTSTAMP:20260420T205954
CREATED:20230310T201449Z
LAST-MODIFIED:20230310T201520Z
UID:79548-1686009600-1686268799@communityactionpartnership.com
SUMMARY:Whole Family Approach Institute
DESCRIPTION:Save the date for NCAP’s Whole Family Approach Institute\, taking place June 6–8\, 2023\, in the Washington\, DC metro area.
URL:https://communityactionpartnership.com/event/wfa-institute/
CATEGORIES:CAP Events
ATTACH;FMTTYPE=image/png:https://communityactionpartnership.com/wp-content/uploads/2023/03/WFA-Institute.png
END:VEVENT
BEGIN:VEVENT
DTSTART;TZID=UTC:20230428T130000
DTEND;TZID=UTC:20230428T163000
DTSTAMP:20260420T205954
CREATED:20230330T203014Z
LAST-MODIFIED:20230330T204735Z
UID:79654-1682686800-1682699400@communityactionpartnership.com
SUMMARY:Pathways to Excellence Implementer Training
DESCRIPTION:Your agency is ready to move forward in the pursuit of excellence. Set the stage by sending key staff to the April 28\, online\, Pathways to Excellence Implementer Training. Engaged participants will gain a deeper understanding to recognizing and documenting agency progress towards the 35 Community Action Standards of Excellence. Attendees completing the training will earn a digital\, proof of completion badge from NCAP\, documenting hours of training and the topics covered. Your agency does not have to be enrolled in Pathways to register participants for Implementer Training. Agencies currently enrolled in the Silver Tier of Pathways to Excellence may send one staff member to the training at no cost. Enrollments for all other individuals\, regardless of your organization’s participation in the Pathways program\, are available for just $399. We recommend early registration as space is limited. To register\, sign-in to NCAP’s MemberSuite portal. You will find Pathways to Excellence Implementer Training listed in the Events section.  Questions? Let us know how we can help at Excellence@CommunityActionPartnership.com.
URL:https://communityactionpartnership.com/event/pathways-to-excellence-implementer-training/
CATEGORIES:CAP Events
END:VEVENT
BEGIN:VEVENT
DTSTART;TZID=UTC:20230222T140000
DTEND;TZID=UTC:20230222T150000
DTSTAMP:20260420T205954
CREATED:20221129T194141Z
LAST-MODIFIED:20230221T161451Z
UID:78530-1677074400-1677078000@communityactionpartnership.com
SUMMARY:Community Action 101
DESCRIPTION:TIME: 2 PM ET | 1 PM CT | 12 PM MT | 11 AM PT \nFor more than 50 years\, Community Action has served as a dynamic and community-based force in addressing the causes and conditions of poverty throughout the USA. Join the Partnership’s CEO\, Denise Harlow\, as she grounds us in the history\, model\, and Promise of Community Action\, and discusses current opportunities for the Community Action network. \nClick here to register.
URL:https://communityactionpartnership.com/event/community-action-101/
CATEGORIES:CAP Events,Webinars
END:VEVENT
BEGIN:VEVENT
DTSTART;VALUE=DATE:20230208
DTEND;VALUE=DATE:20230211
DTSTAMP:20260420T205954
CREATED:20230103T155541Z
LAST-MODIFIED:20230103T155541Z
UID:79182-1675814400-1676073599@communityactionpartnership.com
SUMMARY:2023 Management & Leadership Training Conference
DESCRIPTION:NCAP’s 2023 Management & Leadership Training Conference will take place February 8-10 in beautiful New Orleans\, LA! Our theme this year is Reimagining The Future: Advancing Equity and Sustaining Innovation. \nABOUT THE EVENT \nThe Management and Leadership Training Conference (MLTC) is targeted to board and staff leaders at Community Action Agencies. The MLTC will feature intensive training\, structured discussions\, and networking opportunities. Whether you’ve been leading and managing for years\, or you’re looking forward to that promotion into management\, you’ll become your best with our Management and Leadership Training Conference. \nClick here to register and learn more.
URL:https://communityactionpartnership.com/event/2023-management-leadership-training-conference/
CATEGORIES:CAP Events,National Conventions
END:VEVENT
BEGIN:VEVENT
DTSTART;TZID=UTC:20230125T140000
DTEND;TZID=UTC:20230125T150000
DTSTAMP:20260420T205954
CREATED:20221218T180602Z
LAST-MODIFIED:20221221T165056Z
UID:79106-1674655200-1674658800@communityactionpartnership.com
SUMMARY:Getting to Know the National Community Action Partnership Data Hub
DESCRIPTION:Join us for a walkthrough of the Community Action Partnership Data Hub. The webinar will provide a step-by-step tutorial of the Community Needs Assessment tool\, including how to build reports for sub-county and multi-county agencies. Participants will also learn how to make\, save\, and share single-layer maps about their communities. The webinar will conclude with a showcase of new and updated data from sources such as the American Community Survey (2017-2021)\, Federal Communications Commission (FCC/broadband)\, and the Center for Neighborhood Technology (Housing + Transportation Affordability Index). New to the CAP Data Hub? Request membership to the Hub before the webinar by emailing: jhwdfx@missouri.edu \nClick here to register.
URL:https://communityactionpartnership.com/event/getting-to-know-the-national-community-action-partnership-data-hub/
CATEGORIES:CAP Events,Webinars
END:VEVENT
BEGIN:VEVENT
DTSTART;TZID=America/New_York:20230118T140000
DTEND;TZID=America/New_York:20230118T150000
DTSTAMP:20260420T205954
CREATED:20221207T154842Z
LAST-MODIFIED:20221221T165045Z
UID:78753-1674050400-1674054000@communityactionpartnership.com
SUMMARY:2023 Annual Rev. Dr. Martin Luther King\, Jr. Commemoration Webinar
DESCRIPTION:Join us as we remember the legacy of Rev. Dr. Martin Luther King\, Jr. with keynote speaker Maria Elena De La Garza\, Executive Director of Community Action Board of Santa Cruz County. Under her leadership\, Community Action Board is doing incredible work in the community and beyond. \nClick here to register for the webinar.
URL:https://communityactionpartnership.com/event/2023-annual-rev-dr-martin-luther-king-jr-commemoration-webinar/
CATEGORIES:CAP Events,Webinars
END:VEVENT
BEGIN:VEVENT
DTSTART;TZID=UTC:20230117T133000
DTEND;TZID=UTC:20230117T163000
DTSTAMP:20260420T205954
CREATED:20221202T220803Z
LAST-MODIFIED:20221202T220803Z
UID:78588-1673962200-1673973000@communityactionpartnership.com
SUMMARY:Virtual Racial Healing Circle
DESCRIPTION:Join NCAP in celebration of the 2023 Day of Racial Healing and participate in a Virtual Racial Healing Circle on Tuesday\, January 17th! Racial Healing Circles are designed to focus on the sharing of stories that affirm our common humanity. \nSign up at this link.
URL:https://communityactionpartnership.com/event/virtual-racial-healing-circle/
CATEGORIES:CAP Events,Webinars
END:VEVENT
BEGIN:VEVENT
DTSTART;TZID=America/New_York:20230112T150000
DTEND;TZID=America/New_York:20230112T160000
DTSTAMP:20260420T205954
CREATED:20221014T155106Z
LAST-MODIFIED:20221014T155106Z
UID:77115-1673535600-1673539200@communityactionpartnership.com
SUMMARY:Quarterly Public CAA Convening
DESCRIPTION:Want to connect with fellow public Community Action Agency staff from around the county? In this session NCAP will bring together public Community Action Agencies for programmatic updates\, peer learning\, and resource sharing. Gather with colleagues from across the nation to learn\, discuss\, and share!This session will focus on Organizational Standards. Come prepared with your questions\, ideas\, and insights!*** NOTE: This session is specifically for public Community Action Agencies (i.e. Community Action Agencies within a local government entity\, in contrast to a nonprofit or private CAA). \nClick here to register.
URL:https://communityactionpartnership.com/event/quarterly-public-caa-convening/
CATEGORIES:CAP Events,Webinars
END:VEVENT
BEGIN:VEVENT
DTSTART;TZID=UTC:20230111T140000
DTEND;TZID=UTC:20230111T150000
DTSTAMP:20260420T205954
CREATED:20221209T141807Z
LAST-MODIFIED:20221221T165105Z
UID:78760-1673445600-1673449200@communityactionpartnership.com
SUMMARY:Project Management as an Excellence Practice
DESCRIPTION:Wednesday\, January 11 | 2pm ET | 1pm CT | 12pm MT | 11am PT \nCommunity Action Agencies manage projects that are critical to their mission every day\, whether it be rewriting an HR manual\, opening a new community center\, or overseeing a database migration. Do you ever find yourself in the middle of the project\, thinking “we could have done this better… I can’t believe we are this far in the project and someone still doesn’t understand what we’re trying to do!” Formal project management exists as a field for precisely this reason: there are proven practices that lead to more effective completion of projects. During this session we will review project management fundamentals\, practices\, and tools that your organization can use to maximize efficiency and effectiveness in your project management processes. \nClick here to register.
URL:https://communityactionpartnership.com/event/project-management-as-an-excellence-practice/
CATEGORIES:CAP Events,Webinars
END:VEVENT
BEGIN:VEVENT
DTSTART;TZID=UTC:20230110T160000
DTEND;TZID=UTC:20230110T170000
DTSTAMP:20260420T205954
CREATED:20221209T200739Z
LAST-MODIFIED:20221221T165112Z
UID:78788-1673366400-1673370000@communityactionpartnership.com
SUMMARY:NCAP Strategic Plan — Overview & Listening Session
DESCRIPTION:You spoke\, we listened. Thank you to all who provided feedback for the development of NCAP’s updated strategic plan through surveys\, focus groups\, and listening sessions. Join us during for one of the below webinars for the unveiling of NCAP’s strategic plan. Don’t miss this opportunity for a first look at the NCAP’s roadmap over the next 3-5 years. \nClick here to join the session.
URL:https://communityactionpartnership.com/event/ncap-strategic-plan-overview-listening-session/
CATEGORIES:CAP Events,Webinars
END:VEVENT
BEGIN:VEVENT
DTSTART;TZID=UTC:20230105T160000
DTEND;TZID=UTC:20230105T170000
DTSTAMP:20260420T205954
CREATED:20221209T210219Z
LAST-MODIFIED:20221221T165121Z
UID:78799-1672934400-1672938000@communityactionpartnership.com
SUMMARY:NCAP Strategic Plan — Overview & Listening Session
DESCRIPTION:You spoke\, we listened. Thank you to all who provided feedback for the development of NCAP’s updated strategic plan through surveys\, focus groups\, and listening sessions. Join us during for one of the below webinars for the unveiling of NCAP’s strategic plan. Don’t miss this opportunity for a first look at the NCAP’s roadmap over the next 3-5 years. \nClick here to join the session.
URL:https://communityactionpartnership.com/event/ncap-strategic-plan-overview-listening-session-2/
CATEGORIES:CAP Events,Webinars
END:VEVENT
BEGIN:VEVENT
DTSTART;TZID=America/New_York:20221102T140000
DTEND;TZID=America/New_York:20221102T150000
DTSTAMP:20260420T205954
CREATED:20221014T131829Z
LAST-MODIFIED:20221014T131829Z
UID:77105-1667397600-1667401200@communityactionpartnership.com
SUMMARY:Using 2022 Performance to Inform 2023 Goals: Moving Towards Excellence
DESCRIPTION:With 2023 just around the corner\, now is the perfect time to evaluate your organization’s progress to inform agency goals and priorities for the new year. Partnership staff will review dynamic tools and processes you can use to reflect on organizational performance in 2022 to inform action in 2023\, including through the Community Action Standards of Excellence and organizational assessment tools available to the Community Action network. Join this webinar to learn more about these great tools and resources\, and the 2023 Pathways to Excellence cohort opportunities you can use to move your agency practices towards excellence. \nClick here to register.
URL:https://communityactionpartnership.com/event/using-2022-performance-to-inform-2023-goals-moving-towards-excellence/
CATEGORIES:CAP Events,Webinars
END:VEVENT
BEGIN:VEVENT
DTSTART;VALUE=DATE:20211025
DTEND;VALUE=DATE:20211030
DTSTAMP:20260420T205954
CREATED:20210917T205041Z
LAST-MODIFIED:20210917T205144Z
UID:70062-1635120000-1635551999@communityactionpartnership.com
SUMMARY:2021 Executive Directors / Board Chair Institute
DESCRIPTION:These two and a half day trainings are designed to help new executive directors or new executive directors and their chair’s to achieve a deeper understanding of their role\, the work of Community Action\, and current operating environment of the Community Action Network. \n\nExecutive Director’s Institute: Oct. 25-27\nBoard Chair Institute: Oct. 27-29
URL:https://communityactionpartnership.com/event/2021-executive-directors-board-chair-institute/
CATEGORIES:CAP Events
END:VEVENT
BEGIN:VEVENT
DTSTART;VALUE=DATE:20210501
DTEND;VALUE=DATE:20210601
DTSTAMP:20260420T205954
CREATED:20210406T230518Z
LAST-MODIFIED:20210406T230518Z
UID:68413-1619827200-1622505599@communityactionpartnership.com
SUMMARY:Community Action Month
DESCRIPTION:Celebrate the Community Action legacy and continued success in helping people\, changing lives.
URL:https://communityactionpartnership.com/event/community-action-month/
CATEGORIES:CAP Events
END:VEVENT
BEGIN:VEVENT
DTSTART;VALUE=DATE:20210419
DTEND;VALUE=DATE:20210422
DTSTAMP:20260420T205954
CREATED:20210407T125948Z
LAST-MODIFIED:20210407T125948Z
UID:68415-1618790400-1619049599@communityactionpartnership.com
SUMMARY:National Community Action Equity Summit
DESCRIPTION:The National Community Action Partnership will be hosting its first ever Equity Summit April 19-21\, 2021. Our theme for this virtual event is “Centering in Truth\, Activating Community Healing & Resiliency”. We deeply believe that “othering”\, particularly racism rests at the nucleus of poverty in America and that equitable opportunities can only be built and sustained by centering ourselves in this truth. To that end\, the Equity Summit will showcase voices and expressions that activate healing and resiliency in local communities. We would be delighted to have you join us! \nClick here to register. To learn more\, click here.
URL:https://communityactionpartnership.com/event/national-community-action-equity-summit/
CATEGORIES:CAP Events
END:VEVENT
BEGIN:VEVENT
DTSTART;VALUE=DATE:20200108
DTEND;VALUE=DATE:20200111
DTSTAMP:20260420T205954
CREATED:20191018T150420Z
LAST-MODIFIED:20191018T151531Z
UID:55205-1578441600-1578700799@communityactionpartnership.com
SUMMARY:Management and Leadership Training Conference 2020
DESCRIPTION:Click here for more information.
URL:https://communityactionpartnership.com/event/management-and-leadership-training-conference-2020/
CATEGORIES:CAP Events
END:VEVENT
BEGIN:VEVENT
DTSTART;TZID=UTC:20180105T080000
DTEND;TZID=UTC:20180105T170000
DTSTAMP:20260420T205954
CREATED:20171207T182743Z
LAST-MODIFIED:20171207T194425Z
UID:1610-1515139200-1515171600@communityactionpartnership.com
SUMMARY:Event 03
DESCRIPTION:
URL:https://communityactionpartnership.com/event/event-03/
LOCATION:IES Meeting\, 5401 Business Park South Ste. 108\, Bakersfield\, CA\, 93309\, United States
CATEGORIES:CAP Events,National Partner Events
ATTACH;FMTTYPE=image/jpeg:https://communityactionpartnership.com/wp-content/uploads/2017/10/iStock_81812617_LARGE.jpg
GEO:35.3582107;-119.0595103
X-APPLE-STRUCTURED-LOCATION;VALUE=URI;X-ADDRESS=IES Meeting 5401 Business Park South Ste. 108 Bakersfield CA 93309 United States;X-APPLE-RADIUS=500;X-TITLE=5401 Business Park South Ste. 108:geo:-119.0595103,35.3582107
END:VEVENT
BEGIN:VEVENT
DTSTART;TZID=UTC:20180101T080000
DTEND;TZID=UTC:20180101T170000
DTSTAMP:20260420T205954
CREATED:20171207T181809Z
LAST-MODIFIED:20171207T194418Z
UID:1600-1514793600-1514826000@communityactionpartnership.com
SUMMARY:Event 02
DESCRIPTION:
URL:https://communityactionpartnership.com/event/event-02/
LOCATION:IES Meeting\, 5401 Business Park South Ste. 108\, Bakersfield\, CA\, 93309\, United States
CATEGORIES:CAP Events,National Partner Events
ATTACH;FMTTYPE=image/jpeg:https://communityactionpartnership.com/wp-content/uploads/2017/11/iStock-611192994.jpg
ORGANIZER;CN="Cyberschool Inc":MAILTO:mattaran@iescentral.com
GEO:35.3582107;-119.0595103
X-APPLE-STRUCTURED-LOCATION;VALUE=URI;X-ADDRESS=IES Meeting 5401 Business Park South Ste. 108 Bakersfield CA 93309 United States;X-APPLE-RADIUS=500;X-TITLE=5401 Business Park South Ste. 108:geo:-119.0595103,35.3582107
END:VEVENT
BEGIN:VEVENT
DTSTART;TZID=UTC:20171231T080000
DTEND;TZID=UTC:20171231T170000
DTSTAMP:20260420T205954
CREATED:20171130T001655Z
LAST-MODIFIED:20171207T194443Z
UID:1348-1514707200-1514739600@communityactionpartnership.com
SUMMARY:Event 01
DESCRIPTION:
URL:https://communityactionpartnership.com/event/event-01/
LOCATION:IES Meeting\, 5401 Business Park South Ste. 108\, Bakersfield\, CA\, 93309\, United States
CATEGORIES:CAP Events,National Partner Events
ATTACH;FMTTYPE=image/jpeg:https://communityactionpartnership.com/wp-content/uploads/2017/11/iStock_000008467293_Medium.jpg
GEO:35.3582107;-119.0595103
X-APPLE-STRUCTURED-LOCATION;VALUE=URI;X-ADDRESS=IES Meeting 5401 Business Park South Ste. 108 Bakersfield CA 93309 United States;X-APPLE-RADIUS=500;X-TITLE=5401 Business Park South Ste. 108:geo:-119.0595103,35.3582107
END:VEVENT
END:VCALENDAR