BEGIN:VCALENDAR
VERSION:2.0
PRODID:-//National CAP - ECPv6.15.20//NONSGML v1.0//EN
CALSCALE:GREGORIAN
METHOD:PUBLISH
X-ORIGINAL-URL:https://communityactionpartnership.com
X-WR-CALDESC:Events for National CAP
REFRESH-INTERVAL;VALUE=DURATION:PT1H
X-Robots-Tag:noindex
X-PUBLISHED-TTL:PT1H
BEGIN:VTIMEZONE
TZID:UTC
BEGIN:STANDARD
TZOFFSETFROM:+0000
TZOFFSETTO:+0000
TZNAME:UTC
DTSTART:20230101T000000
END:STANDARD
END:VTIMEZONE
BEGIN:VEVENT
DTSTART;TZID=UTC:20240717T140000
DTEND;TZID=UTC:20240717T150000
DTSTAMP:20260421T053927
CREATED:20240106T123055Z
LAST-MODIFIED:20240106T123055Z
UID:83172-1721224800-1721228400@communityactionpartnership.com
SUMMARY:Managing Special Event Risks: Lay the Foundation for Safety
DESCRIPTION:A nonprofit event can provide lots of magical things: delicious food and drink\, your community’s favorite traditions (or new traditions)\, and great company. Events also bring many potential safety risks. Learn how to mitigate those and have a great event. \nClick here to register.
URL:https://communityactionpartnership.com/event/managing-special-event-risks-lay-the-foundation-for-safety/
CATEGORIES:Affiliate Events
END:VEVENT
END:VCALENDAR