BEGIN:VCALENDAR
VERSION:2.0
PRODID:-//National CAP - ECPv6.15.20//NONSGML v1.0//EN
CALSCALE:GREGORIAN
METHOD:PUBLISH
X-WR-CALNAME:National CAP
X-ORIGINAL-URL:https://communityactionpartnership.com
X-WR-CALDESC:Events for National CAP
REFRESH-INTERVAL;VALUE=DURATION:PT1H
X-Robots-Tag:noindex
X-PUBLISHED-TTL:PT1H
BEGIN:VTIMEZONE
TZID:UTC
BEGIN:STANDARD
TZOFFSETFROM:+0000
TZOFFSETTO:+0000
TZNAME:UTC
DTSTART:20230101T000000
END:STANDARD
END:VTIMEZONE
BEGIN:VEVENT
DTSTART;TZID=UTC:20241113T140000
DTEND;TZID=UTC:20241113T150000
DTSTAMP:20260420T083554
CREATED:20240106T123320Z
LAST-MODIFIED:20240106T123320Z
UID:83176-1731506400-1731510000@communityactionpartnership.com
SUMMARY:Insurance Myths and Facts for Nonprofits
DESCRIPTION:Everything you know about insurance might be wrong. Join NRMC for an engaging session that will dispel myths about nonprofit insurance\, break down the facts\, and give you a better understanding of how to approach insurance at your nonprofit. \nClick here to register.
URL:https://communityactionpartnership.com/event/insurance-myths-and-facts-for-nonprofits/
CATEGORIES:Affiliate Events
END:VEVENT
END:VCALENDAR