BEGIN:VCALENDAR
VERSION:2.0
PRODID:-//National CAP - ECPv6.15.20//NONSGML v1.0//EN
CALSCALE:GREGORIAN
METHOD:PUBLISH
X-WR-CALNAME:National CAP
X-ORIGINAL-URL:https://communityactionpartnership.com
X-WR-CALDESC:Events for National CAP
REFRESH-INTERVAL;VALUE=DURATION:PT1H
X-Robots-Tag:noindex
X-PUBLISHED-TTL:PT1H
BEGIN:VTIMEZONE
TZID:UTC
BEGIN:STANDARD
TZOFFSETFROM:+0000
TZOFFSETTO:+0000
TZNAME:UTC
DTSTART:20230101T000000
END:STANDARD
END:VTIMEZONE
BEGIN:VEVENT
DTSTART;TZID=UTC:20240124T140000
DTEND;TZID=UTC:20240124T150000
DTSTAMP:20260421T122217
CREATED:20240106T122730Z
LAST-MODIFIED:20240106T122730Z
UID:83166-1706104800-1706108400@communityactionpartnership.com
SUMMARY:Navigating Change Management Risk
DESCRIPTION:Change fatigue presents major risks to the mission of every nonprofit as the pace of change continues to increase. But a few best practices can help nonprofit teams navigate change and continue to improve their service to the community. \nClick here to register.
URL:https://communityactionpartnership.com/event/navigating-change-management-risk/
CATEGORIES:Affiliate Events
END:VEVENT
END:VCALENDAR