BEGIN:VCALENDAR
VERSION:2.0
PRODID:-//National CAP - ECPv6.15.20//NONSGML v1.0//EN
CALSCALE:GREGORIAN
METHOD:PUBLISH
X-WR-CALNAME:National CAP
X-ORIGINAL-URL:https://communityactionpartnership.com
X-WR-CALDESC:Events for National CAP
REFRESH-INTERVAL;VALUE=DURATION:PT1H
X-Robots-Tag:noindex
X-PUBLISHED-TTL:PT1H
BEGIN:VTIMEZONE
TZID:UTC
BEGIN:STANDARD
TZOFFSETFROM:+0000
TZOFFSETTO:+0000
TZNAME:UTC
DTSTART:20220101T000000
END:STANDARD
END:VTIMEZONE
BEGIN:VEVENT
DTSTART;TZID=UTC:20230510T140000
DTEND;TZID=UTC:20230510T150000
DTSTAMP:20260420T114328
CREATED:20230421T160141Z
LAST-MODIFIED:20230421T160141Z
UID:79750-1683727200-1683730800@communityactionpartnership.com
SUMMARY:Amplifying Community Action Innovation
DESCRIPTION:For nearly 60 years\, local Community Action Agencies have curated and integrated high-impact\, innovative strategies to strengthen foundations of families and communities nationwide. In 2021\, the National Community Action Partnership launched the Community Action Showcase to highlight examples of high-impact\, innovative Community Action strategies and facilitate sharing of best practices throughout the network. \nJoin Jennifer Smith\, VP for Program Operations at KCEOC Community Action Partnership\, Thelma French\, President/CEO of Total Community Action\, and Clarissa Thompson\, Executive Director of Mid-Iowa Community Action\, Inc. for a discussion exploring examples of these best practices used throughout the Community Action Network. This webinar is an opportunity for CAAs to hear about successful highlights and unexpected challenges while exploring the tools and resources used in the implementation of their initiatives. \nClick here to register for the webinar.
URL:https://communityactionpartnership.com/event/amplifying-community-action-innovation/
CATEGORIES:Webinars
END:VEVENT
END:VCALENDAR