BEGIN:VCALENDAR
VERSION:2.0
PRODID:-//National CAP - ECPv6.15.20//NONSGML v1.0//EN
CALSCALE:GREGORIAN
METHOD:PUBLISH
X-ORIGINAL-URL:https://communityactionpartnership.com
X-WR-CALDESC:Events for National CAP
REFRESH-INTERVAL;VALUE=DURATION:PT1H
X-Robots-Tag:noindex
X-PUBLISHED-TTL:PT1H
BEGIN:VTIMEZONE
TZID:UTC
BEGIN:STANDARD
TZOFFSETFROM:+0000
TZOFFSETTO:+0000
TZNAME:UTC
DTSTART:20210101T000000
END:STANDARD
END:VTIMEZONE
BEGIN:VEVENT
DTSTART;TZID=UTC:20220913T140000
DTEND;TZID=UTC:20220913T150000
DTSTAMP:20260421T122747
CREATED:20220909T144516Z
LAST-MODIFIED:20220909T144516Z
UID:76767-1663077600-1663081200@communityactionpartnership.com
SUMMARY:Expanding Diversion: Using Problem-Solving to Reduce Homelessness
DESCRIPTION:TUESDAY\, SEPTEMBER 13\, AT 2 PM ET | 1 PM CT | 12 PM MT | 11 AM PT \nShelter diversion and problem-solving interventions play a critical role in reducing homelessness. Shelter diversion helps people experiencing a housing crisis to identify safe and appropriate alternatives to entering shelter or unsheltered homelessness. This intervention plays a critical role in reducing homelessness by lessening shelter demand\, allowing scarce shelter resources to be preserved for those without safe alternatives. Problem-solving can also be used to help people exit homelessness or to preserve their housing\, helping them avoid further housing instability and the trauma of homelessness. This webinar will dive deep into problem-solving and how it can be used for shelter diversion\, assist people already experiencing homelessness\, or those facing housing loss. Prior to joining the webinar\, participants are encouraged to watch a recording of Targeting Homelessness Prevention to Those at Greatest Risk of Homelessness: Diversion Practice as this discussion will build on many of the tenets discussed there. \nClick here to register.
URL:https://communityactionpartnership.com/event/expanding-diversion-using-problem-solving-to-reduce-homelessness/
CATEGORIES:Webinars
END:VEVENT
END:VCALENDAR