BEGIN:VCALENDAR
VERSION:2.0
PRODID:-//National CAP - ECPv6.15.20//NONSGML v1.0//EN
CALSCALE:GREGORIAN
METHOD:PUBLISH
X-WR-CALNAME:National CAP
X-ORIGINAL-URL:https://communityactionpartnership.com
X-WR-CALDESC:Events for National CAP
REFRESH-INTERVAL;VALUE=DURATION:PT1H
X-Robots-Tag:noindex
X-PUBLISHED-TTL:PT1H
BEGIN:VTIMEZONE
TZID:UTC
BEGIN:STANDARD
TZOFFSETFROM:+0000
TZOFFSETTO:+0000
TZNAME:UTC
DTSTART:20210101T000000
END:STANDARD
END:VTIMEZONE
BEGIN:VEVENT
DTSTART;TZID=UTC:20220810T123000
DTEND;TZID=UTC:20220810T133000
DTSTAMP:20260421T121943
CREATED:20220810T000137Z
LAST-MODIFIED:20220810T000137Z
UID:76126-1660134600-1660138200@communityactionpartnership.com
SUMMARY:Can I Use CSBG CARES Funds for Gift Cards?
DESCRIPTION:Attend this national webinar to learn the dos and don’ts of helping individuals and families recover from the pandemic by providing gift cards. NCAP\, NASCSP\, and CAPLAW staff will offer insights on how the program can be done properly and a local Community Action Agency will share how they have established a successful process for distributing gift cards throughout the pandemic. \nClick here to register.
URL:https://communityactionpartnership.com/event/can-i-use-csbg-cares-funds-for-gift-cards/
CATEGORIES:Webinars
END:VEVENT
BEGIN:VEVENT
DTSTART;TZID=UTC:20220810T140000
DTEND;TZID=UTC:20220810T150000
DTSTAMP:20260421T121943
CREATED:20220715T141810Z
LAST-MODIFIED:20220715T141810Z
UID:76023-1660140000-1660143600@communityactionpartnership.com
SUMMARY:Weatherization Workforce Development Spotlight: Using the Green Buildings Career Map to Attract Ambitious Candidates
DESCRIPTION:TIME: 2 PM ET | 1 PM CT | 12 PM MT | 11 AM PT \nThe Interstate Renewable Energy Council’s free Green Buildings Career Map is an interactive web-based tool that illustrates how today’s green jobs boom can create long-term career growth for workers entering this exciting field. The Map shows 55 different jobs in the green buildings and energy efficiency industry. The section on Residential & Multifamily Construction & Retrofitting includes Weatherization-related positions such as energy auditors\, quality control inspectors\, technicians and installers. Colorful graphics and photographs show users how an entry-level installer with a high school education can progress over time to become a commercial building maintenance worker or building performance diagnostician. Presenters will demonstrate how to navigate the Career Map and put it to use in your recruitment & retention efforts. \nClick here to register.
URL:https://communityactionpartnership.com/event/weatherization-workforce-development-spotlight-using-the-green-buildings-career-map-to-attract-ambitious-candidates/
CATEGORIES:Webinars
END:VEVENT
END:VCALENDAR