BEGIN:VCALENDAR
VERSION:2.0
PRODID:-//National CAP - ECPv6.15.20//NONSGML v1.0//EN
CALSCALE:GREGORIAN
METHOD:PUBLISH
X-WR-CALNAME:National CAP
X-ORIGINAL-URL:https://communityactionpartnership.com
X-WR-CALDESC:Events for National CAP
REFRESH-INTERVAL;VALUE=DURATION:PT1H
X-Robots-Tag:noindex
X-PUBLISHED-TTL:PT1H
BEGIN:VTIMEZONE
TZID:UTC
BEGIN:STANDARD
TZOFFSETFROM:+0000
TZOFFSETTO:+0000
TZNAME:UTC
DTSTART:20210101T000000
END:STANDARD
END:VTIMEZONE
BEGIN:VEVENT
DTSTART;TZID=UTC:20220712T130000
DTEND;TZID=UTC:20220712T140000
DTSTAMP:20260421T161604
CREATED:20220624T164223Z
LAST-MODIFIED:20220624T164223Z
UID:75930-1657630800-1657634400@communityactionpartnership.com
SUMMARY:Building Your Data Muscles
DESCRIPTION:TIME: 1 PM ET | 12 PM CT | 11 AM MT | 10 AM PT \nThe COVID -19 Pandemic and many CAAs responses demonstrated CAAs use of technology and just how critical data capacity is to our work\, while at the same time CARES Act funding provided a means of improving the use of technology to help with data collection and data management. In this webinar\, we will review conclusions presented in a paper\, “Data Informed Community Action Agencies\,” including critical elements to build your agency’s ability to use data and information. We’ll also present a second short paper outline competencies for Community Action Data Professionals. \nClick here to register.
URL:https://communityactionpartnership.com/event/building-your-data-muscles/
CATEGORIES:Webinars
END:VEVENT
END:VCALENDAR